Workbook
Name _ftn1: 'GTM-EU Proposals'!#REF!
Name _ftnref1: 'GTM-EU Proposals'!#REF!

Sheet GTM-EU Proposals
Q1: PA1_504_Annex 1/2026
A2: Belize, Costa Rica, Curaçao, El Salvador, Guatemala, Honduras, Nicaragua and Panama Proposal - PA1_MAY_27/i2026 | L2: EU Proposal - PA1_MAY_29/i2026
A3: Id | B3: CPC | C3: Category[1] | D3: Catch Limit (t) | L3: Id | M3: CPC | N3: Category | O3: Catch limits (t)
A4: 1 | B4: EU | C4: A | D4: 30298.9 | L4: 1 | M4: EU | N4: A | O4: 31526
A5: 2 | B5: Ghana | C5: A | D5: 25540.6 | L5: 2 | M5: Ghana | N5: A | O5: 21113
A6: 3 | B6: Brazil | C6: B | D6: 14072.6 | L6: 3 | M6: Brazil | N6: A | O6: 14076
A7: 4 | B7: Panama | C7: B | D7: 10613.8 | L7: 4 | M7: Belize | N7: A | O7: 7947
A8: 5 | B8: Senegal | C8: B | D8: 8534.3 | L8: 5 | M8: Senegal | N8: A | O8: 7522
A9: 6 | B9: Belize | C9: B | D9: 9143.8 | L9: 6 | M9: Panama | N9: A | O9: 6637
A10: 7 | B10: El Salvador | C10: C | D10: 7099.2 | L10: 7 | M10: El Salvador | N10: A | O10: 5406
A11: 8 | B11: Curaçao | C11: C | D11: 6612.3 | L11: 8 | M11: Curaçao | N11: A | O11: 5157
A12: 9 | B12: United States | C12: C | D12: 5084.5 | L12: 9 | M12: Japan | N12: A | O12: 3588
A13: * | B13: Small harvesters | C13: D | D13: 13000 | E13: Trigger | F13: 3500 | G13: t | L13: 10 | M13: Cabo Verde | N13: A | O13: 3450
L14: 11 | M14: USA | N14: A | O14: 3423
A15: [1] For the purpose of this Recommendation, the category does not reflect any CPC's economic development level. | L15: 12 | M15: Venezuela | N15: A | O15: 2759
L16: 13 | M16: Guatemala | N16: A | O16: 2550
A17: Para 10b | L17: 14 | M17: Côte d’Ivoire | N17: A | O17: 1770
A18: CPCs in Category D shall be subject to a 3,500 t trigger threshold. If the annual catches of yellowfin tuna by a CPC in Category D exceeds this threshold in two consecutive years from 2027, Panel 1 shall determine a binding catch limit to apply to that CPC in future years. | L18: * | M18: Small harvesters | N18: B | O18: 8076 | P18: Trigger | Q18: 1575 | R18: t
L20: Para 11b
L21: CPCs in Category B shall be subject to a 1,575 t trigger threshold. If the annual catches of yellowfin tuna by a CPC in Category B exceeds this threshold in two consecutive years from 2027, Panel 1 shall determine a binding catch limit to apply to that CPC in future years.

Sheet GTM-Best
B1: Belize, Costa Rica, Curaçao, El Salvador, Guatemala, Honduras, Nicaragua and Panama Proposal - PA1_MAY_27/i2026
B2: Secretariat's calculations on YFT catches for the last ten years / Calculs du Secrétariat concernant les captures d'albacore pour les dix dernières années / Cálculos de la Secretaría sobre las capturas de rabil para los últimos diez años
I3: Year*
A4: ID | B4: CPC | C4: GROUP | D4: CATCH LIMIT** | E4: 2015 | F4: 2016 | G4: 2017 | H4: 2018 | I4: 2019 | J4: 2020 | K4: 2021 | L4: 2022 | M4: 2023 | N4: 2024 | O4: BestY1 | P4: BestY2 | Q4: BestY3 | R4: BestY4 | S4: BestY5 | T4: BestY6 | U4: AvgBest6 | V4: AvgBest5 | W4: AvgBest4
A5: 1 | B5: EUROPEAN UNION | C5: =VLOOKUP(A5,'GTM-EU Proposals'!$A$3:$D$12,3,0) -> A | D5: =VLOOKUP(A5,'GTM-EU Proposals'!$A$3:$D$12,4,0) -> 30298.9 | E5: 43377.29 | F5: 47163.069 | G5: 39643.261 | H5: 37236.932 | I5: 34296.247 | J5: 37423.343 | K5: 24152.047 | L5: 30064.575 | M5: 26045.996 | N5: 31071.245 | O5: {=IFERROR(LARGE(E5:N5,{1,2,3,4,5,6}), "")} -> 47163.069 | P5: 43377.29 | Q5: 39643.261 | R5: 37423.343 | S5: 37236.932 | T5: 34296.247 | U5: =SUM(_xlfn.ANCHORARRAY(O5))/6 -> 39856.69 | V5: =SUM(O5:S5)/5 -> 40968.779 | W5: =SUM(O5:R5)/4 -> 41901.741
A6: 2 | B6: GHANA | C6: =VLOOKUP(A6,'GTM-EU Proposals'!$A$3:$D$12,3,0) -> A | D6: =VLOOKUP(A6,'GTM-EU Proposals'!$A$3:$D$12,4,0) -> 25540.6 | E6: 19659 | F6: 20217.6 | G6: 20398.4 | H6: 24346 | I6: 26242.5 | J6: 26435 | K6: 21263.5 | L6: 29550 | M6: 22159 | N6: 25452 | O6: {=IFERROR(LARGE(E6:N6,{1,2,3,4,5,6}), "")} -> 29550 | P6: 26435 | Q6: 26242.5 | R6: 25452 | S6: 24346 | T6: 22159 | U6: =SUM(_xlfn.ANCHORARRAY(O6))/6 -> 25697.417 | V6: =SUM(O6:S6)/5 -> 26405.1 | W6: =SUM(O6:R6)/4 -> 26919.875
A7: Subtotal Group A | E7: =SUM(E5:E6) -> 63036.29 | F7: =SUM(F5:F6) -> 67380.669 | G7: =SUM(G5:G6) -> 60041.661 | H7: =SUM(H5:H6) -> 61582.932 | I7: =SUM(I5:I6) -> 60538.747 | J7: =SUM(J5:J6) -> 63858.343 | K7: =SUM(K5:K6) -> 45415.547 | L7: =SUM(L5:L6) -> 59614.575 | ... W7: =SUM(W5:W6) -> 68821.616
A8: 3 | B8: BRAZIL | C8: =VLOOKUP(A8,'GTM-EU Proposals'!$A$3:$D$12,3,0) -> B | D8: =VLOOKUP(A8,'GTM-EU Proposals'!$A$3:$D$12,4,0) -> 14072.6 | E8: 13643.343 | F8: 16681.775 | G8: 18362.306 | H8: 16381.177 | I8: 12907.16 | J8: 13183.011 | K8: 13663.997 | L8: 15716 | M8: 18894 | N8: 17729.408 | O8: {=LARGE(E8:N8,{1,2,3,4,5,6})} -> 18894 | P8: 18362.306 | Q8: 17729.408 | R8: 16681.775 | S8: 16381.177 | T8: 15716 | U8: =SUM(_xlfn.ANCHORARRAY(O8))/6 -> 17294.111 | V8: =SUM(O8:S8)/5 -> 17609.733 | W8: =SUM(O8:R8)/4 -> 17916.873
A9: 4 | B9: PANAMA | C9: =VLOOKUP(A9,'GTM-EU Proposals'!$A$3:$D$12,3,0) -> B | D9: =VLOOKUP(A9,'GTM-EU Proposals'!$A$3:$D$12,4,0) -> 10613.8 | E9: 3412.358 | F9: 6167.964 | G9: 5090.282 | H9: 6175.181 | I9: 8244.871 | J9: 10376.424 | K9: 9712.158 | L9: 12013.145 | M9: 8568.4163 | N9: 1421.63 | O9: {=IFERROR(LARGE(E9:N9,{1,2,3,4,5,6}), "")} -> 12013.145 | P9: 10376.424 | Q9: 9712.158 | R9: 8568.4163 | S9: 8244.871 | T9: 6175.181 | U9: =SUM(_xlfn.ANCHORARRAY(O9))/6 -> 9181.6992 | V9: =SUM(O9:S9)/5 -> 9783.0029 | W9: =SUM(O9:R9)/4 -> 10167.536
A10: 5 | B10: SENEGAL | C10: =VLOOKUP(A10,'GTM-EU Proposals'!$A$3:$D$12,3,0) -> B | D10: =VLOOKUP(A10,'GTM-EU Proposals'!$A$3:$D$12,4,0) -> 8534.3 | E10: 1883.15 | F10: 6850.0388 | G10: 3956.9248 | H10: 5029.246 | I10: 8160.611 | J10: 8177.352 | K10: 8227.6166 | L10: 9407.244 | M10: 17027.175 | N10: 15164.493 | O10: {=IFERROR(LARGE(E10:N10,{1,2,3,4,5,6}), "")} -> 17027.175 | P10: 15164.493 | Q10: 9407.244 | R10: 8227.6166 | S10: 8177.352 | T10: 8160.611 | U10: =SUM(_xlfn.ANCHORARRAY(O10))/6 -> 11027.415 | V10: =SUM(O10:S10)/5 -> 11600.776 | W10: =SUM(O10:R10)/4 -> 12456.632
A11: 6 | B11: BELIZE | C11: =VLOOKUP(A11,'GTM-EU Proposals'!$A$3:$D$12,3,0) -> B | D11: =VLOOKUP(A11,'GTM-EU Proposals'!$A$3:$D$12,4,0) -> 9143.8 | E11: 7131.854 | F11: 5659.877 | G11: 6169.678 | H11: 8743.425 | I11: 10107.127 | J11: 9340.972 | K11: 8196.874 | L11: 10117.881 | M11: 9647.399 | N11: 13612.592 | O11: {=LARGE(E11:N11,{1,2,3,4,5,6})} -> 13612.592 | P11: 10117.881 | Q11: 10107.127 | R11: 9647.399 | S11: 9340.972 | T11: 8743.425 | U11: =SUM(_xlfn.ANCHORARRAY(O11))/6 -> 10261.566 | V11: =SUM(O11:S11)/5 -> 10565.194 | W11: =SUM(O11:R11)/4 -> 10871.25
A12: Subtotal Group B | E12: =SUM(E8:E11) -> 26070.705 | F12: =SUM(F8:F11) -> 35359.655 | G12: =SUM(G8:G11) -> 33579.191 | H12: =SUM(H8:H11) -> 36329.029 | I12: =SUM(I8:I11) -> 39419.769 | J12: =SUM(J8:J11) -> 41077.759 | K12: =SUM(K8:K11) -> 39800.646 | L12: =SUM(L8:L11) -> 47254.27 | ... W12: =SUM(W8:W11) -> 51412.29
A13: 7 | B13: EL SALVADOR | C13: =VLOOKUP(A13,'GTM-EU Proposals'!$A$3:$D$12,3,0) -> C | D13: =VLOOKUP(A13,'GTM-EU Proposals'!$A$3:$D$12,4,0) -> 7099.2 | E13: 2781 | F13: 8633 | G13: 6317.963 | H13: 5574.146 | I13: 3976.056 | J13: 8812.85 | K13: 6336.6 | L13: 6322.43 | M13: 4577.78 | N13: 7027.19 | O13: {=IFERROR(LARGE(E13:N13,{1,2,3,4,5,6}), "")} -> 8812.85 | P13: 8633 | Q13: 7027.19 | R13: 6336.6 | S13: 6322.43 | T13: 6317.963 | U13: =SUM(_xlfn.ANCHORARRAY(O13))/6 -> 7241.6722 | V13: =SUM(O13:S13)/5 -> 7426.414 | W13: =SUM(O13:R13)/4 -> 7702.41
A14: 8 | B14: CURAÇAO | C14: =VLOOKUP(A14,'GTM-EU Proposals'!$A$3:$D$12,3,0) -> C | D14: =VLOOKUP(A14,'GTM-EU Proposals'!$A$3:$D$12,4,0) -> 6612.3 | E14: 6267.32 | F14: 8011.606 | G14: 6661.282 | H14: 7615.315 | I14: 7773.035 | J14: 9081.13 | K14: 7795.8332 | L14: 3122.173 | M14: 1249.9 | O14: {=IFERROR(LARGE(E14:N14,{1,2,3,4,5,6}), "")} -> 9081.13 | P14: 8011.606 | Q14: 7795.8332 | R14: 7773.035 | S14: 7615.315 | T14: 6661.282 | U14: =SUM(_xlfn.ANCHORARRAY(O14))/6 -> 7823.0335 | V14: =SUM(O14:S14)/5 -> 8055.3838 | W14: =SUM(O14:R14)/4 -> 8165.401
A15: 9 | B15: UNITED STATES | C15: =VLOOKUP(A15,'GTM-EU Proposals'!$A$3:$D$12,3,0) -> C | D15: =VLOOKUP(A15,'GTM-EU Proposals'!$A$3:$D$12,4,0) -> 5084.5 | E15: 2797.904 | F15: 4103.888 | G15: 4444.107 | H15: 2720.431 | I15: 2625.175 | J15: 3661.929 | K15: 3960.39 | L15: 7755.937 | M15: 3093.408 | N15: 3047.949 | O15: {=IFERROR(LARGE(E15:N15,{1,2,3,4,5,6}), "")} -> 7755.937 | P15: 4444.107 | Q15: 4103.888 | R15: 3960.39 | S15: 3661.929 | T15: 3093.408 | U15: =SUM(_xlfn.ANCHORARRAY(O15))/6 -> 4503.2765 | V15: =SUM(O15:S15)/5 -> 4785.2502 | W15: =SUM(O15:R15)/4 -> 5066.0805
A16: Subtotal Group C | E16: =SUM(E13:E15) -> 11846.224 | F16: =SUM(F13:F15) -> 20748.494 | G16: =SUM(G13:G15) -> 17423.352 | H16: =SUM(H13:H15) -> 15909.892 | I16: =SUM(I13:I15) -> 14374.266 | J16: =SUM(J13:J15) -> 21555.909 | K16: =SUM(K13:K15) -> 18092.823 | L16: =SUM(L13:L15) -> 17200.54 | ... W16: =SUM(W13:W15) -> 20933.892
A17: 10 | B17: ANGOLA | C17: D | D17: ='GTM-EU Proposals'!$F$13 -> 3500 | G17: 1.582 | H17: 2.8 | I17: 0 | J17: 1.27238 | K17: 7.74999 | L17: 14.725 | M17: 5.076 | N17: 8.675 | O17: {=LARGE(E17:N17,{1,2,3,4,5,6})} -> 14.725 | P17: 8.675 | Q17: 7.74999 | R17: 5.076 | S17: 2.8 | T17: 1.582 | U17: =SUM(_xlfn.ANCHORARRAY(O17))/6 -> 6.7679983 | V17: =SUM(O17:S17)/5 -> 7.805198 | W17: =SUM(O17:R17)/4 -> 9.0564975
A18: 11 | B18: BARBADOS | C18: D | D18: ='GTM-EU Proposals'!$F$13 -> 3500 | E18: 262.279 | F18: 324.251 | G18: 269.519 | H18: 248.284 | I18: 121.056 | J18: 173.096 | K18: 212.495 | L18: 201.637 | M18: 236.64 | N18: 188.3531 | O18: {=LARGE(E18:N18,{1,2,3,4,5,6})} -> 324.251 | P18: 269.519 | Q18: 262.279 | R18: 248.284 | S18: 236.64 | T18: 212.495 | U18: =SUM(_xlfn.ANCHORARRAY(O18))/6 -> 258.91133 | V18: =SUM(O18:S18)/5 -> 268.1946 | W18: =SUM(O18:R18)/4 -> 276.08325
A19: 12 | B19: CABO VERDE | C19: D | D19: ='GTM-EU Proposals'!$F$13 -> 3500 | E19: 7866.109 | F19: 6989.53 | G19: 2837.0497 | H19: 5584.1112 | I19: 3698.7502 | J19: 6259.196 | K19: 2042.5459 | L19: 952.00758 | M19: 326.964 | N19: 1209.547 | O19: {=LARGE(E19:N19,{1,2,3,4,5,6})} -> 7866.109 | P19: 6989.53 | Q19: 6259.196 | R19: 5584.1112 | S19: 3698.7502 | T19: 2837.0497 | U19: =SUM(_xlfn.ANCHORARRAY(O19))/6 -> 5539.1244 | V19: =SUM(O19:S19)/5 -> 6079.5393 | W19: =SUM(O19:R19)/4 -> 6674.7366
A20: 13 | B20: CANADA | C20: D | D20: ='GTM-EU Proposals'!$F$13 -> 3500 | E20: 59.013606 | F20: 19.488689 | G20: 193.07766 | H20: 14.646455 | I20: 108.17127 | J20: 75.077376 | K20: 110.87202 | L20: 198.67439 | M20: 175.02158 | N20: 162.80617 | O20: {=LARGE(E20:N20,{1,2,3,4,5,6})} -> 198.67439 | P20: 193.07766 | Q20: 175.02158 | R20: 162.80617 | S20: 110.87202 | T20: 108.17127 | U20: =SUM(_xlfn.ANCHORARRAY(O20))/6 -> 158.10385 | V20: =SUM(O20:S20)/5 -> 168.09036 | W20: =SUM(O20:R20)/4 -> 182.39495
A21: 14 | B21: CHINA PR. | C21: D | D21: ='GTM-EU Proposals'!$F$13 -> 3500 | E21: 169.551 | F21: 467.746 | G21: 578.379 | H21: 359.458 | I21: 320.862 | J21: 461.128 | K21: 140.032 | L21: 528.594 | M21: 2444.352 | N21: 2746.789 | O21: {=LARGE(E21:N21,{1,2,3,4,5,6})} -> 2746.789 | P21: 2444.352 | Q21: 578.379 | R21: 528.594 | S21: 467.746 | T21: 461.128 | U21: =SUM(_xlfn.ANCHORARRAY(O21))/6 -> 1204.498 | V21: =SUM(O21:S21)/5 -> 1353.172 | W21: =SUM(O21:R21)/4 -> 1574.5285
A22: 15 | B22: Chinese Taipei | C22: D | D22: ='GTM-EU Proposals'!$F$13 -> 3500 | E22: 1220 | F22: 942 | G22: 776 | H22: 945 | I22: 736 | J22: 870 | K22: 468 | L22: 669 | M22: 873 | N22: 760 | O22: {=LARGE(E22:N22,{1,2,3,4,5,6})} -> 1220 | P22: 945 | Q22: 942 | R22: 873 | S22: 870 | T22: 776 | U22: =SUM(_xlfn.ANCHORARRAY(O22))/6 -> 937.66667 | V22: =SUM(O22:S22)/5 -> 970 | W22: =SUM(O22:R22)/4 -> 995
A23: 16 | B23: COSTA RICA | C23: D | D23: ='GTM-EU Proposals'!$F$13 -> 3500 | E23: 116.81 | F23: 138.768 | G23: 183.072 | H23: 113.509 | I23: 74.311 | J23: 116.6395 | K23: 150.2452 | L23: 54.08863 | M23: 51.58155 | N23: 114.637 | O23: {=LARGE(E23:N23,{1,2,3,4,5,6})} -> 183.072 | P23: 150.2452 | Q23: 138.768 | R23: 116.81 | S23: 116.6395 | T23: 114.637 | U23: =SUM(_xlfn.ANCHORARRAY(O23))/6 -> 136.69528 | V23: =SUM(O23:S23)/5 -> 141.10694 | W23: =SUM(O23:R23)/4 -> 147.2238
A24: 17 | B24: CÔTE D'IVOIRE | C24: D | D24: ='GTM-EU Proposals'!$F$13 -> 3500 | E24: 250.92598 | F24: 314.916 | G24: 951.65837 | H24: 116.16465 | I24: 2649.3721 | J24: 4459.5142 | K24: 2117.156 | L24: 3336.218 | M24: 1434.487 | N24: 2637.2605 | O24: {=IFERROR(LARGE(E24:N24,{1,2,3,4,5,6}), "")} -> 4459.5142 | P24: 3336.218 | Q24: 2649.3721 | R24: 2637.2605 | S24: 2117.156 | T24: 1434.487 | U24: =SUM(_xlfn.ANCHORARRAY(O24))/6 -> 2772.3346 | V24: =SUM(O24:S24)/5 -> 3039.9042 | W24: =SUM(O24:R24)/4 -> 3270.5912
A25: 18 | B25: FRANCE (St-Pierre et Miquelon) | C25: D | D25: ='GTM-EU Proposals'!$F$13 -> 3500 | H25: 0 | O25: {=IFERROR(LARGE(E25:N25,{1,2,3,4,5,6}), "")} -> 0 | U25: =SUM(_xlfn.ANCHORARRAY(O25))/6 -> 0 | V25: =SUM(O25:S25)/5 -> 0 | W25: =SUM(O25:R25)/4 -> 0
A26: 19 | B26: GABON | C26: D | D26: ='GTM-EU Proposals'!$F$13 -> 3500 | F26: 1 | G26: 3 | O26: {=IFERROR(LARGE(E26:N26,{1,2,3,4,5,6}), "")} -> 3 | P26: 1 | U26: =SUM(_xlfn.ANCHORARRAY(O26))/6 -> 0.66666667 | V26: =SUM(O26:S26)/5 -> 0.8 | W26: =SUM(O26:R26)/4 -> 1
A27: 20 | B27: GAMBIA | C27: D | D27: ='GTM-EU Proposals'!$F$13 -> 3500 | J27: 0.72 | O27: {=IFERROR(LARGE(E27:N27,{1,2,3,4,5,6}), "")} -> 0.72 | U27: =SUM(_xlfn.ANCHORARRAY(O27))/6 -> 0.12 | V27: =SUM(O27:S27)/5 -> 0.144 | W27: =SUM(O27:R27)/4 -> 0.18
A28: 21 | B28: GRENADA | C28: D | D28: ='GTM-EU Proposals'!$F$13 -> 3500 | E28: 1166.8029 | F28: 1606.9336 | G28: 1257.3833 | H28: 1391.2574 | I28: 818.38533 | J28: 783.57568 | K28: 286.542 | L28: 956.927 | M28: 2139.2743 | N28: 1086.487 | O28: {=IFERROR(LARGE(E28:N28,{1,2,3,4,5,6}), "")} -> 2139.2743 | P28: 1606.9336 | Q28: 1391.2574 | R28: 1257.3833 | S28: 1166.8029 | T28: 1086.487 | U28: =SUM(_xlfn.ANCHORARRAY(O28))/6 -> 1441.3564 | V28: =SUM(O28:S28)/5 -> 1512.3303 | W28: =SUM(O28:R28)/4 -> 1598.7122
A29: 22 | B29: GUATEMALA | C29: D | D29: ='GTM-EU Proposals'!$F$13 -> 3500 | E29: 5200.262 | F29: 2720.34 | G29: 3718.447 | H29: 2538.635 | I29: 2957.044 | J29: 2594.11 | K29: 1882.949 | L29: 4263.8729 | M29: 2596.0147 | O29: {=IFERROR(LARGE(E29:N29,{1,2,3,4,5,6}), "")} -> 5200.262 | P29: 4263.8729 | Q29: 3718.447 | R29: 2957.044 | S29: 2720.34 | T29: 2596.0147 | U29: =SUM(_xlfn.ANCHORARRAY(O29))/6 -> 3575.9968 | V29: =SUM(O29:S29)/5 -> 3771.9932 | W29: =SUM(O29:R29)/4 -> 4034.9065
A30: 23 | B30: GUINEA ECUATORIAL | C30: D | D30: ='GTM-EU Proposals'!$F$13 -> 3500 | E30: 8.703 | F30: 6.294 | H30: 8.453 | I30: 10.258 | J30: 8.378 | K30: 6.7821 | L30: 4.33775 | M30: 0.937 | N30: 0.013 | O30: {=IFERROR(LARGE(E30:N30,{1,2,3,4,5,6}), "")} -> 10.258 | P30: 8.703 | Q30: 8.453 | R30: 8.378 | S30: 6.7821 | T30: 6.294 | U30: =SUM(_xlfn.ANCHORARRAY(O30))/6 -> 8.1446833 | V30: =SUM(O30:S30)/5 -> 8.51482 | W30: =SUM(O30:R30)/4 -> 8.948
A31: 24 | B31: GUINÉE REP. | C31: D | D31: ='GTM-EU Proposals'!$F$13 -> 3500 | K31: 322 | L31: 1327 | M31: 913 | N31: 378 | O31: {=IFERROR(LARGE(E31:N31,{1,2,3,4,5,6}), "")} -> 1327 | P31: 913 | Q31: 378 | R31: 322 | U31: =SUM(_xlfn.ANCHORARRAY(O31))/6 -> 490 | V31: =SUM(O31:S31)/5 -> 588 | W31: =SUM(O31:R31)/4 -> 735
A32: 25 | B32: Guyana | C32: D | D32: ='GTM-EU Proposals'!$F$13 -> 3500 | E32: 13.62 | F32: 182.928 | G32: 180.612 | H32: 3.475 | I32: 42.612 | J32: 116.21459 | K32: 164.02 | O32: {=IFERROR(LARGE(E32:N32,{1,2,3,4,5,6}), "")} -> 182.928 | P32: 180.612 | Q32: 164.02 | R32: 116.21459 | S32: 42.612 | T32: 13.62 | U32: =SUM(_xlfn.ANCHORARRAY(O32))/6 -> 116.66776 | V32: =SUM(O32:S32)/5 -> 137.27732 | W32: =SUM(O32:R32)/4 -> 160.94365
A33: 26 | B33: JAPAN | C33: D | D33: ='GTM-EU Proposals'!$F$13 -> 3500 | E33: 3469.557 | F33: 3375.782 | G33: 3123.097 | H33: 3099.295 | I33: 4055.756 | J33: 2662.148 | K33: 3073.444 | L33: 4198.669 | M33: 5915.256 | N33: 5721.432 | O33: {=IFERROR(LARGE(E33:N33,{1,2,3,4,5,6}), "")} -> 5915.256 | P33: 5721.432 | Q33: 4198.669 | R33: 4055.756 | S33: 3469.557 | T33: 3375.782 | U33: =SUM(_xlfn.ANCHORARRAY(O33))/6 -> 4456.0753 | V33: =SUM(O33:S33)/5 -> 4672.134 | W33: =SUM(O33:R33)/4 -> 4972.7782
A34: 27 | B34: KOREA REP. | C34: D | D34: ='GTM-EU Proposals'!$F$13 -> 3500 | E34: 47.70877 | F34: 368.099 | G34: 410.75387 | H34: 454.50973 | I34: 506.751 | J34: 579.34309 | K34: 372.81186 | L34: 480.53024 | M34: 732.45131 | N34: 554.6692 | O34: {=IFERROR(LARGE(E34:N34,{1,2,3,4,5,6}), "")} -> 732.45131 | P34: 579.34309 | Q34: 554.6692 | R34: 506.751 | S34: 480.53024 | T34: 454.50973 | U34: =SUM(_xlfn.ANCHORARRAY(O34))/6 -> 551.37576 | V34: =SUM(O34:S34)/5 -> 570.74897 | W34: =SUM(O34:R34)/4 -> 593.30365
A35: 28 | B35: LIBERIA | C35: D | D35: ='GTM-EU Proposals'!$F$13 -> 3500 | E35: 88 | F35: 76.234 | G35: 87.9364 | H35: 1.9074 | I35: 6.35574 | J35: 1731.0806 | K35: 0.652 | L35: 0.3691 | M35: 3.968 | N35: 0.518431 | O35: {=IFERROR(LARGE(E35:N35,{1,2,3,4,5,6}), "")} -> 1731.0806 | P35: 88 | Q35: 87.9364 | R35: 76.234 | S35: 6.35574 | T35: 3.968 | U35: =SUM(_xlfn.ANCHORARRAY(O35))/6 -> 332.26245 | V35: =SUM(O35:S35)/5 -> 397.92135 | W35: =SUM(O35:R35)/4 -> 495.81275
A36: 29 | B36: MAROC | C36: D | D36: ='GTM-EU Proposals'!$F$13 -> 3500 | E36: 72.422 | F36: 115 | G36: 113 | H36: 108 | I36: 228.1 | J36: 343.5 | K36: 493.4 | L36: 640.07 | M36: 844.64 | N36: 968.57 | O36: {=IFERROR(LARGE(E36:N36,{1,2,3,4,5,6}), "")} -> 968.57 | P36: 844.64 | Q36: 640.07 | R36: 493.4 | S36: 343.5 | T36: 228.1 | U36: =SUM(_xlfn.ANCHORARRAY(O36))/6 -> 586.38 | V36: =SUM(O36:S36)/5 -> 658.036 | W36: =SUM(O36:R36)/4 -> 736.67
A37: 30 | B37: MAURITANIA | C37: D | D37: ='GTM-EU Proposals'!$F$13 -> 3500 | F37: 0.096 | O37: {=IFERROR(LARGE(E37:N37,{1,2,3,4,5,6}), "")} -> 0.096 | U37: =SUM(_xlfn.ANCHORARRAY(O37))/6 -> 0.016 | V37: =SUM(O37:S37)/5 -> 0.0192 | W37: =SUM(O37:R37)/4 -> 0.024
A38: 31 | B38: MEXICO | C38: D | D38: ='GTM-EU Proposals'!$F$13 -> 3500 | E38: 962.588 | F38: 1281.986 | G38: 1244.195 | H38: 1033.117 | I38: 763.185 | J38: 821.113 | K38: 884.766 | L38: 608.567 | M38: 593.465 | N38: 482.556 | O38: {=IFERROR(LARGE(E38:N38,{1,2,3,4,5,6}), "")} -> 1281.986 | P38: 1244.195 | Q38: 1033.117 | R38: 962.588 | S38: 884.766 | T38: 821.113 | U38: =SUM(_xlfn.ANCHORARRAY(O38))/6 -> 1037.9608 | V38: =SUM(O38:S38)/5 -> 1081.3304 | W38: =SUM(O38:R38)/4 -> 1130.4715
A39: 32 | B39: NAMIBIA | C39: D | D39: ='GTM-EU Proposals'!$F$13 -> 3500 | E39: 42.2 | F39: 52.9 | G39: 53.29 | H39: 423.769 | I39: 81.762 | J39: 327.234 | K39: 255.976 | L39: 355.935 | M39: 156.233 | N39: 75.99691 | O39: {=IFERROR(LARGE(E39:N39,{1,2,3,4,5,6}), "")} -> 423.769 | P39: 355.935 | Q39: 327.234 | R39: 255.976 | S39: 156.233 | T39: 81.762 | U39: =SUM(_xlfn.ANCHORARRAY(O39))/6 -> 266.81817 | V39: =SUM(O39:S39)/5 -> 303.8294 | W39: =SUM(O39:R39)/4 -> 340.7285
A40: 33 | B40: S. TOMÉ E PRINCIPE | C40: D | D40: ='GTM-EU Proposals'!$F$13 -> 3500 | E40: 300.7 | F40: 301.4 | G40: 266 | H40: 14.32 | I40: 16.779 | J40: 12.985 | K40: 14.8855 | L40: 23.7362 | M40: 24.005 | N40: 89.9 | O40: {=IFERROR(LARGE(E40:N40,{1,2,3,4,5,6}), "")} -> 301.4 | P40: 300.7 | Q40: 266 | R40: 89.9 | S40: 24.005 | T40: 23.7362 | U40: =SUM(_xlfn.ANCHORARRAY(O40))/6 -> 167.62353 | V40: =SUM(O40:S40)/5 -> 196.401 | W40: =SUM(O40:R40)/4 -> 239.5
A41: 34 | B41: SOUTH AFRICA | C41: D | D41: ='GTM-EU Proposals'!$F$13 -> 3500 | E41: 925.43529 | F41: 706.11108 | G41: 386.88091 | H41: 389.31688 | I41: 551.08571 | J41: 700.12572 | K41: 398.28521 | L41: 1017.7091 | M41: 1746.2871 | N41: 1012.5512 | O41: {=IFERROR(LARGE(E41:N41,{1,2,3,4,5,6}), "")} -> 1746.2871 | P41: 1017.7091 | Q41: 1012.5512 | R41: 925.43529 | S41: 706.11108 | T41: 700.12572 | U41: =SUM(_xlfn.ANCHORARRAY(O41))/6 -> 1018.0366 | V41: =SUM(O41:S41)/5 -> 1081.6188 | W41: =SUM(O41:R41)/4 -> 1175.4957
A42: 35 | B42: St VINCENT & GRENADINES | C42: D | D42: ='GTM-EU Proposals'!$F$13 -> 3500 | E42: 152.7724 | F42: 433.875 | G42: 771.583 | H42: 373.3065 | I42: 104.63777 | J42: 225.844 | K42: 3.4683 | L42: 105.725 | M42: 4.96238 | N42: 96.245 | O42: {=IFERROR(LARGE(E42:N42,{1,2,3,4,5,6}), "")} -> 771.583 | P42: 433.875 | Q42: 373.3065 | R42: 225.844 | S42: 152.7724 | T42: 105.725 | U42: =SUM(_xlfn.ANCHORARRAY(O42))/6 -> 343.85098 | V42: =SUM(O42:S42)/5 -> 391.47618 | W42: =SUM(O42:R42)/4 -> 451.15213
A43: 36 | B43: Suriname | C43: D | D43: ='GTM-EU Proposals'!$F$13 -> 3500 | M43: 309.506 | N43: 1297.43 | O43: {=IFERROR(LARGE(E43:N43,{1,2,3,4,5,6}), "")} -> 1297.43 | P43: 309.506 | U43: =SUM(_xlfn.ANCHORARRAY(O43))/6 -> 267.82267 | V43: =SUM(O43:S43)/5 -> 321.3872 | W43: =SUM(O43:R43)/4 -> 401.734
A44: 37 | B44: TRINIDAD & TOBAGO | C44: D | D44: ='GTM-EU Proposals'!$F$13 -> 3500 | E44: 1179.4284 | F44: 1056.9023 | G44: 889.90537 | H44: 1214.0665 | I44: 981.58719 | J44: 973.28735 | K44: 1243.9195 | L44: 1080.1863 | M44: 1169.1082 | N44: 1040.569 | O44: {=IFERROR(LARGE(E44:N44,{1,2,3,4,5,6}), "")} -> 1243.9195 | P44: 1214.0665 | Q44: 1179.4284 | R44: 1169.1082 | S44: 1080.1863 | T44: 1056.9023 | U44: =SUM(_xlfn.ANCHORARRAY(O44))/6 -> 1157.2685 | V44: =SUM(O44:S44)/5 -> 1177.3418 | W44: =SUM(O44:R44)/4 -> 1201.6307
A45: 38 | B45: UNITED KINGDOM | C45: D | D45: ='GTM-EU Proposals'!$F$13 -> 3500 | E45: 193.0674 | F45: 190.33 | G45: 245.7968 | H45: 230.734 | I45: 359.8692 | J45: 139.67652 | K45: 158.45411 | L45: 132.8629 | M45: 140.02758 | N45: 154.42531 | O45: {=IFERROR(LARGE(E45:N45,{1,2,3,4,5,6}), "")} -> 359.8692 | P45: 245.7968 | Q45: 230.734 | R45: 193.0674 | S45: 190.33 | T45: 158.45411 | U45: =SUM(_xlfn.ANCHORARRAY(O45))/6 -> 229.70858 | V45: =SUM(O45:S45)/5 -> 243.95948 | W45: =SUM(O45:R45)/4 -> 257.36685
A46: 39 | B46: VENEZUELA | C46: D | D46: ='GTM-EU Proposals'!$F$13 -> 3500 | E46: 3130.0645 | F46: 4220.8099 | G46: 5109.9296 | H46: 2783.6407 | I46: 2098.8538 | J46: 1949.4481 | K46: 1977.8008 | L46: 3171.9328 | M46: 3485.8538 | N46: 2865.3087 | O46: {=IFERROR(LARGE(E46:N46,{1,2,3,4,5,6}), "")} -> 5109.9296 | P46: 4220.8099 | Q46: 3485.8538 | R46: 3171.9328 | S46: 3130.0645 | T46: 2865.3087 | U46: =SUM(_xlfn.ANCHORARRAY(O46))/6 -> 3663.9832 | V46: =SUM(O46:S46)/5 -> 3823.7181 | W46: =SUM(O46:R46)/4 -> 3997.1315
A47: Subtotal Group D (13000) | E47: =SUM(E17:E46) -> 26898.02 | F47: =SUM(F17:F46) -> 25893.721 | G47: =SUM(G17:G46) -> 23652.148 | H47: =SUM(H17:H46) -> 21451.776 | I47: =SUM(I17:I46) -> 21291.544 | J47: =SUM(J17:J46) -> 26384.707 | K47: =SUM(K17:K46) -> 16789.253 | L47: =SUM(L17:L46) -> 24323.375 | ... W47: =SUM(W17:W46) -> 35663.105
B48: Non-contracting parties | C48: - | E48: 368.88022 | F48: 373.96331 | G48: 406.97237 | H48: 123.34531 | I48: 350.95366 | J48: 502.50511 | K48: 156.30912 | L48: 173.8021 | M48: 156.18261 | N48: 112.11722 | O48: {=IFERROR(LARGE(E48:N48,{1,2,3,4,5,6}), "")} -> 502.50511 | P48: 406.97237 | Q48: 373.96331 | R48: 368.88022 | S48: 350.95366 | T48: 173.8021 | U48: =SUM(_xlfn.ANCHORARRAY(O48))/6 -> 362.84613 | V48: =SUM(O48:S48)/5 -> 400.65493 | W48: =SUM(O48:R48)/4 -> 413.08025
A49: TOTAL | E49: =SUM(E7,E12,E16,E47,E48) -> 128220.12 | F49: =SUM(F7,F12,F16,F47,F48) -> 149756.5 | G49: =SUM(G7,G12,G16,G47,G48) -> 135103.32 | H49: =SUM(H7,H12,H16,H47,H48) -> 135396.97 | I49: =SUM(I7,I12,I16,I47,I48) -> 135975.28 | J49: =SUM(J7,J12,J16,J47,J48) -> 153379.22 | K49: =SUM(K7,K12,K16,K47,K48) -> 120254.58 | L49: =SUM(L7,L12,L16,L47,L48) -> 148566.56 | ... N49: =SUM(N7,N12,N16,N47,N48) -> 138291.36 | U49: =SUM(U48,U47,U16,U12,U7) -> 163975.96 | V49: =SUM(V48,V47,V16,V12,V7) -> 170567.08 | W49: =SUM(W48,W47,W16,W12,W7) -> 177243.98
B50: * YFT Reported catches as of 2026-05-06 / Prises de YFT déclarées au 2026-05-06 / Capturas de YFT declaradas a 2026-05-06 (t)
B51: ** Cells in orange do not represent a fixed catch limit but a trigger threshold. If the annual catches of yellowfin tuna by a CPC in Category D exceed this threshold in two consecutive years from 2027, Panel 1 shall determine a binding catch limit to apply to that CPC in future years. / ** Les cases en orange ne représentent pas une limite de capture fixe, mais un seuil de déclenchement. Si les captures annuelles d'albacore effectuées par une CPC de la Catégorie D dépassent ce seuil pendant deux années consécutives à partir de 2027, la Sous-Commission 1 déterminera une limite de capture contraignante qui s'appliquera à cette CPC pour les années futures. / ** Las celdas en naranja no representan un límite de captura fijo, sino un umbral de activación. Si las capturas anuales de rabil realizadas por una CPC de la Categoría D superan este umbral durante dos años consecutivos a partir de 2027, el Panel 1 determinará un límite de captura vinculante que se aplicará a esa CPC en el futuro.
B52: Since Rec. 12-01 / Depuis la Rec. 12-01 / Desde la Rec. 12-01 TAC YFT = 110000 t

Sheet GTM-Fixed
B1: Belize, Costa Rica, Curaçao, El Salvador, Guatemala, Honduras, Nicaragua and Panama Proposal - PA1_MAY_27/i2026
B2: Secretariat's calculations on YFT catches for the last ten years / Calculs du Secrétariat concernant les captures d'albacore pour les dix dernières années / Cálculos de la Secretaría sobre las capturas de rabil para los últimos diez años
I3: Year*
A4: ID | B4: CPC | C4: GROUP | D4: CATCH LIMIT** | E4: 2015 | F4: 2016 | G4: 2017 | H4: 2018 | I4: 2019 | J4: 2020 | K4: 2021 | L4: 2022 | M4: 2023 | N4: 2024 | O4: AvgLast10 | P4: AvgLast6 | Q4: AvgLast5 | R4: AvgLast4
A5: 1 | B5: EUROPEAN UNION | C5: =VLOOKUP(A5,'GTM-EU Proposals'!$A$3:$D$12,3,0) -> A | D5: =VLOOKUP(A5,'GTM-EU Proposals'!$A$3:$D$12,4,0) -> 30298.9 | E5: 43377.29 | F5: 47163.069 | G5: 39643.261 | H5: 37236.932 | I5: 34296.247 | J5: 37423.343 | K5: 24152.047 | L5: 30064.575 | M5: 26045.996 | N5: 31071.245 | O5: =AVERAGE(E5:N5) -> 35047.4 | P5: =AVERAGE(I5:N5) -> 30508.909 | Q5: =AVERAGE(J5:N5) -> 29751.441 | R5: =AVERAGE(K5:N5) -> 27833.466
A6: 2 | B6: GHANA | C6: =VLOOKUP(A6,'GTM-EU Proposals'!$A$3:$D$12,3,0) -> A | D6: =VLOOKUP(A6,'GTM-EU Proposals'!$A$3:$D$12,4,0) -> 25540.6 | E6: 19659 | F6: 20217.6 | G6: 20398.4 | H6: 24346 | I6: 26242.5 | J6: 26435 | K6: 21263.5 | L6: 29550 | M6: 22159 | N6: 25452 | O6: =AVERAGE(E6:N6) -> 23572.3 | P6: =AVERAGE(I6:N6) -> 25183.667 | Q6: =AVERAGE(J6:N6) -> 24971.9 | R6: =AVERAGE(K6:N6) -> 24606.125
A7: Subtotal Group A | E7: =SUM(E5:E6) -> 63036.29 | F7: =SUM(F5:F6) -> 67380.669 | G7: =SUM(G5:G6) -> 60041.661 | H7: =SUM(H5:H6) -> 61582.932 | I7: =SUM(I5:I6) -> 60538.747 | J7: =SUM(J5:J6) -> 63858.343 | K7: =SUM(K5:K6) -> 45415.547 | L7: =SUM(L5:L6) -> 59614.575 | ... R7: =SUM(R5:R6) -> 52439.591
A8: 3 | B8: BRAZIL | C8: =VLOOKUP(A8,'GTM-EU Proposals'!$A$3:$D$12,3,0) -> B | D8: =VLOOKUP(A8,'GTM-EU Proposals'!$A$3:$D$12,4,0) -> 14072.6 | E8: 13643.343 | F8: 16681.775 | G8: 18362.306 | H8: 16381.177 | I8: 12907.16 | J8: 13183.011 | K8: 13663.997 | L8: 15716 | M8: 18894 | N8: 17729.408 | O8: =AVERAGE(E8:N8) -> 15716.218 | P8: =AVERAGE(I8:N8) -> 15348.929 | Q8: =AVERAGE(J8:N8) -> 15837.283 | R8: =AVERAGE(K8:N8) -> 16500.851
A9: 4 | B9: PANAMA | C9: =VLOOKUP(A9,'GTM-EU Proposals'!$A$3:$D$12,3,0) -> B | D9: =VLOOKUP(A9,'GTM-EU Proposals'!$A$3:$D$12,4,0) -> 10613.8 | E9: 3412.358 | F9: 6167.964 | G9: 5090.282 | H9: 6175.181 | I9: 8244.871 | J9: 10376.424 | K9: 9712.158 | L9: 12013.145 | M9: 8568.4163 | N9: 1421.63 | O9: =AVERAGE(E9:N9) -> 7118.2429 | P9: =AVERAGE(I9:N9) -> 8389.4407 | Q9: =AVERAGE(J9:N9) -> 8418.3547 | R9: =AVERAGE(K9:N9) -> 7928.8373
A10: 5 | B10: SENEGAL | C10: =VLOOKUP(A10,'GTM-EU Proposals'!$A$3:$D$12,3,0) -> B | D10: =VLOOKUP(A10,'GTM-EU Proposals'!$A$3:$D$12,4,0) -> 8534.3 | E10: 1883.15 | F10: 6850.0388 | G10: 3956.9248 | H10: 5029.246 | I10: 8160.611 | J10: 8177.352 | K10: 8227.6166 | L10: 9407.244 | M10: 17027.175 | N10: 15164.493 | O10: =AVERAGE(E10:N10) -> 8388.3851 | P10: =AVERAGE(I10:N10) -> 11027.415 | Q10: =AVERAGE(J10:N10) -> 11600.776 | R10: =AVERAGE(K10:N10) -> 12456.632
A11: 6 | B11: BELIZE | C11: =VLOOKUP(A11,'GTM-EU Proposals'!$A$3:$D$12,3,0) -> B | D11: =VLOOKUP(A11,'GTM-EU Proposals'!$A$3:$D$12,4,0) -> 9143.8 | E11: 7131.854 | F11: 5659.877 | G11: 6169.678 | H11: 8743.425 | I11: 10107.127 | J11: 9340.972 | K11: 8196.874 | L11: 10117.881 | M11: 9647.399 | N11: 13612.592 | O11: =AVERAGE(E11:N11) -> 8872.7679 | P11: =AVERAGE(I11:N11) -> 10170.474 | Q11: =AVERAGE(J11:N11) -> 10183.144 | R11: =AVERAGE(K11:N11) -> 10393.686
A12: Subtotal Group B | E12: =SUM(E8:E11) -> 26070.705 | F12: =SUM(F8:F11) -> 35359.655 | G12: =SUM(G8:G11) -> 33579.191 | H12: =SUM(H8:H11) -> 36329.029 | I12: =SUM(I8:I11) -> 39419.769 | J12: =SUM(J8:J11) -> 41077.759 | K12: =SUM(K8:K11) -> 39800.646 | L12: =SUM(L8:L11) -> 47254.27 | ... R12: =SUM(R8:R11) -> 47280.007
A13: 7 | B13: EL SALVADOR | C13: =VLOOKUP(A13,'GTM-EU Proposals'!$A$3:$D$12,3,0) -> C | D13: =VLOOKUP(A13,'GTM-EU Proposals'!$A$3:$D$12,4,0) -> 7099.2 | E13: 2781 | F13: 8633 | G13: 6317.963 | H13: 5574.146 | I13: 3976.056 | J13: 8812.85 | K13: 6336.6 | L13: 6322.43 | M13: 4577.78 | N13: 7027.19 | O13: =AVERAGE(E13:N13) -> 6035.9015 | P13: =AVERAGE(I13:N13) -> 6175.4843 | Q13: =AVERAGE(J13:N13) -> 6615.37 | R13: =AVERAGE(K13:N13) -> 6066
A14: 8 | B14: CURAÇAO | C14: =VLOOKUP(A14,'GTM-EU Proposals'!$A$3:$D$12,3,0) -> C | D14: =VLOOKUP(A14,'GTM-EU Proposals'!$A$3:$D$12,4,0) -> 6612.3 | E14: 6267.32 | F14: 8011.606 | G14: 6661.282 | H14: 7615.315 | I14: 7773.035 | J14: 9081.13 | K14: 7795.8332 | L14: 3122.173 | M14: 1249.9 | O14: =AVERAGE(E14:N14) -> 6397.5105 | P14: =AVERAGE(I14:N14) -> 5804.4142 | Q14: =AVERAGE(J14:N14) -> 5312.259 | R14: =AVERAGE(K14:N14) -> 4055.9687
A15: 9 | B15: UNITED STATES | C15: =VLOOKUP(A15,'GTM-EU Proposals'!$A$3:$D$12,3,0) -> C | D15: =VLOOKUP(A15,'GTM-EU Proposals'!$A$3:$D$12,4,0) -> 5084.5 | E15: 2797.904 | F15: 4103.888 | G15: 4444.107 | H15: 2720.431 | I15: 2625.175 | J15: 3661.929 | K15: 3960.39 | L15: 7755.937 | M15: 3093.408 | N15: 3047.949 | O15: =AVERAGE(E15:N15) -> 3821.1118 | P15: =AVERAGE(I15:N15) -> 4024.1313 | Q15: =AVERAGE(J15:N15) -> 4303.9226 | R15: =AVERAGE(K15:N15) -> 4464.421
A16: Subtotal Group C | E16: =SUM(E13:E15) -> 11846.224 | F16: =SUM(F13:F15) -> 20748.494 | G16: =SUM(G13:G15) -> 17423.352 | H16: =SUM(H13:H15) -> 15909.892 | I16: =SUM(I13:I15) -> 14374.266 | J16: =SUM(J13:J15) -> 21555.909 | K16: =SUM(K13:K15) -> 18092.823 | L16: =SUM(L13:L15) -> 17200.54 | ... R16: =SUM(R13:R15) -> 14586.39
A17: 10 | B17: ANGOLA | C17: D | D17: ='GTM-EU Proposals'!$F$13 -> 3500 | G17: 1.582 | H17: 2.8 | I17: 0 | J17: 1.27238 | K17: 7.74999 | L17: 14.725 | M17: 5.076 | N17: 8.675 | O17: =AVERAGE(E17:N17) -> 5.2350462 | P17: =AVERAGE(I17:N17) -> 6.2497283 | Q17: =AVERAGE(J17:N17) -> 7.499674 | R17: =AVERAGE(K17:N17) -> 9.0564975
A18: 11 | B18: BARBADOS | C18: D | D18: ='GTM-EU Proposals'!$F$13 -> 3500 | E18: 262.279 | F18: 324.251 | G18: 269.519 | H18: 248.284 | I18: 121.056 | J18: 173.096 | K18: 212.495 | L18: 201.637 | M18: 236.64 | N18: 188.3531 | O18: =AVERAGE(E18:N18) -> 223.76101 | P18: =AVERAGE(I18:N18) -> 188.87952 | Q18: =AVERAGE(J18:N18) -> 202.44422 | R18: =AVERAGE(K18:N18) -> 209.78127
A19: 12 | B19: CABO VERDE | C19: D | D19: ='GTM-EU Proposals'!$F$13 -> 3500 | E19: 7866.109 | F19: 6989.53 | G19: 2837.0497 | H19: 5584.1112 | I19: 3698.7502 | J19: 6259.196 | K19: 2042.5459 | L19: 952.00758 | M19: 326.964 | N19: 1209.547 | O19: =AVERAGE(E19:N19) -> 3776.5811 | P19: =AVERAGE(I19:N19) -> 2414.8351 | Q19: =AVERAGE(J19:N19) -> 2158.0521 | R19: =AVERAGE(K19:N19) -> 1132.7661
A20: 13 | B20: CANADA | C20: D | D20: ='GTM-EU Proposals'!$F$13 -> 3500 | E20: 59.013606 | F20: 19.488689 | G20: 193.07766 | H20: 14.646455 | I20: 108.17127 | J20: 75.077376 | K20: 110.87202 | L20: 198.67439 | M20: 175.02158 | N20: 162.80617 | O20: =AVERAGE(E20:N20) -> 111.68492 | P20: =AVERAGE(I20:N20) -> 138.43713 | Q20: =AVERAGE(J20:N20) -> 144.49031 | R20: =AVERAGE(K20:N20) -> 161.84354
A21: 14 | B21: CHINA PR. | C21: D | D21: ='GTM-EU Proposals'!$F$13 -> 3500 | E21: 169.551 | F21: 467.746 | G21: 578.379 | H21: 359.458 | I21: 320.862 | J21: 461.128 | K21: 140.032 | L21: 528.594 | M21: 2444.352 | N21: 2746.789 | O21: =AVERAGE(E21:N21) -> 821.6891 | P21: =AVERAGE(I21:N21) -> 1106.9595 | Q21: =AVERAGE(J21:N21) -> 1264.179 | R21: =AVERAGE(K21:N21) -> 1464.9417
A22: 15 | B22: Chinese Taipei | C22: D | D22: ='GTM-EU Proposals'!$F$13 -> 3500 | E22: 1220 | F22: 942 | G22: 776 | H22: 945 | I22: 736 | J22: 870 | K22: 468 | L22: 669 | M22: 873 | N22: 760 | O22: =AVERAGE(E22:N22) -> 825.9 | P22: =AVERAGE(I22:N22) -> 729.33333 | Q22: =AVERAGE(J22:N22) -> 728 | R22: =AVERAGE(K22:N22) -> 692.5
A23: 16 | B23: COSTA RICA | C23: D | D23: ='GTM-EU Proposals'!$F$13 -> 3500 | E23: 116.81 | F23: 138.768 | G23: 183.072 | H23: 113.509 | I23: 74.311 | J23: 116.6395 | K23: 150.2452 | L23: 54.08863 | M23: 51.58155 | N23: 114.637 | O23: =AVERAGE(E23:N23) -> 111.36619 | P23: =AVERAGE(I23:N23) -> 93.583813 | Q23: =AVERAGE(J23:N23) -> 97.438376 | R23: =AVERAGE(K23:N23) -> 92.638095
A24: 17 | B24: CÔTE D'IVOIRE | C24: D | D24: ='GTM-EU Proposals'!$F$13 -> 3500 | E24: 250.92598 | F24: 314.916 | G24: 951.65837 | H24: 116.16465 | I24: 2649.3721 | J24: 4459.5142 | K24: 2117.156 | L24: 3336.218 | M24: 1434.487 | N24: 2637.2605 | O24: =AVERAGE(E24:N24) -> 1826.7673 | P24: =AVERAGE(I24:N24) -> 2772.3346 | Q24: =AVERAGE(J24:N24) -> 2796.9271 | R24: =AVERAGE(K24:N24) -> 2381.2804
A25: 18 | B25: FRANCE (St-Pierre et Miquelon) | C25: D | D25: ='GTM-EU Proposals'!$F$13 -> 3500 | H25: 0 | O25: =AVERAGE(E25:N25) -> 0 | P25: 0 | Q25: 0 | R25: 0
A26: 19 | B26: GABON | C26: D | D26: ='GTM-EU Proposals'!$F$13 -> 3500 | F26: 1 | G26: 3 | O26: =AVERAGE(E26:N26) -> 2 | P26: 0 | Q26: 0 | R26: 0
A27: 20 | B27: GAMBIA | C27: D | D27: ='GTM-EU Proposals'!$F$13 -> 3500 | J27: 0.72 | O27: =AVERAGE(E27:N27) -> 0.72 | P27: =AVERAGE(I27:N27) -> 0.72 | Q27: =AVERAGE(J27:N27) -> 0.72 | R27: 0
A28: 21 | B28: GRENADA | C28: D | D28: ='GTM-EU Proposals'!$F$13 -> 3500 | E28: 1166.8029 | F28: 1606.9336 | G28: 1257.3833 | H28: 1391.2574 | I28: 818.38533 | J28: 783.57568 | K28: 286.542 | L28: 956.927 | M28: 2139.2743 | N28: 1086.487 | O28: =AVERAGE(E28:N28) -> 1149.3569 | P28: =AVERAGE(I28:N28) -> 1011.8652 | Q28: =AVERAGE(J28:N28) -> 1050.5612 | R28: =AVERAGE(K28:N28) -> 1117.3076
A29: 22 | B29: GUATEMALA | C29: D | D29: ='GTM-EU Proposals'!$F$13 -> 3500 | E29: 5200.262 | F29: 2720.34 | G29: 3718.447 | H29: 2538.635 | I29: 2957.044 | J29: 2594.11 | K29: 1882.949 | L29: 4263.8729 | M29: 2596.0147 | O29: =AVERAGE(E29:N29) -> 3163.5194 | P29: =AVERAGE(I29:N29) -> 2858.7981 | Q29: =AVERAGE(J29:N29) -> 2834.2366 | R29: =AVERAGE(K29:N29) -> 2914.2789
A30: 23 | B30: GUINEA ECUATORIAL | C30: D | D30: ='GTM-EU Proposals'!$F$13 -> 3500 | E30: 8.703 | F30: 6.294 | H30: 8.453 | I30: 10.258 | J30: 8.378 | K30: 6.7821 | L30: 4.33775 | M30: 0.937 | N30: 0.013 | O30: =AVERAGE(E30:N30) -> 6.0173167 | P30: =AVERAGE(I30:N30) -> 5.1176417 | Q30: =AVERAGE(J30:N30) -> 4.08957 | R30: =AVERAGE(K30:N30) -> 3.0174625
A31: 24 | B31: GUINÉE REP. | C31: D | D31: ='GTM-EU Proposals'!$F$13 -> 3500 | K31: 322 | L31: 1327 | M31: 913 | N31: 378 | O31: =AVERAGE(E31:N31) -> 735 | P31: =AVERAGE(I31:N31) -> 735 | Q31: =AVERAGE(J31:N31) -> 735 | R31: =AVERAGE(K31:N31) -> 735
A32: 25 | B32: Guyana | C32: D | D32: ='GTM-EU Proposals'!$F$13 -> 3500 | E32: 13.62 | F32: 182.928 | G32: 180.612 | H32: 3.475 | I32: 42.612 | J32: 116.21459 | K32: 164.02 | O32: =AVERAGE(E32:N32) -> 100.49737 | P32: =AVERAGE(I32:N32) -> 107.61553 | Q32: =AVERAGE(J32:N32) -> 140.11729 | R32: =AVERAGE(K32:N32) -> 164.02
A33: 26 | B33: JAPAN | C33: D | D33: ='GTM-EU Proposals'!$F$13 -> 3500 | E33: 3469.557 | F33: 3375.782 | G33: 3123.097 | H33: 3099.295 | I33: 4055.756 | J33: 2662.148 | K33: 3073.444 | L33: 4198.669 | M33: 5915.256 | N33: 5721.432 | O33: =AVERAGE(E33:N33) -> 3869.4436 | P33: =AVERAGE(I33:N33) -> 4271.1175 | Q33: =AVERAGE(J33:N33) -> 4314.1898 | R33: =AVERAGE(K33:N33) -> 4727.2002
A34: 27 | B34: KOREA REP. | C34: D | D34: ='GTM-EU Proposals'!$F$13 -> 3500 | E34: 47.70877 | F34: 368.099 | G34: 410.75387 | H34: 454.50973 | I34: 506.751 | J34: 579.34309 | K34: 372.81186 | L34: 480.53024 | M34: 732.45131 | N34: 554.6692 | O34: =AVERAGE(E34:N34) -> 450.76281 | P34: =AVERAGE(I34:N34) -> 537.75945 | Q34: =AVERAGE(J34:N34) -> 543.96114 | R34: =AVERAGE(K34:N34) -> 535.11565
A35: 28 | B35: LIBERIA | C35: D | D35: ='GTM-EU Proposals'!$F$13 -> 3500 | E35: 88 | F35: 76.234 | G35: 87.9364 | H35: 1.9074 | I35: 6.35574 | J35: 1731.0806 | K35: 0.652 | L35: 0.3691 | M35: 3.968 | N35: 0.518431 | O35: =AVERAGE(E35:N35) -> 199.70217 | P35: =AVERAGE(I35:N35) -> 290.49064 | Q35: =AVERAGE(J35:N35) -> 347.31762 | R35: =AVERAGE(K35:N35) -> 1.3768828
A36: 29 | B36: MAROC | C36: D | D36: ='GTM-EU Proposals'!$F$13 -> 3500 | E36: 72.422 | F36: 115 | G36: 113 | H36: 108 | I36: 228.1 | J36: 343.5 | K36: 493.4 | L36: 640.07 | M36: 844.64 | N36: 968.57 | O36: =AVERAGE(E36:N36) -> 392.6702 | P36: =AVERAGE(I36:N36) -> 586.38 | Q36: =AVERAGE(J36:N36) -> 658.036 | R36: =AVERAGE(K36:N36) -> 736.67
A37: 30 | B37: MAURITANIA | C37: D | D37: ='GTM-EU Proposals'!$F$13 -> 3500 | F37: 0.096 | O37: =AVERAGE(E37:N37) -> 0.096 | P37: 0 | Q37: 0 | R37: 0
A38: 31 | B38: MEXICO | C38: D | D38: ='GTM-EU Proposals'!$F$13 -> 3500 | E38: 962.588 | F38: 1281.986 | G38: 1244.195 | H38: 1033.117 | I38: 763.185 | J38: 821.113 | K38: 884.766 | L38: 608.567 | M38: 593.465 | N38: 482.556 | O38: =AVERAGE(E38:N38) -> 867.5538 | P38: =AVERAGE(I38:N38) -> 692.27533 | Q38: =AVERAGE(J38:N38) -> 678.0934 | R38: =AVERAGE(K38:N38) -> 642.3385
A39: 32 | B39: NAMIBIA | C39: D | D39: ='GTM-EU Proposals'!$F$13 -> 3500 | E39: 42.2 | F39: 52.9 | G39: 53.29 | H39: 423.769 | I39: 81.762 | J39: 327.234 | K39: 255.976 | L39: 355.935 | M39: 156.233 | N39: 75.99691 | O39: =AVERAGE(E39:N39) -> 182.52959 | P39: =AVERAGE(I39:N39) -> 208.85615 | Q39: =AVERAGE(J39:N39) -> 234.27498 | R39: =AVERAGE(K39:N39) -> 211.03523
A40: 33 | B40: S. TOMÉ E PRINCIPE | C40: D | D40: ='GTM-EU Proposals'!$F$13 -> 3500 | E40: 300.7 | F40: 301.4 | G40: 266 | H40: 14.32 | I40: 16.779 | J40: 12.985 | K40: 14.8855 | L40: 23.7362 | M40: 24.005 | N40: 89.9 | O40: =AVERAGE(E40:N40) -> 106.47107 | P40: =AVERAGE(I40:N40) -> 30.381783 | Q40: =AVERAGE(J40:N40) -> 33.10234 | R40: =AVERAGE(K40:N40) -> 38.131675
A41: 34 | B41: SOUTH AFRICA | C41: D | D41: ='GTM-EU Proposals'!$F$13 -> 3500 | E41: 925.43529 | F41: 706.11108 | G41: 386.88091 | H41: 389.31688 | I41: 551.08571 | J41: 700.12572 | K41: 398.28521 | L41: 1017.7091 | M41: 1746.2871 | N41: 1012.5512 | O41: =AVERAGE(E41:N41) -> 783.37882 | P41: =AVERAGE(I41:N41) -> 904.34067 | Q41: =AVERAGE(J41:N41) -> 974.99167 | R41: =AVERAGE(K41:N41) -> 1043.7082
A42: 35 | B42: St VINCENT & GRENADINES | C42: D | D42: ='GTM-EU Proposals'!$F$13 -> 3500 | E42: 152.7724 | F42: 433.875 | G42: 771.583 | H42: 373.3065 | I42: 104.63777 | J42: 225.844 | K42: 3.4683 | L42: 105.725 | M42: 4.96238 | N42: 96.245 | O42: =AVERAGE(E42:N42) -> 227.24193 | P42: =AVERAGE(I42:N42) -> 90.147075 | Q42: =AVERAGE(J42:N42) -> 87.248936 | R42: =AVERAGE(K42:N42) -> 52.60017
A43: 36 | B43: Suriname | C43: D | D43: ='GTM-EU Proposals'!$F$13 -> 3500 | M43: 309.506 | N43: 1297.43 | O43: =AVERAGE(E43:N43) -> 803.468 | P43: =AVERAGE(I43:N43) -> 803.468 | Q43: =AVERAGE(J43:N43) -> 803.468 | R43: =AVERAGE(K43:N43) -> 803.468
A44: 37 | B44: TRINIDAD & TOBAGO | C44: D | D44: ='GTM-EU Proposals'!$F$13 -> 3500 | E44: 1179.4284 | F44: 1056.9023 | G44: 889.90537 | H44: 1214.0665 | I44: 981.58719 | J44: 973.28735 | K44: 1243.9195 | L44: 1080.1863 | M44: 1169.1082 | N44: 1040.569 | O44: =AVERAGE(E44:N44) -> 1082.896 | P44: =AVERAGE(I44:N44) -> 1081.4429 | Q44: =AVERAGE(J44:N44) -> 1101.4141 | R44: =AVERAGE(K44:N44) -> 1133.4458
A45: 38 | B45: UNITED KINGDOM | C45: D | D45: ='GTM-EU Proposals'!$F$13 -> 3500 | E45: 193.0674 | F45: 190.33 | G45: 245.7968 | H45: 230.734 | I45: 359.8692 | J45: 139.67652 | K45: 158.45411 | L45: 132.8629 | M45: 140.02758 | N45: 154.42531 | O45: =AVERAGE(E45:N45) -> 194.52438 | P45: =AVERAGE(I45:N45) -> 180.88594 | Q45: =AVERAGE(J45:N45) -> 145.08928 | R45: =AVERAGE(K45:N45) -> 146.44248
A46: 39 | B46: VENEZUELA | C46: D | D46: ='GTM-EU Proposals'!$F$13 -> 3500 | E46: 3130.0645 | F46: 4220.8099 | G46: 5109.9296 | H46: 2783.6407 | I46: 2098.8538 | J46: 1949.4481 | K46: 1977.8008 | L46: 3171.9328 | M46: 3485.8538 | N46: 2865.3087 | O46: =AVERAGE(E46:N46) -> 3079.3643 | P46: =AVERAGE(I46:N46) -> 2591.533 | Q46: =AVERAGE(J46:N46) -> 2690.0689 | R46: =AVERAGE(K46:N46) -> 2875.2241
A47: Subtotal Group D (13000) | E47: =SUM(E17:E46) -> 26898.02 | F47: =SUM(F17:F46) -> 25893.721 | G47: =SUM(G17:G46) -> 23652.148 | H47: =SUM(H17:H46) -> 21451.776 | I47: =SUM(I17:I46) -> 21291.544 | J47: =SUM(J17:J46) -> 26384.707 | K47: =SUM(K17:K46) -> 16789.253 | L47: =SUM(L17:L46) -> 24323.375 | ... R47: =SUM(R17:R46) -> 24025.188
B48: Non-contracting parties | C48: - | E48: 368.88022 | F48: 373.96331 | G48: 406.97237 | H48: 123.34531 | I48: 350.95366 | J48: 502.50511 | K48: 156.30912 | L48: 173.8021 | M48: 156.18261 | N48: 112.11722 | O48: =AVERAGE(E48:N48) -> 272.5031 | P48: =AVERAGE(I48:N48) -> 241.9783 | Q48: =AVERAGE(J48:N48) -> 220.18323 | R48: =AVERAGE(K48:N48) -> 149.60276
A49: TOTAL | E49: =SUM(E7,E12,E16,E47,E48) -> 128220.12 | F49: =SUM(F7,F12,F16,F47,F48) -> 149756.5 | G49: =SUM(G7,G12,G16,G47,G48) -> 135103.32 | H49: =SUM(H7,H12,H16,H47,H48) -> 135396.97 | I49: =SUM(I7,I12,I16,I47,I48) -> 135975.28 | J49: =SUM(J7,J12,J16,J47,J48) -> 153379.22 | K49: =SUM(K7,K12,K16,K47,K48) -> 120254.58 | L49: =SUM(L7,L12,L16,L47,L48) -> 148566.56 | ... N49: =SUM(N7,N12,N16,N47,N48) -> 138291.36 | O49: =SUM(O48,O47,O16,O12,O7) -> 140342.54 | P49: =SUM(P48,P47,P16,P12,P7) -> 141313.65 | Q49: =SUM(Q48,Q47,Q16,Q12,Q7) -> 141989.65 | R49: =SUM(R48,R47,R16,R12,R7) -> 138480.78
B50: * YFT Reported catches as of 2026-05-06 / Prises de YFT déclarées au 2026-05-06 / Capturas de YFT declaradas a 2026-05-06 (t)
B51: ** Cells in orange do not represent a fixed catch limit but a trigger threshold. If the annual catches of yellowfin tuna by a CPC in Category D exceed this threshold in two consecutive years from 2027, Panel 1 shall determine a binding catch limit to apply to that CPC in future years. / ** Les cases en orange ne représentent pas une limite de capture fixe, mais un seuil de déclenchement. Si les captures annuelles d'albacore effectuées par une CPC de la Catégorie D dépassent ce seuil pendant deux années consécutives à partir de 2027, la Sous-Commission 1 déterminera une limite de capture contraignante qui s'appliquera à cette CPC pour les années futures. / ** Las celdas en naranja no representan un límite de captura fijo, sino un umbral de activación. Si las capturas anuales de rabil realizadas por una CPC de la Categoría D superan este umbral durante dos años consecutivos a partir de 2027, el Panel 1 determinará un límite de captura vinculante que se aplicará a esa CPC en el futuro.
B52: Since Rec. 12-01 / Depuis la Rec. 12-01 / Desde la Rec. 12-01 TAC YFT = 110000 t

Sheet EU-Best
B1: EU Proposal - PA1_MAY_29/i2026
B2: Secretariat's calculations on YFT catches for the last ten years / Calculs du Secrétariat concernant les captures d'albacore pour les dix dernières années / Cálculos de la Secretaría sobre las capturas de rabil para los últimos diez años
I3: Year*
A4: ID | B4: CPC | C4: GROUP | D4: CATCH LIMIT** | E4: 2015 | F4: 2016 | G4: 2017 | H4: 2018 | I4: 2019 | J4: 2020 | K4: 2021 | L4: 2022 | M4: 2023 | N4: 2024 | O4: BestY1 | P4: BestY2 | Q4: BestY3 | R4: BestY4 | S4: BestY5 | T4: BestY6 | U4: AvgBest6 | V4: AvgBest5 | W4: AvgBest4
A5: 1 | B5: EUROPEAN UNION | C5: =VLOOKUP(A5,'GTM-EU Proposals'!$L$3:$O$17,3,0) -> A | D5: =VLOOKUP(A5,'GTM-EU Proposals'!$L$3:$O$17,4,0) -> 31526 | E5: 43377.29 | F5: 47163.069 | G5: 39643.261 | H5: 37236.932 | I5: 34296.247 | J5: 37423.343 | K5: 24152.047 | L5: 30064.575 | M5: 26045.996 | N5: 31071.245 | O5: {=IFERROR(LARGE(E5:N5,{1,2,3,4,5,6}), "")} -> 47163.069 | P5: 43377.29 | Q5: 39643.261 | R5: 37423.343 | S5: 37236.932 | T5: 34296.247 | U5: =SUM(_xlfn.ANCHORARRAY(O5))/6 -> 39856.69 | V5: =SUM(O5:S5)/5 -> 40968.779 | W5: =SUM(O5:R5)/4 -> 41901.741
A6: 2 | B6: GHANA | C6: =VLOOKUP(A6,'GTM-EU Proposals'!$L$3:$O$17,3,0) -> A | D6: =VLOOKUP(A6,'GTM-EU Proposals'!$L$3:$O$17,4,0) -> 21113 | E6: 19659 | F6: 20217.6 | G6: 20398.4 | H6: 24346 | I6: 26242.5 | J6: 26435 | K6: 21263.5 | L6: 29550 | M6: 22159 | N6: 25452 | O6: {=IFERROR(LARGE(E6:N6,{1,2,3,4,5,6}), "")} -> 29550 | P6: 26435 | Q6: 26242.5 | R6: 25452 | S6: 24346 | T6: 22159 | U6: =SUM(_xlfn.ANCHORARRAY(O6))/6 -> 25697.417 | V6: =SUM(O6:S6)/5 -> 26405.1 | W6: =SUM(O6:R6)/4 -> 26919.875
A7: 3 | B7: BRAZIL | C7: =VLOOKUP(A7,'GTM-EU Proposals'!$L$3:$O$17,3,0) -> A | D7: =VLOOKUP(A7,'GTM-EU Proposals'!$L$3:$O$17,4,0) -> 14076 | E7: 13643.343 | F7: 16681.775 | G7: 18362.306 | H7: 16381.177 | I7: 12907.16 | J7: 13183.011 | K7: 13663.997 | L7: 15716 | M7: 18894 | N7: 17729.408 | O7: {=LARGE(E7:N7,{1,2,3,4,5,6})} -> 18894 | P7: 18362.306 | Q7: 17729.408 | R7: 16681.775 | S7: 16381.177 | T7: 15716 | U7: =SUM(_xlfn.ANCHORARRAY(O7))/6 -> 17294.111 | V7: =SUM(O7:S7)/5 -> 17609.733 | W7: =SUM(O7:R7)/4 -> 17916.873
A8: 4 | B8: BELIZE | C8: =VLOOKUP(A8,'GTM-EU Proposals'!$L$3:$O$17,3,0) -> A | D8: =VLOOKUP(A8,'GTM-EU Proposals'!$L$3:$O$17,4,0) -> 7947 | E8: 7131.854 | F8: 5659.877 | G8: 6169.678 | H8: 8743.425 | I8: 10107.127 | J8: 9340.972 | K8: 8196.874 | L8: 10117.881 | M8: 9647.399 | N8: 13612.592 | O8: {=LARGE(E8:N8,{1,2,3,4,5,6})} -> 13612.592 | P8: 10117.881 | Q8: 10107.127 | R8: 9647.399 | S8: 9340.972 | T8: 8743.425 | U8: =SUM(_xlfn.ANCHORARRAY(O8))/6 -> 10261.566 | V8: =SUM(O8:S8)/5 -> 10565.194 | W8: =SUM(O8:R8)/4 -> 10871.25
A9: 5 | B9: SENEGAL | C9: =VLOOKUP(A9,'GTM-EU Proposals'!$L$3:$O$17,3,0) -> A | D9: =VLOOKUP(A9,'GTM-EU Proposals'!$L$3:$O$17,4,0) -> 7522 | E9: 1883.15 | F9: 6850.0388 | G9: 3956.9248 | H9: 5029.246 | I9: 8160.611 | J9: 8177.352 | K9: 8227.6166 | L9: 9407.244 | M9: 17027.175 | N9: 15164.493 | O9: {=IFERROR(LARGE(E9:N9,{1,2,3,4,5,6}), "")} -> 17027.175 | P9: 15164.493 | Q9: 9407.244 | R9: 8227.6166 | S9: 8177.352 | T9: 8160.611 | U9: =SUM(_xlfn.ANCHORARRAY(O9))/6 -> 11027.415 | V9: =SUM(O9:S9)/5 -> 11600.776 | W9: =SUM(O9:R9)/4 -> 12456.632
A10: 6 | B10: PANAMA | C10: =VLOOKUP(A10,'GTM-EU Proposals'!$L$3:$O$17,3,0) -> A | D10: =VLOOKUP(A10,'GTM-EU Proposals'!$L$3:$O$17,4,0) -> 6637 | E10: 3412.358 | F10: 6167.964 | G10: 5090.282 | H10: 6175.181 | I10: 8244.871 | J10: 10376.424 | K10: 9712.158 | L10: 12013.145 | M10: 8568.4163 | N10: 1421.63 | O10: {=IFERROR(LARGE(E10:N10,{1,2,3,4,5,6}), "")} -> 12013.145 | P10: 10376.424 | Q10: 9712.158 | R10: 8568.4163 | S10: 8244.871 | T10: 6175.181 | U10: =SUM(_xlfn.ANCHORARRAY(O10))/6 -> 9181.6992 | V10: =SUM(O10:S10)/5 -> 9783.0029 | W10: =SUM(O10:R10)/4 -> 10167.536
A11: 7 | B11: EL SALVADOR | C11: =VLOOKUP(A11,'GTM-EU Proposals'!$L$3:$O$17,3,0) -> A | D11: =VLOOKUP(A11,'GTM-EU Proposals'!$L$3:$O$17,4,0) -> 5406 | E11: 2781 | F11: 8633 | G11: 6317.963 | H11: 5574.146 | I11: 3976.056 | J11: 8812.85 | K11: 6336.6 | L11: 6322.43 | M11: 4577.78 | N11: 7027.19 | O11: {=IFERROR(LARGE(E11:N11,{1,2,3,4,5,6}), "")} -> 8812.85 | P11: 8633 | Q11: 7027.19 | R11: 6336.6 | S11: 6322.43 | T11: 6317.963 | U11: =SUM(_xlfn.ANCHORARRAY(O11))/6 -> 7241.6722 | V11: =SUM(O11:S11)/5 -> 7426.414 | W11: =SUM(O11:R11)/4 -> 7702.41
A12: 8 | B12: CURAÇAO | C12: =VLOOKUP(A12,'GTM-EU Proposals'!$L$3:$O$17,3,0) -> A | D12: =VLOOKUP(A12,'GTM-EU Proposals'!$L$3:$O$17,4,0) -> 5157 | E12: 6267.32 | F12: 8011.606 | G12: 6661.282 | H12: 7615.315 | I12: 7773.035 | J12: 9081.13 | K12: 7795.8332 | L12: 3122.173 | M12: 1249.9 | O12: {=IFERROR(LARGE(E12:N12,{1,2,3,4,5,6}), "")} -> 9081.13 | P12: 8011.606 | Q12: 7795.8332 | R12: 7773.035 | S12: 7615.315 | T12: 6661.282 | U12: =SUM(_xlfn.ANCHORARRAY(O12))/6 -> 7823.0335 | V12: =SUM(O12:S12)/5 -> 8055.3838 | W12: =SUM(O12:R12)/4 -> 8165.401
A13: 9 | B13: JAPAN | C13: =VLOOKUP(A13,'GTM-EU Proposals'!$L$3:$O$17,3,0) -> A | D13: =VLOOKUP(A13,'GTM-EU Proposals'!$L$3:$O$17,4,0) -> 3588 | E13: 3469.557 | F13: 3375.782 | G13: 3123.097 | H13: 3099.295 | I13: 4055.756 | J13: 2662.148 | K13: 3073.444 | L13: 4198.669 | M13: 5915.256 | N13: 5721.432 | O13: {=IFERROR(LARGE(E13:N13,{1,2,3,4,5,6}), "")} -> 5915.256 | P13: 5721.432 | Q13: 4198.669 | R13: 4055.756 | S13: 3469.557 | T13: 3375.782 | U13: =SUM(_xlfn.ANCHORARRAY(O13))/6 -> 4456.0753 | V13: =SUM(O13:S13)/5 -> 4672.134 | W13: =SUM(O13:R13)/4 -> 4972.7782
A14: 10 | B14: CABO VERDE | C14: =VLOOKUP(A14,'GTM-EU Proposals'!$L$3:$O$17,3,0) -> A | D14: =VLOOKUP(A14,'GTM-EU Proposals'!$L$3:$O$17,4,0) -> 3450 | E14: 7866.109 | F14: 6989.53 | G14: 2837.0497 | H14: 5584.1112 | I14: 3698.7502 | J14: 6259.196 | K14: 2042.5459 | L14: 952.00758 | M14: 326.964 | N14: 1209.547 | O14: {=LARGE(E14:N14,{1,2,3,4,5,6})} -> 7866.109 | P14: 6989.53 | Q14: 6259.196 | R14: 5584.1112 | S14: 3698.7502 | T14: 2837.0497 | U14: =SUM(_xlfn.ANCHORARRAY(O14))/6 -> 5539.1244 | V14: =SUM(O14:S14)/5 -> 6079.5393 | W14: =SUM(O14:R14)/4 -> 6674.7366
A15: 11 | B15: UNITED STATES | C15: =VLOOKUP(A15,'GTM-EU Proposals'!$L$3:$O$17,3,0) -> A | D15: =VLOOKUP(A15,'GTM-EU Proposals'!$L$3:$O$17,4,0) -> 3423 | E15: 2797.904 | F15: 4103.888 | G15: 4444.107 | H15: 2720.431 | I15: 2625.175 | J15: 3661.929 | K15: 3960.39 | L15: 7755.937 | M15: 3093.408 | N15: 3047.949 | O15: {=IFERROR(LARGE(E15:N15,{1,2,3,4,5,6}), "")} -> 7755.937 | P15: 4444.107 | Q15: 4103.888 | R15: 3960.39 | S15: 3661.929 | T15: 3093.408 | U15: =SUM(_xlfn.ANCHORARRAY(O15))/6 -> 4503.2765 | V15: =SUM(O15:S15)/5 -> 4785.2502 | W15: =SUM(O15:R15)/4 -> 5066.0805
A16: 12 | B16: VENEZUELA | C16: =VLOOKUP(A16,'GTM-EU Proposals'!$L$3:$O$17,3,0) -> A | D16: =VLOOKUP(A16,'GTM-EU Proposals'!$L$3:$O$17,4,0) -> 2759 | E16: 3130.0645 | F16: 4220.8099 | G16: 5109.9296 | H16: 2783.6407 | I16: 2098.8538 | J16: 1949.4481 | K16: 1977.8008 | L16: 3171.9328 | M16: 3485.8538 | N16: 2865.3087 | O16: {=IFERROR(LARGE(E16:N16,{1,2,3,4,5,6}), "")} -> 5109.9296 | P16: 4220.8099 | Q16: 3485.8538 | R16: 3171.9328 | S16: 3130.0645 | T16: 2865.3087 | U16: =SUM(_xlfn.ANCHORARRAY(O16))/6 -> 3663.9832 | V16: =SUM(O16:S16)/5 -> 3823.7181 | W16: =SUM(O16:R16)/4 -> 3997.1315
A17: 13 | B17: GUATEMALA | C17: =VLOOKUP(A17,'GTM-EU Proposals'!$L$3:$O$17,3,0) -> A | D17: =VLOOKUP(A17,'GTM-EU Proposals'!$L$3:$O$17,4,0) -> 2550 | E17: 5200.262 | F17: 2720.34 | G17: 3718.447 | H17: 2538.635 | I17: 2957.044 | J17: 2594.11 | K17: 1882.949 | L17: 4263.8729 | M17: 2596.0147 | O17: {=IFERROR(LARGE(E17:N17,{1,2,3,4,5,6}), "")} -> 5200.262 | P17: 4263.8729 | Q17: 3718.447 | R17: 2957.044 | S17: 2720.34 | T17: 2596.0147 | U17: =SUM(_xlfn.ANCHORARRAY(O17))/6 -> 3575.9968 | V17: =SUM(O17:S17)/5 -> 3771.9932 | W17: =SUM(O17:R17)/4 -> 4034.9065
A18: 14 | B18: CÔTE D'IVOIRE | C18: =VLOOKUP(A18,'GTM-EU Proposals'!$L$3:$O$17,3,0) -> A | D18: =VLOOKUP(A18,'GTM-EU Proposals'!$L$3:$O$17,4,0) -> 1770 | E18: 250.92598 | F18: 314.916 | G18: 951.65837 | H18: 116.16465 | I18: 2649.3721 | J18: 4459.5142 | K18: 2117.156 | L18: 3336.218 | M18: 1434.487 | N18: 2637.2605 | O18: {=IFERROR(LARGE(E18:N18,{1,2,3,4,5,6}), "")} -> 4459.5142 | P18: 3336.218 | Q18: 2649.3721 | R18: 2637.2605 | S18: 2117.156 | T18: 1434.487 | U18: =SUM(_xlfn.ANCHORARRAY(O18))/6 -> 2772.3346 | V18: =SUM(O18:S18)/5 -> 3039.9042 | W18: =SUM(O18:R18)/4 -> 3270.5912
A19: Subtotal Group A | E19: =SUM(E5:E18) -> 120870.14 | F19: =SUM(F5:F18) -> 141110.2 | G19: =SUM(G5:G18) -> 126784.39 | H19: =SUM(H5:H18) -> 127943.7 | I19: =SUM(I5:I18) -> 129792.56 | J19: =SUM(J5:J18) -> 144416.43 | K19: =SUM(K5:K18) -> 114402.91 | L19: =SUM(L5:L18) -> 139992.09 | ... W19: =SUM(W5:W18) -> 164117.94
A20: 15 | B20: ANGOLA | C20: B | D20: ='GTM-EU Proposals'!$Q$18 -> 1575 | G20: 1.582 | H20: 2.8 | I20: 0 | J20: 1.27238 | K20: 7.74999 | L20: 14.725 | M20: 5.076 | N20: 8.675 | O20: {=LARGE(E20:N20,{1,2,3,4,5,6})} -> 14.725 | P20: 8.675 | Q20: 7.74999 | R20: 5.076 | S20: 2.8 | T20: 1.582 | U20: =SUM(_xlfn.ANCHORARRAY(O20))/6 -> 6.7679983 | V20: =SUM(O20:S20)/5 -> 7.805198 | W20: =SUM(O20:R20)/4 -> 9.0564975
A21: 16 | B21: BARBADOS | C21: B | D21: ='GTM-EU Proposals'!$Q$18 -> 1575 | E21: 262.279 | F21: 324.251 | G21: 269.519 | H21: 248.284 | I21: 121.056 | J21: 173.096 | K21: 212.495 | L21: 201.637 | M21: 236.64 | N21: 188.3531 | O21: {=LARGE(E21:N21,{1,2,3,4,5,6})} -> 324.251 | P21: 269.519 | Q21: 262.279 | R21: 248.284 | S21: 236.64 | T21: 212.495 | U21: =SUM(_xlfn.ANCHORARRAY(O21))/6 -> 258.91133 | V21: =SUM(O21:S21)/5 -> 268.1946 | W21: =SUM(O21:R21)/4 -> 276.08325
A22: 17 | B22: CANADA | C22: B | D22: ='GTM-EU Proposals'!$Q$18 -> 1575 | E22: 59.013606 | F22: 19.488689 | G22: 193.07766 | H22: 14.646455 | I22: 108.17127 | J22: 75.077376 | K22: 110.87202 | L22: 198.67439 | M22: 175.02158 | N22: 162.80617 | O22: {=LARGE(E22:N22,{1,2,3,4,5,6})} -> 198.67439 | P22: 193.07766 | Q22: 175.02158 | R22: 162.80617 | S22: 110.87202 | T22: 108.17127 | U22: =SUM(_xlfn.ANCHORARRAY(O22))/6 -> 158.10385 | V22: =SUM(O22:S22)/5 -> 168.09036 | W22: =SUM(O22:R22)/4 -> 182.39495
A23: 18 | B23: CHINA PR. | C23: B | D23: ='GTM-EU Proposals'!$Q$18 -> 1575 | E23: 169.551 | F23: 467.746 | G23: 578.379 | H23: 359.458 | I23: 320.862 | J23: 461.128 | K23: 140.032 | L23: 528.594 | M23: 2444.352 | N23: 2746.789 | O23: {=LARGE(E23:N23,{1,2,3,4,5,6})} -> 2746.789 | P23: 2444.352 | Q23: 578.379 | R23: 528.594 | S23: 467.746 | T23: 461.128 | U23: =SUM(_xlfn.ANCHORARRAY(O23))/6 -> 1204.498 | V23: =SUM(O23:S23)/5 -> 1353.172 | W23: =SUM(O23:R23)/4 -> 1574.5285
A24: 19 | B24: Chinese Taipei | C24: B | D24: ='GTM-EU Proposals'!$Q$18 -> 1575 | E24: 1220 | F24: 942 | G24: 776 | H24: 945 | I24: 736 | J24: 870 | K24: 468 | L24: 669 | M24: 873 | N24: 760 | O24: {=LARGE(E24:N24,{1,2,3,4,5,6})} -> 1220 | P24: 945 | Q24: 942 | R24: 873 | S24: 870 | T24: 776 | U24: =SUM(_xlfn.ANCHORARRAY(O24))/6 -> 937.66667 | V24: =SUM(O24:S24)/5 -> 970 | W24: =SUM(O24:R24)/4 -> 995
A25: 20 | B25: COSTA RICA | C25: B | D25: ='GTM-EU Proposals'!$Q$18 -> 1575 | E25: 116.81 | F25: 138.768 | G25: 183.072 | H25: 113.509 | I25: 74.311 | J25: 116.6395 | K25: 150.2452 | L25: 54.08863 | M25: 51.58155 | N25: 114.637 | O25: {=LARGE(E25:N25,{1,2,3,4,5,6})} -> 183.072 | P25: 150.2452 | Q25: 138.768 | R25: 116.81 | S25: 116.6395 | T25: 114.637 | U25: =SUM(_xlfn.ANCHORARRAY(O25))/6 -> 136.69528 | V25: =SUM(O25:S25)/5 -> 141.10694 | W25: =SUM(O25:R25)/4 -> 147.2238
A26: 21 | B26: FRANCE (St-Pierre et Miquelon) | C26: B | D26: ='GTM-EU Proposals'!$Q$18 -> 1575 | H26: 0 | O26: {=IFERROR(LARGE(E26:N26,{1,2,3,4,5,6}), "")} -> 0 | U26: =SUM(_xlfn.ANCHORARRAY(O26))/6 -> 0 | V26: =SUM(O26:S26)/5 -> 0 | W26: =SUM(O26:R26)/4 -> 0
A27: 22 | B27: GABON | C27: B | D27: ='GTM-EU Proposals'!$Q$18 -> 1575 | F27: 1 | G27: 3 | O27: {=IFERROR(LARGE(E27:N27,{1,2,3,4,5,6}), "")} -> 3 | P27: 1 | U27: =SUM(_xlfn.ANCHORARRAY(O27))/6 -> 0.66666667 | V27: =SUM(O27:S27)/5 -> 0.8 | W27: =SUM(O27:R27)/4 -> 1
A28: 23 | B28: GAMBIA | C28: B | D28: ='GTM-EU Proposals'!$Q$18 -> 1575 | J28: 0.72 | O28: {=IFERROR(LARGE(E28:N28,{1,2,3,4,5,6}), "")} -> 0.72 | U28: =SUM(_xlfn.ANCHORARRAY(O28))/6 -> 0.12 | V28: =SUM(O28:S28)/5 -> 0.144 | W28: =SUM(O28:R28)/4 -> 0.18
A29: 24 | B29: GRENADA | C29: B | D29: ='GTM-EU Proposals'!$Q$18 -> 1575 | E29: 1166.8029 | F29: 1606.9336 | G29: 1257.3833 | H29: 1391.2574 | I29: 818.38533 | J29: 783.57568 | K29: 286.542 | L29: 956.927 | M29: 2139.2743 | N29: 1086.487 | O29: {=IFERROR(LARGE(E29:N29,{1,2,3,4,5,6}), "")} -> 2139.2743 | P29: 1606.9336 | Q29: 1391.2574 | R29: 1257.3833 | S29: 1166.8029 | T29: 1086.487 | U29: =SUM(_xlfn.ANCHORARRAY(O29))/6 -> 1441.3564 | V29: =SUM(O29:S29)/5 -> 1512.3303 | W29: =SUM(O29:R29)/4 -> 1598.7122
A30: 25 | B30: GUINEA ECUATORIAL | C30: B | D30: ='GTM-EU Proposals'!$Q$18 -> 1575 | E30: 8.703 | F30: 6.294 | H30: 8.453 | I30: 10.258 | J30: 8.378 | K30: 6.7821 | L30: 4.33775 | M30: 0.937 | N30: 0.013 | O30: {=IFERROR(LARGE(E30:N30,{1,2,3,4,5,6}), "")} -> 10.258 | P30: 8.703 | Q30: 8.453 | R30: 8.378 | S30: 6.7821 | T30: 6.294 | U30: =SUM(_xlfn.ANCHORARRAY(O30))/6 -> 8.1446833 | V30: =SUM(O30:S30)/5 -> 8.51482 | W30: =SUM(O30:R30)/4 -> 8.948
A31: 26 | B31: GUINÉE REP. | C31: B | D31: ='GTM-EU Proposals'!$Q$18 -> 1575 | K31: 322 | L31: 1327 | M31: 913 | N31: 378 | O31: {=IFERROR(LARGE(E31:N31,{1,2,3,4,5,6}), "")} -> 1327 | P31: 913 | Q31: 378 | R31: 322 | U31: =SUM(_xlfn.ANCHORARRAY(O31))/6 -> 490 | V31: =SUM(O31:S31)/5 -> 588 | W31: =SUM(O31:R31)/4 -> 735
A32: 27 | B32: Guyana | C32: B | D32: ='GTM-EU Proposals'!$Q$18 -> 1575 | E32: 13.62 | F32: 182.928 | G32: 180.612 | H32: 3.475 | I32: 42.612 | J32: 116.21459 | K32: 164.02 | O32: {=IFERROR(LARGE(E32:N32,{1,2,3,4,5,6}), "")} -> 182.928 | P32: 180.612 | Q32: 164.02 | R32: 116.21459 | S32: 42.612 | T32: 13.62 | U32: =SUM(_xlfn.ANCHORARRAY(O32))/6 -> 116.66776 | V32: =SUM(O32:S32)/5 -> 137.27732 | W32: =SUM(O32:R32)/4 -> 160.94365
A33: 28 | B33: KOREA REP. | C33: B | D33: ='GTM-EU Proposals'!$Q$18 -> 1575 | E33: 47.70877 | F33: 368.099 | G33: 410.75387 | H33: 454.50973 | I33: 506.751 | J33: 579.34309 | K33: 372.81186 | L33: 480.53024 | M33: 732.45131 | N33: 554.6692 | O33: {=IFERROR(LARGE(E33:N33,{1,2,3,4,5,6}), "")} -> 732.45131 | P33: 579.34309 | Q33: 554.6692 | R33: 506.751 | S33: 480.53024 | T33: 454.50973 | U33: =SUM(_xlfn.ANCHORARRAY(O33))/6 -> 551.37576 | V33: =SUM(O33:S33)/5 -> 570.74897 | W33: =SUM(O33:R33)/4 -> 593.30365
A34: 29 | B34: LIBERIA | C34: B | D34: ='GTM-EU Proposals'!$Q$18 -> 1575 | E34: 88 | F34: 76.234 | G34: 87.9364 | H34: 1.9074 | I34: 6.35574 | J34: 1731.0806 | K34: 0.652 | L34: 0.3691 | M34: 3.968 | N34: 0.518431 | O34: {=IFERROR(LARGE(E34:N34,{1,2,3,4,5,6}), "")} -> 1731.0806 | P34: 88 | Q34: 87.9364 | R34: 76.234 | S34: 6.35574 | T34: 3.968 | U34: =SUM(_xlfn.ANCHORARRAY(O34))/6 -> 332.26245 | V34: =SUM(O34:S34)/5 -> 397.92135 | W34: =SUM(O34:R34)/4 -> 495.81275
A35: 30 | B35: MAROC | C35: B | D35: ='GTM-EU Proposals'!$Q$18 -> 1575 | E35: 72.422 | F35: 115 | G35: 113 | H35: 108 | I35: 228.1 | J35: 343.5 | K35: 493.4 | L35: 640.07 | M35: 844.64 | N35: 968.57 | O35: {=IFERROR(LARGE(E35:N35,{1,2,3,4,5,6}), "")} -> 968.57 | P35: 844.64 | Q35: 640.07 | R35: 493.4 | S35: 343.5 | T35: 228.1 | U35: =SUM(_xlfn.ANCHORARRAY(O35))/6 -> 586.38 | V35: =SUM(O35:S35)/5 -> 658.036 | W35: =SUM(O35:R35)/4 -> 736.67
A36: 31 | B36: MAURITANIA | C36: B | D36: ='GTM-EU Proposals'!$Q$18 -> 1575 | F36: 0.096 | O36: {=IFERROR(LARGE(E36:N36,{1,2,3,4,5,6}), "")} -> 0.096 | U36: =SUM(_xlfn.ANCHORARRAY(O36))/6 -> 0.016 | V36: =SUM(O36:S36)/5 -> 0.0192 | W36: =SUM(O36:R36)/4 -> 0.024
A37: 32 | B37: MEXICO | C37: B | D37: ='GTM-EU Proposals'!$Q$18 -> 1575 | E37: 962.588 | F37: 1281.986 | G37: 1244.195 | H37: 1033.117 | I37: 763.185 | J37: 821.113 | K37: 884.766 | L37: 608.567 | M37: 593.465 | N37: 482.556 | O37: {=IFERROR(LARGE(E37:N37,{1,2,3,4,5,6}), "")} -> 1281.986 | P37: 1244.195 | Q37: 1033.117 | R37: 962.588 | S37: 884.766 | T37: 821.113 | U37: =SUM(_xlfn.ANCHORARRAY(O37))/6 -> 1037.9608 | V37: =SUM(O37:S37)/5 -> 1081.3304 | W37: =SUM(O37:R37)/4 -> 1130.4715
A38: 33 | B38: NAMIBIA | C38: B | D38: ='GTM-EU Proposals'!$Q$18 -> 1575 | E38: 42.2 | F38: 52.9 | G38: 53.29 | H38: 423.769 | I38: 81.762 | J38: 327.234 | K38: 255.976 | L38: 355.935 | M38: 156.233 | N38: 75.99691 | O38: {=IFERROR(LARGE(E38:N38,{1,2,3,4,5,6}), "")} -> 423.769 | P38: 355.935 | Q38: 327.234 | R38: 255.976 | S38: 156.233 | T38: 81.762 | U38: =SUM(_xlfn.ANCHORARRAY(O38))/6 -> 266.81817 | V38: =SUM(O38:S38)/5 -> 303.8294 | W38: =SUM(O38:R38)/4 -> 340.7285
A39: 34 | B39: S. TOMÉ E PRINCIPE | C39: B | D39: ='GTM-EU Proposals'!$Q$18 -> 1575 | E39: 300.7 | F39: 301.4 | G39: 266 | H39: 14.32 | I39: 16.779 | J39: 12.985 | K39: 14.8855 | L39: 23.7362 | M39: 24.005 | N39: 89.9 | O39: {=IFERROR(LARGE(E39:N39,{1,2,3,4,5,6}), "")} -> 301.4 | P39: 300.7 | Q39: 266 | R39: 89.9 | S39: 24.005 | T39: 23.7362 | U39: =SUM(_xlfn.ANCHORARRAY(O39))/6 -> 167.62353 | V39: =SUM(O39:S39)/5 -> 196.401 | W39: =SUM(O39:R39)/4 -> 239.5
A40: 35 | B40: SOUTH AFRICA | C40: B | D40: ='GTM-EU Proposals'!$Q$18 -> 1575 | E40: 925.43529 | F40: 706.11108 | G40: 386.88091 | H40: 389.31688 | I40: 551.08571 | J40: 700.12572 | K40: 398.28521 | L40: 1017.7091 | M40: 1746.2871 | N40: 1012.5512 | O40: {=IFERROR(LARGE(E40:N40,{1,2,3,4,5,6}), "")} -> 1746.2871 | P40: 1017.7091 | Q40: 1012.5512 | R40: 925.43529 | S40: 706.11108 | T40: 700.12572 | U40: =SUM(_xlfn.ANCHORARRAY(O40))/6 -> 1018.0366 | V40: =SUM(O40:S40)/5 -> 1081.6188 | W40: =SUM(O40:R40)/4 -> 1175.4957
A41: 36 | B41: St VINCENT & GRENADINES | C41: B | D41: ='GTM-EU Proposals'!$Q$18 -> 1575 | E41: 152.7724 | F41: 433.875 | G41: 771.583 | H41: 373.3065 | I41: 104.63777 | J41: 225.844 | K41: 3.4683 | L41: 105.725 | M41: 4.96238 | N41: 96.245 | O41: {=IFERROR(LARGE(E41:N41,{1,2,3,4,5,6}), "")} -> 771.583 | P41: 433.875 | Q41: 373.3065 | R41: 225.844 | S41: 152.7724 | T41: 105.725 | U41: =SUM(_xlfn.ANCHORARRAY(O41))/6 -> 343.85098 | V41: =SUM(O41:S41)/5 -> 391.47618 | W41: =SUM(O41:R41)/4 -> 451.15213
A42: 37 | B42: Suriname | C42: B | D42: ='GTM-EU Proposals'!$Q$18 -> 1575 | M42: 309.506 | N42: 1297.43 | O42: {=IFERROR(LARGE(E42:N42,{1,2,3,4,5,6}), "")} -> 1297.43 | P42: 309.506 | U42: =SUM(_xlfn.ANCHORARRAY(O42))/6 -> 267.82267 | V42: =SUM(O42:S42)/5 -> 321.3872 | W42: =SUM(O42:R42)/4 -> 401.734
A43: 38 | B43: TRINIDAD & TOBAGO | C43: B | D43: ='GTM-EU Proposals'!$Q$18 -> 1575 | E43: 1179.4284 | F43: 1056.9023 | G43: 889.90537 | H43: 1214.0665 | I43: 981.58719 | J43: 973.28735 | K43: 1243.9195 | L43: 1080.1863 | M43: 1169.1082 | N43: 1040.569 | O43: {=IFERROR(LARGE(E43:N43,{1,2,3,4,5,6}), "")} -> 1243.9195 | P43: 1214.0665 | Q43: 1179.4284 | R43: 1169.1082 | S43: 1080.1863 | T43: 1056.9023 | U43: =SUM(_xlfn.ANCHORARRAY(O43))/6 -> 1157.2685 | V43: =SUM(O43:S43)/5 -> 1177.3418 | W43: =SUM(O43:R43)/4 -> 1201.6307
A44: 39 | B44: UNITED KINGDOM | C44: B | D44: ='GTM-EU Proposals'!$Q$18 -> 1575 | E44: 193.0674 | F44: 190.33 | G44: 245.7968 | H44: 230.734 | I44: 359.8692 | J44: 139.67652 | K44: 158.45411 | L44: 132.8629 | M44: 140.02758 | N44: 154.42531 | O44: {=IFERROR(LARGE(E44:N44,{1,2,3,4,5,6}), "")} -> 359.8692 | P44: 245.7968 | Q44: 230.734 | R44: 193.0674 | S44: 190.33 | T44: 158.45411 | U44: =SUM(_xlfn.ANCHORARRAY(O44))/6 -> 229.70858 | V44: =SUM(O44:S44)/5 -> 243.95948 | W44: =SUM(O44:R44)/4 -> 257.36685
A45: Subtotal Group B (8076) | E45: =SUM(E20:E44) -> 6981.1018 | F45: =SUM(F20:F44) -> 8272.3427 | G45: =SUM(G20:G44) -> 7911.9663 | H45: =SUM(H20:H44) -> 7329.9299 | I45: =SUM(I20:I44) -> 5831.7682 | J45: =SUM(J20:J44) -> 8460.2908 | K45: =SUM(K20:K44) -> 5695.3568 | L45: =SUM(L20:L44) -> 8400.6747 | ... W45: =SUM(W20:W44) -> 12712.961
B46: Non-contracting parties | C46: - | E46: 368.88022 | F46: 373.96331 | G46: 406.97237 | H46: 123.34531 | I46: 350.95366 | J46: 502.50511 | K46: 156.30912 | L46: 173.8021 | M46: 156.18261 | N46: 112.11722 | O46: {=IFERROR(LARGE(E46:N46,{1,2,3,4,5,6}), "")} -> 502.50511 | P46: 406.97237 | Q46: 373.96331 | R46: 368.88022 | S46: 350.95366 | T46: 173.8021 | U46: =SUM(_xlfn.ANCHORARRAY(O46))/6 -> 362.84613 | V46: =SUM(O46:S46)/5 -> 400.65493 | W46: =SUM(O46:R46)/4 -> 413.08025
A47: TOTAL | E47: =SUM(E19,E45,E46) -> 128220.12 | F47: =SUM(F19,F45,F46) -> 149756.5 | G47: =SUM(G19,G45,G46) -> 135103.32 | H47: =SUM(H19,H45,H46) -> 135396.97 | I47: =SUM(I19,I45,I46) -> 135975.28 | J47: =SUM(J19,J45,J46) -> 153379.22 | K47: =SUM(K19,K45,K46) -> 120254.58 | L47: =SUM(L19,L45,L46) -> 148566.56 | ... N47: =SUM(N19,N45,N46) -> 138291.36 | U47: =SUM(U19,U45,U46) -> 163975.96 | V47: =SUM(V19,V45,V46) -> 170567.08 | W47: =SUM(W19,W45,W46) -> 177243.98
B48: * YFT Reported catches as of 2026-05-06 / Prises de YFT déclarées au 2026-05-06 / Capturas de YFT declaradas a 2026-05-06 (t)
B49: ** Cells in orange do not represent a fixed catch limit but a trigger threshold. If the annual catches of yellowfin tuna by a CPC in Category B exceed this threshold in two consecutive years from 2027, Panel 1 shall determine a binding catch limit to apply to that CPC in future years. / ** Les cases en orange ne représentent pas une limite de capture fixe, mais un seuil de déclenchement. Si les captures annuelles d'albacore effectuées par une CPC de la Catégorie B dépassent ce seuil pendant deux années consécutives à partir de 2027, la Sous-Commission 1 déterminera une limite de capture contraignante qui s'appliquera à cette CPC pour les années futures. / ** Las celdas en naranja no representan un límite de captura fijo, sino un umbral de activación. Si las capturas anuales de rabil realizadas por una CPC de la Categoría B superan este umbral durante dos años consecutivos a partir de 2027, el Panel 1 determinará un límite de captura vinculante que se aplicará a esa CPC en el futuro.
B50: Since Rec. 12-01 / Depuis la Rec. 12-01 / Desde la Rec. 12-01 TAC YFT = 110000 t

Sheet EU-Fixed
B1: EU Proposal - PA1_MAY_29/i2026
B2: Secretariat's calculations on YFT catches for the last ten years / Calculs du Secrétariat concernant les captures d'albacore pour les dix dernières années / Cálculos de la Secretaría sobre las capturas de rabil para los últimos diez años
I3: Year*
A4: ID | B4: CPC | C4: GROUP | D4: CATCH LIMIT** | E4: 2015 | F4: 2016 | G4: 2017 | H4: 2018 | I4: 2019 | J4: 2020 | K4: 2021 | L4: 2022 | M4: 2023 | N4: 2024 | O4: AvgLast10 | P4: AvgLast6 | Q4: AvgLast5 | R4: AvgLast4
A5: 1 | B5: EUROPEAN UNION | C5: =VLOOKUP(A5,'GTM-EU Proposals'!$L$3:$O$17,3,0) -> A | D5: =VLOOKUP(A5,'GTM-EU Proposals'!$L$3:$O$17,4,0) -> 31526 | E5: 43377.29 | F5: 47163.069 | G5: 39643.261 | H5: 37236.932 | I5: 34296.247 | J5: 37423.343 | K5: 24152.047 | L5: 30064.575 | M5: 26045.996 | N5: 31071.245 | O5: =AVERAGE(E5:N5) -> 35047.4 | P5: =AVERAGE(I5:N5) -> 30508.909 | Q5: =AVERAGE(J5:N5) -> 29751.441 | R5: =AVERAGE(K5:N5) -> 27833.466
A6: 2 | B6: GHANA | C6: =VLOOKUP(A6,'GTM-EU Proposals'!$L$3:$O$17,3,0) -> A | D6: =VLOOKUP(A6,'GTM-EU Proposals'!$L$3:$O$17,4,0) -> 21113 | E6: 19659 | F6: 20217.6 | G6: 20398.4 | H6: 24346 | I6: 26242.5 | J6: 26435 | K6: 21263.5 | L6: 29550 | M6: 22159 | N6: 25452 | O6: =AVERAGE(E6:N6) -> 23572.3 | P6: =AVERAGE(I6:N6) -> 25183.667 | Q6: =AVERAGE(J6:N6) -> 24971.9 | R6: =AVERAGE(K6:N6) -> 24606.125
A7: 3 | B7: BRAZIL | C7: =VLOOKUP(A7,'GTM-EU Proposals'!$L$3:$O$17,3,0) -> A | D7: =VLOOKUP(A7,'GTM-EU Proposals'!$L$3:$O$17,4,0) -> 14076 | E7: 13643.343 | F7: 16681.775 | G7: 18362.306 | H7: 16381.177 | I7: 12907.16 | J7: 13183.011 | K7: 13663.997 | L7: 15716 | M7: 18894 | N7: 17729.408 | O7: =AVERAGE(E7:N7) -> 15716.218 | P7: =AVERAGE(I7:N7) -> 15348.929 | Q7: =AVERAGE(J7:N7) -> 15837.283 | R7: =AVERAGE(K7:N7) -> 16500.851
A8: 4 | B8: BELIZE | C8: =VLOOKUP(A8,'GTM-EU Proposals'!$L$3:$O$17,3,0) -> A | D8: =VLOOKUP(A8,'GTM-EU Proposals'!$L$3:$O$17,4,0) -> 7947 | E8: 7131.854 | F8: 5659.877 | G8: 6169.678 | H8: 8743.425 | I8: 10107.127 | J8: 9340.972 | K8: 8196.874 | L8: 10117.881 | M8: 9647.399 | N8: 13612.592 | O8: =AVERAGE(E8:N8) -> 8872.7679 | P8: =AVERAGE(I8:N8) -> 10170.474 | Q8: =AVERAGE(J8:N8) -> 10183.144 | R8: =AVERAGE(K8:N8) -> 10393.686
A9: 5 | B9: SENEGAL | C9: =VLOOKUP(A9,'GTM-EU Proposals'!$L$3:$O$17,3,0) -> A | D9: =VLOOKUP(A9,'GTM-EU Proposals'!$L$3:$O$17,4,0) -> 7522 | E9: 1883.15 | F9: 6850.0388 | G9: 3956.9248 | H9: 5029.246 | I9: 8160.611 | J9: 8177.352 | K9: 8227.6166 | L9: 9407.244 | M9: 17027.175 | N9: 15164.493 | O9: =AVERAGE(E9:N9) -> 8388.3851 | P9: =AVERAGE(I9:N9) -> 11027.415 | Q9: =AVERAGE(J9:N9) -> 11600.776 | R9: =AVERAGE(K9:N9) -> 12456.632
A10: 6 | B10: PANAMA | C10: =VLOOKUP(A10,'GTM-EU Proposals'!$L$3:$O$17,3,0) -> A | D10: =VLOOKUP(A10,'GTM-EU Proposals'!$L$3:$O$17,4,0) -> 6637 | E10: 3412.358 | F10: 6167.964 | G10: 5090.282 | H10: 6175.181 | I10: 8244.871 | J10: 10376.424 | K10: 9712.158 | L10: 12013.145 | M10: 8568.4163 | N10: 1421.63 | O10: =AVERAGE(E10:N10) -> 7118.2429 | P10: =AVERAGE(I10:N10) -> 8389.4407 | Q10: =AVERAGE(J10:N10) -> 8418.3547 | R10: =AVERAGE(K10:N10) -> 7928.8373
A11: 7 | B11: EL SALVADOR | C11: =VLOOKUP(A11,'GTM-EU Proposals'!$L$3:$O$17,3,0) -> A | D11: =VLOOKUP(A11,'GTM-EU Proposals'!$L$3:$O$17,4,0) -> 5406 | E11: 2781 | F11: 8633 | G11: 6317.963 | H11: 5574.146 | I11: 3976.056 | J11: 8812.85 | K11: 6336.6 | L11: 6322.43 | M11: 4577.78 | N11: 7027.19 | O11: =AVERAGE(E11:N11) -> 6035.9015 | P11: =AVERAGE(I11:N11) -> 6175.4843 | Q11: =AVERAGE(J11:N11) -> 6615.37 | R11: =AVERAGE(K11:N11) -> 6066
A12: 8 | B12: CURAÇAO | C12: =VLOOKUP(A12,'GTM-EU Proposals'!$L$3:$O$17,3,0) -> A | D12: =VLOOKUP(A12,'GTM-EU Proposals'!$L$3:$O$17,4,0) -> 5157 | E12: 6267.32 | F12: 8011.606 | G12: 6661.282 | H12: 7615.315 | I12: 7773.035 | J12: 9081.13 | K12: 7795.8332 | L12: 3122.173 | M12: 1249.9 | O12: =AVERAGE(E12:N12) -> 6397.5105 | P12: =AVERAGE(I12:N12) -> 5804.4142 | Q12: =AVERAGE(J12:N12) -> 5312.259 | R12: =AVERAGE(K12:N12) -> 4055.9687
A13: 9 | B13: JAPAN | C13: =VLOOKUP(A13,'GTM-EU Proposals'!$L$3:$O$17,3,0) -> A | D13: =VLOOKUP(A13,'GTM-EU Proposals'!$L$3:$O$17,4,0) -> 3588 | E13: 3469.557 | F13: 3375.782 | G13: 3123.097 | H13: 3099.295 | I13: 4055.756 | J13: 2662.148 | K13: 3073.444 | L13: 4198.669 | M13: 5915.256 | N13: 5721.432 | O13: =AVERAGE(E13:N13) -> 3869.4436 | P13: =AVERAGE(I13:N13) -> 4271.1175 | Q13: =AVERAGE(J13:N13) -> 4314.1898 | R13: =AVERAGE(K13:N13) -> 4727.2002
A14: 10 | B14: CABO VERDE | C14: =VLOOKUP(A14,'GTM-EU Proposals'!$L$3:$O$17,3,0) -> A | D14: =VLOOKUP(A14,'GTM-EU Proposals'!$L$3:$O$17,4,0) -> 3450 | E14: 7866.109 | F14: 6989.53 | G14: 2837.0497 | H14: 5584.1112 | I14: 3698.7502 | J14: 6259.196 | K14: 2042.5459 | L14: 952.00758 | M14: 326.964 | N14: 1209.547 | O14: =AVERAGE(E14:N14) -> 3776.5811 | P14: =AVERAGE(I14:N14) -> 2414.8351 | Q14: =AVERAGE(J14:N14) -> 2158.0521 | R14: =AVERAGE(K14:N14) -> 1132.7661
A15: 11 | B15: UNITED STATES | C15: =VLOOKUP(A15,'GTM-EU Proposals'!$L$3:$O$17,3,0) -> A | D15: =VLOOKUP(A15,'GTM-EU Proposals'!$L$3:$O$17,4,0) -> 3423 | E15: 2797.904 | F15: 4103.888 | G15: 4444.107 | H15: 2720.431 | I15: 2625.175 | J15: 3661.929 | K15: 3960.39 | L15: 7755.937 | M15: 3093.408 | N15: 3047.949 | O15: =AVERAGE(E15:N15) -> 3821.1118 | P15: =AVERAGE(I15:N15) -> 4024.1313 | Q15: =AVERAGE(J15:N15) -> 4303.9226 | R15: =AVERAGE(K15:N15) -> 4464.421
A16: 12 | B16: VENEZUELA | C16: =VLOOKUP(A16,'GTM-EU Proposals'!$L$3:$O$17,3,0) -> A | D16: =VLOOKUP(A16,'GTM-EU Proposals'!$L$3:$O$17,4,0) -> 2759 | E16: 3130.0645 | F16: 4220.8099 | G16: 5109.9296 | H16: 2783.6407 | I16: 2098.8538 | J16: 1949.4481 | K16: 1977.8008 | L16: 3171.9328 | M16: 3485.8538 | N16: 2865.3087 | O16: =AVERAGE(E16:N16) -> 3079.3643 | P16: =AVERAGE(I16:N16) -> 2591.533 | Q16: =AVERAGE(J16:N16) -> 2690.0689 | R16: =AVERAGE(K16:N16) -> 2875.2241
A17: 13 | B17: GUATEMALA | C17: =VLOOKUP(A17,'GTM-EU Proposals'!$L$3:$O$17,3,0) -> A | D17: =VLOOKUP(A17,'GTM-EU Proposals'!$L$3:$O$17,4,0) -> 2550 | E17: 5200.262 | F17: 2720.34 | G17: 3718.447 | H17: 2538.635 | I17: 2957.044 | J17: 2594.11 | K17: 1882.949 | L17: 4263.8729 | M17: 2596.0147 | O17: =AVERAGE(E17:N17) -> 3163.5194 | P17: =AVERAGE(I17:N17) -> 2858.7981 | Q17: =AVERAGE(J17:N17) -> 2834.2366 | R17: =AVERAGE(K17:N17) -> 2914.2789
A18: 14 | B18: CÔTE D'IVOIRE | C18: =VLOOKUP(A18,'GTM-EU Proposals'!$L$3:$O$17,3,0) -> A | D18: =VLOOKUP(A18,'GTM-EU Proposals'!$L$3:$O$17,4,0) -> 1770 | E18: 250.92598 | F18: 314.916 | G18: 951.65837 | H18: 116.16465 | I18: 2649.3721 | J18: 4459.5142 | K18: 2117.156 | L18: 3336.218 | M18: 1434.487 | N18: 2637.2605 | O18: =AVERAGE(E18:N18) -> 1826.7673 | P18: =AVERAGE(I18:N18) -> 2772.3346 | Q18: =AVERAGE(J18:N18) -> 2796.9271 | R18: =AVERAGE(K18:N18) -> 2381.2804
A19: Subtotal Group A | E19: =SUM(E5:E18) -> 120870.14 | F19: =SUM(F5:F18) -> 141110.2 | G19: =SUM(G5:G18) -> 126784.39 | H19: =SUM(H5:H18) -> 127943.7 | I19: =SUM(I5:I18) -> 129792.56 | J19: =SUM(J5:J18) -> 144416.43 | K19: =SUM(K5:K18) -> 114402.91 | L19: =SUM(L5:L18) -> 139992.09 | ... R19: =SUM(R5:R18) -> 128336.74
A20: 15 | B20: ANGOLA | C20: B | D20: ='GTM-EU Proposals'!$Q$18 -> 1575 | G20: 1.582 | H20: 2.8 | I20: 0 | J20: 1.27238 | K20: 7.74999 | L20: 14.725 | M20: 5.076 | N20: 8.675 | O20: =AVERAGE(E20:N20) -> 5.2350462 | P20: =AVERAGE(I20:N20) -> 6.2497283 | Q20: =AVERAGE(J20:N20) -> 7.499674 | R20: =AVERAGE(K20:N20) -> 9.0564975
A21: 16 | B21: BARBADOS | C21: B | D21: ='GTM-EU Proposals'!$Q$18 -> 1575 | E21: 262.279 | F21: 324.251 | G21: 269.519 | H21: 248.284 | I21: 121.056 | J21: 173.096 | K21: 212.495 | L21: 201.637 | M21: 236.64 | N21: 188.3531 | O21: =AVERAGE(E21:N21) -> 223.76101 | P21: =AVERAGE(I21:N21) -> 188.87952 | Q21: =AVERAGE(J21:N21) -> 202.44422 | R21: =AVERAGE(K21:N21) -> 209.78127
A22: 17 | B22: CANADA | C22: B | D22: ='GTM-EU Proposals'!$Q$18 -> 1575 | E22: 59.013606 | F22: 19.488689 | G22: 193.07766 | H22: 14.646455 | I22: 108.17127 | J22: 75.077376 | K22: 110.87202 | L22: 198.67439 | M22: 175.02158 | N22: 162.80617 | O22: =AVERAGE(E22:N22) -> 111.68492 | P22: =AVERAGE(I22:N22) -> 138.43713 | Q22: =AVERAGE(J22:N22) -> 144.49031 | R22: =AVERAGE(K22:N22) -> 161.84354
A23: 18 | B23: CHINA PR. | C23: B | D23: ='GTM-EU Proposals'!$Q$18 -> 1575 | E23: 169.551 | F23: 467.746 | G23: 578.379 | H23: 359.458 | I23: 320.862 | J23: 461.128 | K23: 140.032 | L23: 528.594 | M23: 2444.352 | N23: 2746.789 | O23: =AVERAGE(E23:N23) -> 821.6891 | P23: =AVERAGE(I23:N23) -> 1106.9595 | Q23: =AVERAGE(J23:N23) -> 1264.179 | R23: =AVERAGE(K23:N23) -> 1464.9417
A24: 19 | B24: Chinese Taipei | C24: B | D24: ='GTM-EU Proposals'!$Q$18 -> 1575 | E24: 1220 | F24: 942 | G24: 776 | H24: 945 | I24: 736 | J24: 870 | K24: 468 | L24: 669 | M24: 873 | N24: 760 | O24: =AVERAGE(E24:N24) -> 825.9 | P24: =AVERAGE(I24:N24) -> 729.33333 | Q24: =AVERAGE(J24:N24) -> 728 | R24: =AVERAGE(K24:N24) -> 692.5
A25: 20 | B25: COSTA RICA | C25: B | D25: ='GTM-EU Proposals'!$Q$18 -> 1575 | E25: 116.81 | F25: 138.768 | G25: 183.072 | H25: 113.509 | I25: 74.311 | J25: 116.6395 | K25: 150.2452 | L25: 54.08863 | M25: 51.58155 | N25: 114.637 | O25: =AVERAGE(E25:N25) -> 111.36619 | P25: =AVERAGE(I25:N25) -> 93.583813 | Q25: =AVERAGE(J25:N25) -> 97.438376 | R25: =AVERAGE(K25:N25) -> 92.638095
A26: 21 | B26: FRANCE (St-Pierre et Miquelon) | C26: B | D26: ='GTM-EU Proposals'!$Q$18 -> 1575 | H26: 0 | O26: =AVERAGE(E26:N26) -> 0 | P26: 0 | Q26: 0 | R26: 0
A27: 22 | B27: GABON | C27: B | D27: ='GTM-EU Proposals'!$Q$18 -> 1575 | F27: 1 | G27: 3 | O27: =AVERAGE(E27:N27) -> 2 | P27: 0 | Q27: 0 | R27: 0
A28: 23 | B28: GAMBIA | C28: B | D28: ='GTM-EU Proposals'!$Q$18 -> 1575 | J28: 0.72 | O28: =AVERAGE(E28:N28) -> 0.72 | P28: =AVERAGE(I28:N28) -> 0.72 | Q28: =AVERAGE(J28:N28) -> 0.72 | R28: 0
A29: 24 | B29: GRENADA | C29: B | D29: ='GTM-EU Proposals'!$Q$18 -> 1575 | E29: 1166.8029 | F29: 1606.9336 | G29: 1257.3833 | H29: 1391.2574 | I29: 818.38533 | J29: 783.57568 | K29: 286.542 | L29: 956.927 | M29: 2139.2743 | N29: 1086.487 | O29: =AVERAGE(E29:N29) -> 1149.3569 | P29: =AVERAGE(I29:N29) -> 1011.8652 | Q29: =AVERAGE(J29:N29) -> 1050.5612 | R29: =AVERAGE(K29:N29) -> 1117.3076
A30: 25 | B30: GUINEA ECUATORIAL | C30: B | D30: ='GTM-EU Proposals'!$Q$18 -> 1575 | E30: 8.703 | F30: 6.294 | H30: 8.453 | I30: 10.258 | J30: 8.378 | K30: 6.7821 | L30: 4.33775 | M30: 0.937 | N30: 0.013 | O30: =AVERAGE(E30:N30) -> 6.0173167 | P30: =AVERAGE(I30:N30) -> 5.1176417 | Q30: =AVERAGE(J30:N30) -> 4.08957 | R30: =AVERAGE(K30:N30) -> 3.0174625
A31: 26 | B31: GUINÉE REP. | C31: B | D31: ='GTM-EU Proposals'!$Q$18 -> 1575 | K31: 322 | L31: 1327 | M31: 913 | N31: 378 | O31: =AVERAGE(E31:N31) -> 735 | P31: =AVERAGE(I31:N31) -> 735 | Q31: =AVERAGE(J31:N31) -> 735 | R31: =AVERAGE(K31:N31) -> 735
A32: 27 | B32: Guyana | C32: B | D32: ='GTM-EU Proposals'!$Q$18 -> 1575 | E32: 13.62 | F32: 182.928 | G32: 180.612 | H32: 3.475 | I32: 42.612 | J32: 116.21459 | K32: 164.02 | O32: =AVERAGE(E32:N32) -> 100.49737 | P32: =AVERAGE(I32:N32) -> 107.61553 | Q32: =AVERAGE(J32:N32) -> 140.11729 | R32: =AVERAGE(K32:N32) -> 164.02
A33: 28 | B33: KOREA REP. | C33: B | D33: ='GTM-EU Proposals'!$Q$18 -> 1575 | E33: 47.70877 | F33: 368.099 | G33: 410.75387 | H33: 454.50973 | I33: 506.751 | J33: 579.34309 | K33: 372.81186 | L33: 480.53024 | M33: 732.45131 | N33: 554.6692 | O33: =AVERAGE(E33:N33) -> 450.76281 | P33: =AVERAGE(I33:N33) -> 537.75945 | Q33: =AVERAGE(J33:N33) -> 543.96114 | R33: =AVERAGE(K33:N33) -> 535.11565
A34: 29 | B34: LIBERIA | C34: B | D34: ='GTM-EU Proposals'!$Q$18 -> 1575 | E34: 88 | F34: 76.234 | G34: 87.9364 | H34: 1.9074 | I34: 6.35574 | J34: 1731.0806 | K34: 0.652 | L34: 0.3691 | M34: 3.968 | N34: 0.518431 | O34: =AVERAGE(E34:N34) -> 199.70217 | P34: =AVERAGE(I34:N34) -> 290.49064 | Q34: =AVERAGE(J34:N34) -> 347.31762 | R34: =AVERAGE(K34:N34) -> 1.3768828
A35: 30 | B35: MAROC | C35: B | D35: ='GTM-EU Proposals'!$Q$18 -> 1575 | E35: 72.422 | F35: 115 | G35: 113 | H35: 108 | I35: 228.1 | J35: 343.5 | K35: 493.4 | L35: 640.07 | M35: 844.64 | N35: 968.57 | O35: =AVERAGE(E35:N35) -> 392.6702 | P35: =AVERAGE(I35:N35) -> 586.38 | Q35: =AVERAGE(J35:N35) -> 658.036 | R35: =AVERAGE(K35:N35) -> 736.67
A36: 31 | B36: MAURITANIA | C36: B | D36: ='GTM-EU Proposals'!$Q$18 -> 1575 | F36: 0.096 | O36: =AVERAGE(E36:N36) -> 0.096 | P36: 0 | Q36: 0 | R36: 0
A37: 32 | B37: MEXICO | C37: B | D37: ='GTM-EU Proposals'!$Q$18 -> 1575 | E37: 962.588 | F37: 1281.986 | G37: 1244.195 | H37: 1033.117 | I37: 763.185 | J37: 821.113 | K37: 884.766 | L37: 608.567 | M37: 593.465 | N37: 482.556 | O37: =AVERAGE(E37:N37) -> 867.5538 | P37: =AVERAGE(I37:N37) -> 692.27533 | Q37: =AVERAGE(J37:N37) -> 678.0934 | R37: =AVERAGE(K37:N37) -> 642.3385
A38: 33 | B38: NAMIBIA | C38: B | D38: ='GTM-EU Proposals'!$Q$18 -> 1575 | E38: 42.2 | F38: 52.9 | G38: 53.29 | H38: 423.769 | I38: 81.762 | J38: 327.234 | K38: 255.976 | L38: 355.935 | M38: 156.233 | N38: 75.99691 | O38: =AVERAGE(E38:N38) -> 182.52959 | P38: =AVERAGE(I38:N38) -> 208.85615 | Q38: =AVERAGE(J38:N38) -> 234.27498 | R38: =AVERAGE(K38:N38) -> 211.03523
A39: 34 | B39: S. TOMÉ E PRINCIPE | C39: B | D39: ='GTM-EU Proposals'!$Q$18 -> 1575 | E39: 300.7 | F39: 301.4 | G39: 266 | H39: 14.32 | I39: 16.779 | J39: 12.985 | K39: 14.8855 | L39: 23.7362 | M39: 24.005 | N39: 89.9 | O39: =AVERAGE(E39:N39) -> 106.47107 | P39: =AVERAGE(I39:N39) -> 30.381783 | Q39: =AVERAGE(J39:N39) -> 33.10234 | R39: =AVERAGE(K39:N39) -> 38.131675
A40: 35 | B40: SOUTH AFRICA | C40: B | D40: ='GTM-EU Proposals'!$Q$18 -> 1575 | E40: 925.43529 | F40: 706.11108 | G40: 386.88091 | H40: 389.31688 | I40: 551.08571 | J40: 700.12572 | K40: 398.28521 | L40: 1017.7091 | M40: 1746.2871 | N40: 1012.5512 | O40: =AVERAGE(E40:N40) -> 783.37882 | P40: =AVERAGE(I40:N40) -> 904.34067 | Q40: =AVERAGE(J40:N40) -> 974.99167 | R40: =AVERAGE(K40:N40) -> 1043.7082
A41: 36 | B41: St VINCENT & GRENADINES | C41: B | D41: ='GTM-EU Proposals'!$Q$18 -> 1575 | E41: 152.7724 | F41: 433.875 | G41: 771.583 | H41: 373.3065 | I41: 104.63777 | J41: 225.844 | K41: 3.4683 | L41: 105.725 | M41: 4.96238 | N41: 96.245 | O41: =AVERAGE(E41:N41) -> 227.24193 | P41: =AVERAGE(I41:N41) -> 90.147075 | Q41: =AVERAGE(J41:N41) -> 87.248936 | R41: =AVERAGE(K41:N41) -> 52.60017
A42: 37 | B42: Suriname | C42: B | D42: ='GTM-EU Proposals'!$Q$18 -> 1575 | M42: 309.506 | N42: 1297.43 | O42: =AVERAGE(E42:N42) -> 803.468 | P42: =AVERAGE(I42:N42) -> 803.468 | Q42: =AVERAGE(J42:N42) -> 803.468 | R42: =AVERAGE(K42:N42) -> 803.468
A43: 38 | B43: TRINIDAD & TOBAGO | C43: B | D43: ='GTM-EU Proposals'!$Q$18 -> 1575 | E43: 1179.4284 | F43: 1056.9023 | G43: 889.90537 | H43: 1214.0665 | I43: 981.58719 | J43: 973.28735 | K43: 1243.9195 | L43: 1080.1863 | M43: 1169.1082 | N43: 1040.569 | O43: =AVERAGE(E43:N43) -> 1082.896 | P43: =AVERAGE(I43:N43) -> 1081.4429 | Q43: =AVERAGE(J43:N43) -> 1101.4141 | R43: =AVERAGE(K43:N43) -> 1133.4458
A44: 39 | B44: UNITED KINGDOM | C44: B | D44: ='GTM-EU Proposals'!$Q$18 -> 1575 | E44: 193.0674 | F44: 190.33 | G44: 245.7968 | H44: 230.734 | I44: 359.8692 | J44: 139.67652 | K44: 158.45411 | L44: 132.8629 | M44: 140.02758 | N44: 154.42531 | O44: =AVERAGE(E44:N44) -> 194.52438 | P44: =AVERAGE(I44:N44) -> 180.88594 | Q44: =AVERAGE(J44:N44) -> 145.08928 | R44: =AVERAGE(K44:N44) -> 146.44248
A45: Subtotal Group B (8076) | E45: =SUM(E20:E44) -> 6981.1018 | F45: =SUM(F20:F44) -> 8272.3427 | G45: =SUM(G20:G44) -> 7911.9663 | H45: =SUM(H20:H44) -> 7329.9299 | I45: =SUM(I20:I44) -> 5831.7682 | J45: =SUM(J20:J44) -> 8460.2908 | K45: =SUM(K20:K44) -> 5695.3568 | L45: =SUM(L20:L44) -> 8400.6747 | ... R45: =SUM(R20:R44) -> 9994.4387
B46: Non-contracting parties | C46: - | E46: 368.88022 | F46: 373.96331 | G46: 406.97237 | H46: 123.34531 | I46: 350.95366 | J46: 502.50511 | K46: 156.30912 | L46: 173.8021 | M46: 156.18261 | N46: 112.11722 | O46: =AVERAGE(E46:N46) -> 272.5031 | P46: =AVERAGE(I46:N46) -> 241.9783 | Q46: =AVERAGE(J46:N46) -> 220.18323 | R46: =AVERAGE(K46:N46) -> 149.60276
A47: TOTAL | E47: =SUM(E19,E45,E46) -> 128220.12 | F47: =SUM(F19,F45,F46) -> 149756.5 | G47: =SUM(G19,G45,G46) -> 135103.32 | H47: =SUM(H19,H45,H46) -> 135396.97 | I47: =SUM(I19,I45,I46) -> 135975.28 | J47: =SUM(J19,J45,J46) -> 153379.22 | K47: =SUM(K19,K45,K46) -> 120254.58 | L47: =SUM(L19,L45,L46) -> 148566.56 | ... R47: =SUM(R19,R45,R46) -> 138480.78
B48: * YFT Reported catches as of 2026-05-06 / Prises de YFT déclarées au 2026-05-06 / Capturas de YFT declaradas a 2026-05-06 (t)
B49: ** Cells in orange do not represent a fixed catch limit but a trigger threshold. If the annual catches of yellowfin tuna by a CPC in Category B exceed this threshold in two consecutive years from 2027, Panel 1 shall determine a binding catch limit to apply to that CPC in future years. / ** Les cases en orange ne représentent pas une limite de capture fixe, mais un seuil de déclenchement. Si les captures annuelles d'albacore effectuées par une CPC de la Catégorie B dépassent ce seuil pendant deux années consécutives à partir de 2027, la Sous-Commission 1 déterminera une limite de capture contraignante qui s'appliquera à cette CPC pour les années futures. / ** Las celdas en naranja no representan un límite de captura fijo, sino un umbral de activación. Si las capturas anuales de rabil realizadas por una CPC de la Categoría B superan este umbral durante dos años consecutivos a partir de 2027, el Panel 1 determinará un límite de captura vinculante que se aplicará a esa CPC en el futuro.
B50: Since Rec. 12-01 / Depuis la Rec. 12-01 / Desde la Rec. 12-01 TAC YFT = 110000 t

Sheet Diff
A1: * YFT Reported catches as of 2026-01-29 / Prises de YFT déclarées au 2026-01-29 / Capturas de YFT declaradas a 2026-01-29 (t) | M1: * YFT Reported catches as of 2026-05-06 / Prises de YFT déclarées au 2026-05-06 / Capturas de YFT declaradas a 2026-05-06 (t)
A2: PartyName | B2: 2015 | C2: 2016 | D2: 2017 | E2: 2018 | F2: 2019 | G2: 2020 | H2: 2021 | I2: 2022 | J2: 2023 | K2: 2024 | M2: PartyName | N2: 2015 | O2: 2016 | P2: 2017 | Q2: 2018 | R2: 2019 | S2: 2020 | T2: 2021 | U2: 2022 | V2: 2023 | W2: 2024
A3: ANGOLA | D3: 1.582 | E3: 2.8 | F3: 0 | G3: 1.27238 | H3: 7.74999 | I3: 14.725 | J3: 5.076 | K3: 8.675 | M3: ANGOLA | P3: 1.582 | Q3: 2.8 | R3: 0 | S3: 1.27238 | T3: 7.74999 | U3: 14.725 | V3: 5.076 | W3: 8.675
A4: BARBADOS | B4: 262.279 | C4: 324.251 | D4: 269.519 | E4: 248.284 | F4: 121.056 | G4: 173.096 | H4: 212.495 | I4: 201.637 | J4: 236.64 | K4: 188.3531 | M4: BARBADOS | N4: 262.279 | O4: 324.251 | P4: 269.519 | Q4: 248.284 | R4: 121.056 | S4: 173.096 | T4: 212.495 | U4: 201.637 | V4: 236.64 | W4: 188.3531
A5: BELIZE | B5: 7131.854 | C5: 5659.877 | D5: 6169.678 | E5: 8743.425 | F5: 10107.127 | G5: 9340.972 | H5: 8196.874 | I5: 10117.881 | J5: 9647.399 | K5: 13612.592 | M5: BELIZE | N5: 7131.854 | O5: 5659.877 | P5: 6169.678 | Q5: 8743.425 | R5: 10107.127 | S5: 9340.972 | T5: 8196.874 | U5: 10117.881 | V5: 9647.399 | W5: 13612.592
A6: BRAZIL | B6: 13643.343 | C6: 16681.775 | D6: 18362.306 | E6: 16381.177 | F6: 12907.16 | G6: 13183.011 | H6: 13663.997 | I6: 15716 | J6: 18894 | K6: 17729.408 | M6: BRAZIL | N6: 13643.343 | O6: 16681.775 | P6: 18362.306 | Q6: 16381.177 | R6: 12907.16 | S6: 13183.011 | T6: 13663.997 | U6: 15716 | V6: 18894 | W6: 17729.408
A7: CABO VERDE | B7: 7866.109 | C7: 6989.53 | D7: 2837.0497 | E7: 5584.1112 | F7: 3698.7502 | G7: 6259.196 | H7: 2042.5459 | I7: 952.00758 | J7: 326.964 | K7: 1209.547 | M7: CABO VERDE | N7: 7866.109 | O7: 6989.53 | P7: 2837.0497 | Q7: 5584.1112 | R7: 3698.7502 | S7: 6259.196 | T7: 2042.5459 | U7: 952.00758 | V7: 326.964 | W7: 1209.547
A8: CANADA | B8: 59.013606 | C8: 19.488689 | D8: 193.07766 | E8: 14.646455 | F8: 108.17127 | G8: 75.077376 | H8: 110.87202 | I8: 198.67439 | J8: 175.02158 | K8: 162.80617 | M8: CANADA | N8: 59.013606 | O8: 19.488689 | P8: 193.07766 | Q8: 14.646455 | R8: 108.17127 | S8: 75.077376 | T8: 110.87202 | U8: 198.67439 | V8: 175.02158 | W8: 162.80617
A9: CHINA PR. | B9: 169.551 | C9: 467.746 | D9: 578.379 | E9: 359.458 | F9: 320.862 | G9: 461.128 | H9: 140.032 | I9: 528.594 | J9: 2444.352 | K9: 2746.789 | M9: CHINA PR. | N9: 169.551 | O9: 467.746 | P9: 578.379 | Q9: 359.458 | R9: 320.862 | S9: 461.128 | T9: 140.032 | U9: 528.594 | V9: 2444.352 | W9: 2746.789
A10: Chinese Taipei | B10: 1220 | C10: 942 | D10: 776 | E10: 945 | F10: 736 | G10: 870 | H10: 468 | I10: 669 | J10: 873 | K10: 760 | M10: Chinese Taipei | N10: 1220 | O10: 942 | P10: 776 | Q10: 945 | R10: 736 | S10: 870 | T10: 468 | U10: 669 | V10: 873 | W10: 760
A11: COSTA RICA | B11: 116.81 | C11: 138.768 | D11: 183.072 | E11: 113.509 | F11: 74.311 | G11: 116.6395 | H11: 150.2452 | I11: 54.08863 | J11: 51.58155 | K11: 114.637 | M11: COSTA RICA | N11: 116.81 | O11: 138.768 | P11: 183.072 | Q11: 113.509 | R11: 74.311 | S11: 116.6395 | T11: 150.2452 | U11: 54.08863 | V11: 51.58155 | W11: 114.637
A12: CÔTE D'IVOIRE | B12: 250.92598 | C12: 314.916 | D12: 951.65837 | E12: 116.16465 | F12: 2649.3721 | G12: 4459.5142 | H12: 2117.156 | I12: 3336.218 | J12: 1434.487 | K12: 2637.2605 | M12: CÔTE D'IVOIRE | N12: 250.92598 | O12: 314.916 | P12: 951.65837 | Q12: 116.16465 | R12: 2649.3721 | S12: 4459.5142 | T12: 2117.156 | U12: 3336.218 | V12: 1434.487 | W12: 2637.2605
A13: CURAÇAO | B13: 6267.32 | C13: 8011.606 | D13: 6661.282 | E13: 7615.315 | F13: 7773.035 | G13: 9081.13 | H13: 7795.8332 | I13: 3122.173 | J13: 1249.9 | M13: CURAÇAO | N13: 6267.32 | O13: 8011.606 | P13: 6661.282 | Q13: 7615.315 | R13: 7773.035 | S13: 9081.13 | T13: 7795.8332 | U13: 3122.173 | V13: 1249.9
A14: EL SALVADOR | B14: 2781 | C14: 8633 | D14: 6317.963 | E14: 5574.146 | F14: 3976.056 | G14: 8812.85 | H14: 6336.6 | I14: 6322.43 | J14: 4577.78 | K14: 7027.19 | M14: EL SALVADOR | N14: 2781 | O14: 8633 | P14: 6317.963 | Q14: 5574.146 | R14: 3976.056 | S14: 8812.85 | T14: 6336.6 | U14: 6322.43 | V14: 4577.78 | W14: 7027.19
A15: EUROPEAN UNION | B15: 43377.29 | C15: 47163.069 | D15: 39643.261 | E15: 37236.932 | F15: 34296.247 | G15: 37423.343 | H15: 24152.047 | I15: 30064.575 | J15: 26045.996 | K15: 31071.245 | M15: EUROPEAN UNION | N15: 43377.29 | O15: 47163.069 | P15: 39643.261 | Q15: 37236.932 | R15: 34296.247 | S15: 37423.343 | T15: 24152.047 | U15: 30064.575 | V15: 26045.996 | W15: 31071.245
A16: FRANCE (St-Pierre et Miquelon) | E16: 0 | M16: FRANCE (St-Pierre et Miquelon) | Q16: 0
A17: GABON | C17: 1 | D17: 3 | M17: GABON | O17: 1 | P17: 3
A18: GAMBIA | G18: 0.72 | M18: GAMBIA | S18: 0.72
A19: GHANA | B19: 19659 | C19: 20217.6 | D19: 20398.4 | E19: 24346 | F19: 26242.5 | G19: 26435 | H19: 21263.5 | I19: 29550 | J19: 22159 | K19: 25452 | M19: GHANA | N19: 19659 | O19: 20217.6 | P19: 20398.4 | Q19: 24346 | R19: 26242.5 | S19: 26435 | T19: 21263.5 | U19: 29550 | V19: 22159 | W19: 25452
A20: GRENADA | B20: 1166.8029 | C20: 1606.9336 | D20: 1257.3833 | E20: 1391.2574 | F20: 818.38533 | G20: 783.57568 | H20: 286.542 | I20: 956.927 | J20: 2139.2743 | K20: 1086.487 | M20: GRENADA | N20: 1166.8029 | O20: 1606.9336 | P20: 1257.3833 | Q20: 1391.2574 | R20: 818.38533 | S20: 783.57568 | T20: 286.542 | U20: 956.927 | V20: 2139.2743 | W20: 1086.487
A21: GUATEMALA | B21: 5200.262 | C21: 2720.34 | D21: 3718.447 | E21: 2538.635 | F21: 2957.044 | G21: 2594.11 | H21: 1882.949 | I21: 4263.8729 | J21: 2596.0147 | M21: GUATEMALA | N21: 5200.262 | O21: 2720.34 | P21: 3718.447 | Q21: 2538.635 | R21: 2957.044 | S21: 2594.11 | T21: 1882.949 | U21: 4263.8729 | V21: 2596.0147
A22: GUINEA ECUATORIAL | B22: 8.703 | C22: 6.294 | E22: 8.453 | F22: 10.258 | G22: 8.378 | H22: 6.7821 | I22: 4.33775 | J22: 0.937 | K22: 0.013 | M22: GUINEA ECUATORIAL | N22: 8.703 | O22: 6.294 | Q22: 8.453 | R22: 10.258 | S22: 8.378 | T22: 6.7821 | U22: 4.33775 | V22: 0.937 | W22: 0.013
A23: GUINÉE REP. | H23: 322 | I23: 1327 | J23: 913 | K23: 378 | M23: GUINÉE REP. | T23: 322 | U23: 1327 | V23: 913 | W23: 378
A24: Guyana | B24: 13.62 | C24: 182.928 | D24: 180.612 | E24: 3.475 | F24: 42.612 | G24: 116.21459 | H24: 164.02 | M24: Guyana | N24: 13.62 | O24: 182.928 | P24: 180.612 | Q24: 3.475 | R24: 42.612 | S24: 116.21459 | T24: 164.02
A25: JAPAN | B25: 3469.557 | C25: 3375.782 | D25: 3123.097 | E25: 3099.295 | F25: 4055.756 | G25: 2662.148 | H25: 3073.444 | I25: 4198.669 | J25: 5881.016 | K25: 6266.278 | M25: JAPAN | N25: 3469.557 | O25: 3375.782 | P25: 3123.097 | Q25: 3099.295 | R25: 4055.756 | S25: 2662.148 | T25: 3073.444 | U25: 4198.669 | V25: 5915.256 | W25: 5721.432
A26: KOREA REP. | B26: 47.70877 | C26: 368.099 | D26: 410.75387 | E26: 454.50973 | F26: 506.751 | G26: 579.34309 | H26: 372.81186 | I26: 480.53024 | J26: 732.45131 | K26: 554.6692 | M26: KOREA REP. | N26: 47.70877 | O26: 368.099 | P26: 410.75387 | Q26: 454.50973 | R26: 506.751 | S26: 579.34309 | T26: 372.81186 | U26: 480.53024 | V26: 732.45131 | W26: 554.6692
A27: LIBERIA | B27: 88 | C27: 76.234 | D27: 87.9364 | E27: 1.9074 | F27: 6.35574 | G27: 1731.0806 | H27: 0.652 | I27: 0.3691 | J27: 3.968 | K27: 0.518431 | M27: LIBERIA | N27: 88 | O27: 76.234 | P27: 87.9364 | Q27: 1.9074 | R27: 6.35574 | S27: 1731.0806 | T27: 0.652 | U27: 0.3691 | V27: 3.968 | W27: 0.518431
A28: MAROC | B28: 72.422 | C28: 115 | D28: 113 | E28: 108 | F28: 228.1 | G28: 343.5 | H28: 493.4 | I28: 640.07 | J28: 844.64 | K28: 968.57 | M28: MAROC | N28: 72.422 | O28: 115 | P28: 113 | Q28: 108 | R28: 228.1 | S28: 343.5 | T28: 493.4 | U28: 640.07 | V28: 844.64 | W28: 968.57
A29: MAURITANIA | C29: 0.096 | M29: MAURITANIA | O29: 0.096
A30: MEXICO | B30: 962.588 | C30: 1281.986 | D30: 1244.195 | E30: 1033.117 | F30: 763.185 | G30: 821.113 | H30: 884.766 | I30: 608.567 | J30: 593.465 | K30: 482.556 | M30: MEXICO | N30: 962.588 | O30: 1281.986 | P30: 1244.195 | Q30: 1033.117 | R30: 763.185 | S30: 821.113 | T30: 884.766 | U30: 608.567 | V30: 593.465 | W30: 482.556
A31: NAMIBIA | B31: 42.2 | C31: 52.9 | D31: 53.29 | E31: 423.769 | F31: 81.762 | G31: 327.234 | H31: 255.976 | I31: 355.935 | J31: 156.233 | K31: 75.99691 | M31: NAMIBIA | N31: 42.2 | O31: 52.9 | P31: 53.29 | Q31: 423.769 | R31: 81.762 | S31: 327.234 | T31: 255.976 | U31: 355.935 | V31: 156.233 | W31: 75.99691
A32: Non-contracting parties | B32: 368.88022 | C32: 373.96331 | D32: 406.97237 | E32: 123.34531 | F32: 350.95366 | G32: 502.50511 | H32: 156.30912 | I32: 173.8021 | J32: 156.18261 | K32: 112.11722 | M32: Non-contracting parties | N32: 368.88022 | O32: 373.96331 | P32: 406.97237 | Q32: 123.34531 | R32: 350.95366 | S32: 502.50511 | T32: 156.30912 | U32: 173.8021 | V32: 156.18261 | W32: 112.11722
A33: PANAMA | B33: 3412.358 | C33: 6167.964 | D33: 5090.282 | E33: 6175.181 | F33: 8244.871 | G33: 10376.424 | H33: 9712.158 | I33: 12013.145 | J33: 8568.4163 | K33: 1421.63 | M33: PANAMA | N33: 3412.358 | O33: 6167.964 | P33: 5090.282 | Q33: 6175.181 | R33: 8244.871 | S33: 10376.424 | T33: 9712.158 | U33: 12013.145 | V33: 8568.4163 | W33: 1421.63
A34: S. TOMÉ E PRINCIPE | B34: 300.7 | C34: 301.4 | D34: 266 | E34: 14.32 | F34: 16.779 | G34: 12.985 | H34: 14.8855 | I34: 23.7362 | K34: 89.9 | M34: S. TOMÉ E PRINCIPE | N34: 300.7 | O34: 301.4 | P34: 266 | Q34: 14.32 | R34: 16.779 | S34: 12.985 | T34: 14.8855 | U34: 23.7362 | V34: 24.005 | W34: 89.9
A35: SENEGAL | B35: 1883.15 | C35: 6850.0388 | D35: 3956.9248 | E35: 5029.246 | F35: 8160.611 | G35: 8177.352 | H35: 8227.6166 | I35: 9407.244 | J35: 1486.895 | K35: 15164.493 | M35: SENEGAL | N35: 1883.15 | O35: 6850.0388 | P35: 3956.9248 | Q35: 5029.246 | R35: 8160.611 | S35: 8177.352 | T35: 8227.6166 | U35: 9407.244 | V35: 17027.175 | W35: 15164.493
A36: SOUTH AFRICA | B36: 925.43529 | C36: 706.11108 | D36: 386.88091 | E36: 389.31688 | F36: 551.08571 | G36: 700.12572 | H36: 398.28521 | I36: 1017.7091 | J36: 1746.2871 | K36: 1012.5512 | M36: SOUTH AFRICA | N36: 925.43529 | O36: 706.11108 | P36: 386.88091 | Q36: 389.31688 | R36: 551.08571 | S36: 700.12572 | T36: 398.28521 | U36: 1017.7091 | V36: 1746.2871 | W36: 1012.5512
A37: St VINCENT & GRENADINES | B37: 152.7724 | C37: 433.875 | D37: 771.583 | E37: 373.3065 | F37: 104.63777 | G37: 225.844 | H37: 3.4683 | I37: 105.725 | J37: 4.96238 | K37: 96.245 | M37: St VINCENT & GRENADINES | N37: 152.7724 | O37: 433.875 | P37: 771.583 | Q37: 373.3065 | R37: 104.63777 | S37: 225.844 | T37: 3.4683 | U37: 105.725 | V37: 4.96238 | W37: 96.245
A38: Suriname | J38: 309.506 | K38: 1297.43 | M38: Suriname | V38: 309.506 | W38: 1297.43
A39: TRINIDAD & TOBAGO | B39: 1179.4284 | C39: 1056.9023 | D39: 889.90537 | E39: 1214.0665 | F39: 981.58719 | G39: 973.28735 | H39: 1243.9195 | I39: 1080.1863 | J39: 1169.1082 | K39: 1040.569 | M39: TRINIDAD & TOBAGO | N39: 1179.4284 | O39: 1056.9023 | P39: 889.90537 | Q39: 1214.0665 | R39: 981.58719 | S39: 973.28735 | T39: 1243.9195 | U39: 1080.1863 | V39: 1169.1082 | W39: 1040.569
A40: UNITED KINGDOM | B40: 193.0674 | C40: 190.33 | D40: 245.7968 | E40: 230.734 | F40: 359.8692 | G40: 139.67652 | H40: 158.45411 | I40: 132.8629 | J40: 140.02758 | K40: 154.42531 | M40: UNITED KINGDOM | N40: 193.0674 | O40: 190.33 | P40: 245.7968 | Q40: 230.734 | R40: 359.8692 | S40: 139.67652 | T40: 158.45411 | U40: 132.8629 | V40: 140.02758 | W40: 154.42531
A41: UNITED STATES | B41: 2797.904 | C41: 4103.888 | D41: 4444.107 | E41: 2720.431 | F41: 2625.175 | G41: 3661.929 | H41: 3960.39 | I41: 7755.937 | J41: 3093.408 | K41: 3047.949 | M41: UNITED STATES | N41: 2797.904 | O41: 4103.888 | P41: 4444.107 | Q41: 2720.431 | R41: 2625.175 | S41: 3661.929 | T41: 3960.39 | U41: 7755.937 | V41: 3093.408 | W41: 3047.949
A42: VENEZUELA | B42: 3130.0645 | C42: 4220.8099 | D42: 5109.9296 | E42: 2783.6407 | F42: 2098.8538 | G42: 1949.4481 | H42: 1977.8008 | I42: 3171.9328 | J42: 3485.8538 | K42: 2865.3087 | M42: VENEZUELA | N42: 3130.0645 | O42: 4220.8099 | P42: 5109.9296 | Q42: 2783.6407 | R42: 2098.8538 | S42: 1949.4481 | T42: 1977.8008 | U42: 3171.9328 | V42: 3485.8538 | W42: 2865.3087
A43: TOTAL | B43: 128220.12 | C43: 149756.5 | D43: 135103.32 | E43: 135396.97 | F43: 135975.28 | G43: 153379.22 | H43: 120254.58 | I43: 148566.56 | J43: 122142.84 | K43: 138836.21 | M43: TOTAL | N43: 128220.12 | O43: 149756.5 | P43: 135103.32 | Q43: 135396.97 | R43: 135975.28 | S43: 153379.22 | T43: 120254.58 | U43: 148566.56 | V43: 137741.37 | W43: 138291.36
