Workbook
Name _ftn1: 'GTM-EU Proposals'!#REF!
Name _ftnref1: 'GTM-EU Proposals'!#REF!

Sheet GTM-EU Proposals
Q1: PA1_504_Annex 1/2026
A2: Belize, Costa Rica, Curaçao, El Salvador, Guatemala, Honduras, Nicaragua and Panama Proposal - PA1_MAY_27/i2026 | L2: EU Proposal - PA1_MAY_29/i2026
A3: Id | B3: CPC | C3: Category[1] | D3: Catch Limit (t) | L3: Id | M3: CPC | N3: Category | O3: Catch limits (t)
A4: 1 | B4: EU | C4: A | D4: 30298.9 | L4: 1 | M4: EU | N4: A | O4: 31526
A5: 2 | B5: Ghana | C5: A | D5: 25540.6 | L5: 2 | M5: Ghana | N5: A | O5: 21113
A6: 3 | B6: Brazil | C6: B | D6: 14072.6 | L6: 3 | M6: Brazil | N6: A | O6: 14076
A7: 4 | B7: Panama | C7: B | D7: 10613.8 | L7: 4 | M7: Belize | N7: A | O7: 7947
A8: 5 | B8: Senegal | C8: B | D8: 8534.3 | L8: 5 | M8: Senegal | N8: A | O8: 7522
A9: 6 | B9: Belize | C9: B | D9: 9143.8 | L9: 6 | M9: Panama | N9: A | O9: 6637
A10: 7 | B10: El Salvador | C10: C | D10: 7099.2 | L10: 7 | M10: El Salvador | N10: A | O10: 5406
A11: 8 | B11: Curaçao | C11: C | D11: 6612.3 | L11: 8 | M11: Curaçao | N11: A | O11: 5157
A12: 9 | B12: United States | C12: C | D12: 5084.5 | L12: 9 | M12: Japan | N12: A | O12: 3588
A13: * | B13: Small harvesters | C13: D | D13: 13000 | E13: Trigger | F13: 3500 | G13: t | L13: 10 | M13: Cabo Verde | N13: A | O13: 3450
L14: 11 | M14: USA | N14: A | O14: 3423
A15: [1] For the purpose of this Recommendation, the category does not reflect any CPC's economic development level. | L15: 12 | M15: Venezuela | N15: A | O15: 2759
L16: 13 | M16: Guatemala | N16: A | O16: 2550
A17: Para 10b | L17: 14 | M17: Côte d’Ivoire | N17: A | O17: 1770
A18: CPCs in Category D shall be subject to a 3,500 t trigger threshold. If the annual catches of yellowfin tuna by a CPC in Category D exceeds this threshold in two consecutive years from 2027, Panel 1 shall determine a binding catch limit to apply to that CPC in future years. | L18: * | M18: Small harvesters | N18: B | O18: 8076 | P18: Trigger | Q18: 1575 | R18: t
L20: Para 11b
L21: CPCs in Category B shall be subject to a 1,575 t trigger threshold. If the annual catches of yellowfin tuna by a CPC in Category B exceeds this threshold in two consecutive years from 2027, Panel 1 shall determine a binding catch limit to apply to that CPC in future years.

Sheet GTM-Best
B1: Belize, Costa Rica, Curaçao, El Salvador, Guatemala, Honduras, Nicaragua and Panama Proposal - PA1_MAY_27/i2026
B2: Secretariat's calculations on YFT catches for the last ten years / Calculs du Secrétariat concernant les captures d'albacore pour les dix dernières années / Cálculos de la Secretaría sobre las capturas de rabil para los últimos diez años
I3: Year*
A4: ID | B4: CPC | C4: GROUP | D4: CATCH LIMIT** | E4: 2015 | F4: 2016 | G4: 2017 | H4: 2018 | I4: 2019 | J4: 2020 | K4: 2021 | L4: 2022 | M4: 2023 | N4: 2024 | O4: BestY1 | P4: BestY2 | Q4: BestY3 | R4: BestY4 | S4: BestY5 | T4: BestY6 | U4: AvgBest6 | V4: AvgBest5 | W4: AvgBest4
A5: 1 | B5: EUROPEAN UNION | C5: =VLOOKUP(A5,'GTM-EU Proposals'!$A$3:$D$12,3,0) -> A | D5: =VLOOKUP(A5,'GTM-EU Proposals'!$A$3:$D$12,4,0) -> 30298.9 | E5: 43377.29 | F5: 47163.069 | G5: 39643.261 | H5: 37236.932 | I5: 34296.247 | J5: 37423.343 | K5: 24152.047 | L5: 30064.575 | M5: 26045.996 | N5: 31071.245 | O5: {=IFERROR(LARGE(E5:N5,{1,2,3,4,5,6}), "")} -> 47163.069 | P5: 43377.29 | Q5: 39643.261 | R5: 37423.343 | S5: 37236.932 | T5: 34296.247 | U5: =SUM(_xlfn.ANCHORARRAY(O5))/6 -> 39856.69 | V5: =SUM(O5:S5)/5 -> 40968.779 | W5: =SUM(O5:R5)/4 -> 41901.741
A6: 2 | B6: GHANA | C6: =VLOOKUP(A6,'GTM-EU Proposals'!$A$3:$D$12,3,0) -> A | D6: =VLOOKUP(A6,'GTM-EU Proposals'!$A$3:$D$12,4,0) -> 25540.6 | E6: 19659 | F6: 20217.6 | G6: 20398.4 | H6: 24346 | I6: 26242.5 | J6: 26435 | K6: 21263.5 | L6: 29550 | M6: 22159 | N6: 25452 | O6: {=IFERROR(LARGE(E6:N6,{1,2,3,4,5,6}), "")} -> 29550 | P6: 26435 | Q6: 26242.5 | R6: 25452 | S6: 24346 | T6: 22159 | U6: =SUM(_xlfn.ANCHORARRAY(O6))/6 -> 25697.417 | V6: =SUM(O6:S6)/5 -> 26405.1 | W6: =SUM(O6:R6)/4 -> 26919.875
A7: Subtotal Group A | E7: =SUM(E5:E6) -> 63036.29 | F7: =SUM(F5:F6) -> 67380.669 | G7: =SUM(G5:G6) -> 60041.661 | H7: =SUM(H5:H6) -> 61582.932 | I7: =SUM(I5:I6) -> 60538.747 | J7: =SUM(J5:J6) -> 63858.343 | K7: =SUM(K5:K6) -> 45415.547 | L7: =SUM(L5:L6) -> 59614.575 | ... W7: =SUM(W5:W6) -> 68821.616
A8: 3 | B8: BRAZIL | C8: =VLOOKUP(A8,'GTM-EU Proposals'!$A$3:$D$12,3,0) -> B | D8: =VLOOKUP(A8,'GTM-EU Proposals'!$A$3:$D$12,4,0) -> 14072.6 | E8: 13643.343 | F8: 16681.775 | G8: 18362.306 | H8: 16381.177 | I8: 12907.16 | J8: 13183.011 | K8: 13663.997 | L8: 15716 | M8: 18894 | N8: 17729.408 | O8: {=LARGE(E8:N8,{1,2,3,4,5,6})} -> 18894 | P8: 18362.306 | Q8: 17729.408 | R8: 16681.775 | S8: 16381.177 | T8: 15716 | U8: =SUM(_xlfn.ANCHORARRAY(O8))/6 -> 17294.111 | V8: =SUM(O8:S8)/5 -> 17609.733 | W8: =SUM(O8:R8)/4 -> 17916.873
A9: 4 | B9: PANAMA | C9: =VLOOKUP(A9,'GTM-EU Proposals'!$A$3:$D$12,3,0) -> B | D9: =VLOOKUP(A9,'GTM-EU Proposals'!$A$3:$D$12,4,0) -> 10613.8 | E9: 3412.358 | F9: 6167.964 | G9: 5090.282 | H9: 6175.181 | I9: 8244.871 | J9: 10376.424 | K9: 9712.158 | L9: 12013.145 | M9: 8568.4163 | N9: 1421.63 | O9: {=IFERROR(LARGE(E9:N9,{1,2,3,4,5,6}), "")} -> 12013.145 | P9: 10376.424 | Q9: 9712.158 | R9: 8568.4163 | S9: 8244.871 | T9: 6175.181 | U9: =SUM(_xlfn.ANCHORARRAY(O9))/6 -> 9181.6992 | V9: =SUM(O9:S9)/5 -> 9783.0029 | W9: =SUM(O9:R9)/4 -> 10167.536
A10: 5 | B10: SENEGAL | C10: =VLOOKUP(A10,'GTM-EU Proposals'!$A$3:$D$12,3,0) -> B | D10: =VLOOKUP(A10,'GTM-EU Proposals'!$A$3:$D$12,4,0) -> 8534.3 | E10: 1883.15 | F10: 6850.0388 | G10: 3956.9248 | H10: 5029.246 | I10: 8160.611 | J10: 8177.352 | K10: 8227.6166 | L10: 9407.244 | M10: 17027.175 | N10: 15164.493 | O10: {=IFERROR(LARGE(E10:N10,{1,2,3,4,5,6}), "")} -> 17027.175 | P10: 15164.493 | Q10: 9407.244 | R10: 8227.6166 | S10: 8177.352 | T10: 8160.611 | U10: =SUM(_xlfn.ANCHORARRAY(O10))/6 -> 11027.415 | V10: =SUM(O10:S10)/5 -> 11600.776 | W10: =SUM(O10:R10)/4 -> 12456.632
A11: 6 | B11: BELIZE | C11: =VLOOKUP(A11,'GTM-EU Proposals'!$A$3:$D$12,3,0) -> B | D11: =VLOOKUP(A11,'GTM-EU Proposals'!$A$3:$D$12,4,0) -> 9143.8 | E11: 7131.854 | F11: 5659.877 | G11: 6169.678 | H11: 8743.425 | I11: 10107.127 | J11: 9340.972 | K11: 8196.874 | L11: 10117.881 | M11: 9647.399 | N11: 13612.592 | O11: {=LARGE(E11:N11,{1,2,3,4,5,6})} -> 13612.592 | P11: 10117.881 | Q11: 10107.127 | R11: 9647.399 | S11: 9340.972 | T11: 8743.425 | U11: =SUM(_xlfn.ANCHORARRAY(O11))/6 -> 10261.566 | V11: =SUM(O11:S11)/5 -> 10565.194 | W11: =SUM(O11:R11)/4 -> 10871.25
A12: Subtotal Group B | E12: =SUM(E8:E11) -> 26070.705 | F12: =SUM(F8:F11) -> 35359.655 | G12: =SUM(G8:G11) -> 33579.191 | H12: =SUM(H8:H11) -> 36329.029 | I12: =SUM(I8:I11) -> 39419.769 | J12: =SUM(J8:J11) -> 41077.759 | K12: =SUM(K8:K11) -> 39800.646 | L12: =SUM(L8:L11) -> 47254.27 | ... W12: =SUM(W8:W11) -> 51412.29
A13: 7 | B13: EL SALVADOR | C13: =VLOOKUP(A13,'GTM-EU Proposals'!$A$3:$D$12,3,0) -> C | D13: =VLOOKUP(A13,'GTM-EU Proposals'!$A$3:$D$12,4,0) -> 7099.2 | E13: 2781 | F13: 8633 | G13: 6317.963 | H13: 5574.146 | I13: 3976.056 | J13: 8812.85 | K13: 6336.6 | L13: 6322.43 | M13: 4577.78 | N13: 7027.19 | O13: {=IFERROR(LARGE(E13:N13,{1,2,3,4,5,6}), "")} -> 8812.85 | P13: 8633 | Q13: 7027.19 | R13: 6336.6 | S13: 6322.43 | T13: 6317.963 | U13: =SUM(_xlfn.ANCHORARRAY(O13))/6 -> 7241.6722 | V13: =SUM(O13:S13)/5 -> 7426.414 | W13: =SUM(O13:R13)/4 -> 7702.41
A14: 8 | B14: CURAÇAO | C14: =VLOOKUP(A14,'GTM-EU Proposals'!$A$3:$D$12,3,0) -> C | D14: =VLOOKUP(A14,'GTM-EU Proposals'!$A$3:$D$12,4,0) -> 6612.3 | E14: 6267.32 | F14: 8011.606 | G14: 6661.282 | H14: 7615.315 | I14: 7773.035 | J14: 9081.13 | K14: 7795.8332 | L14: 3122.173 | M14: 1249.9 | O14: {=IFERROR(LARGE(E14:N14,{1,2,3,4,5,6}), "")} -> 9081.13 | P14: 8011.606 | Q14: 7795.8332 | R14: 7773.035 | S14: 7615.315 | T14: 6661.282 | U14: =SUM(_xlfn.ANCHORARRAY(O14))/6 -> 7823.0335 | V14: =SUM(O14:S14)/5 -> 8055.3838 | W14: =SUM(O14:R14)/4 -> 8165.401
A15: 9 | B15: UNITED STATES | C15: =VLOOKUP(A15,'GTM-EU Proposals'!$A$3:$D$12,3,0) -> C | D15: =VLOOKUP(A15,'GTM-EU Proposals'!$A$3:$D$12,4,0) -> 5084.5 | E15: 2797.904 | F15: 4103.888 | G15: 4444.107 | H15: 2720.431 | I15: 2625.175 | J15: 3661.929 | K15: 3960.39 | L15: 7755.937 | M15: 3093.408 | N15: 3047.949 | O15: {=IFERROR(LARGE(E15:N15,{1,2,3,4,5,6}), "")} -> 7755.937 | P15: 4444.107 | Q15: 4103.888 | R15: 3960.39 | S15: 3661.929 | T15: 3093.408 | U15: =SUM(_xlfn.ANCHORARRAY(O15))/6 -> 4503.2765 | V15: =SUM(O15:S15)/5 -> 4785.2502 | W15: =SUM(O15:R15)/4 -> 5066.0805
A16: Subtotal Group C | E16: =SUM(E13:E15) -> 11846.224 | F16: =SUM(F13:F15) -> 20748.494 | G16: =SUM(G13:G15) -> 17423.352 | H16: =SUM(H13:H15) -> 15909.892 | I16: =SUM(I13:I15) -> 14374.266 | J16: =SUM(J13:J15) -> 21555.909 | K16: =SUM(K13:K15) -> 18092.823 | L16: =SUM(L13:L15) -> 17200.54 | ... W16: =SUM(W13:W15) -> 20933.892
A17: 10 | B17: ANGOLA | C17: D | D17: ='GTM-EU Proposals'!$F$13 -> 3500 | G17: 1.582 | H17: 2.8 | I17: 0 | J17: 1.27238 | K17: 7.74999 | L17: 14.725 | M17: 5.076 | N17: 8.675 | O17: {=LARGE(E17:N17,{1,2,3,4,5,6})} -> 14.725 | P17: 8.675 | Q17: 7.74999 | R17: 5.076 | S17: 2.8 | T17: 1.582 | U17: =SUM(_xlfn.ANCHORARRAY(O17))/6 -> 6.7679983 | V17: =SUM(O17:S17)/5 -> 7.805198 | W17: =SUM(O17:R17)/4 -> 9.0564975
A18: 11 | B18: BARBADOS | C18: D | D18: ='GTM-EU Proposals'!$F$13 -> 3500 | E18: 262.279 | F18: 324.251 | G18: 269.519 | H18: 248.284 | I18: 121.056 | J18: 173.096 | K18: 212.495 | L18: 201.637 | M18: 236.64 | N18: 188.3531 | O18: {=LARGE(E18:N18,{1,2,3,4,5,6})} -> 324.251 | P18: 269.519 | Q18: 262.279 | R18: 248.284 | S18: 236.64 | T18: 212.495 | U18: =SUM(_xlfn.ANCHORARRAY(O18))/6 -> 258.91133 | V18: =SUM(O18:S18)/5 -> 268.1946 | W18: =SUM(O18:R18)/4 -> 276.08325
A19: 12 | B19: CABO VERDE | C19: D | D19: ='GTM-EU Proposals'!$F$13 -> 3500 | E19: 7866.109 | F19: 6989.53 | G19: 2837.0497 | H19: 5584.1112 | I19: 3698.7502 | J19: 6259.196 | K19: 2042.5459 | L19: 952.00758 | M19: 326.964 | N19: 1209.547 | O19: {=LARGE(E19:N19,{1,2,3,4,5,6})} -> 7866.109 | P19: 6989.53 | Q19: 6259.196 | R19: 5584.1112 | S19: 3698.7502 | T19: 2837.0497 | U19: =SUM(_xlfn.ANCHORARRAY(O19))/6 -> 5539.1244 | V19: =SUM(O19:S19)/5 -> 6079.5393 | W19: =SUM(O19:R19)/4 -> 6674.7366
A20: 13 | B20: CANADA | C20: D | D20: ='GTM-EU Proposals'!$F$13 -> 3500 | E20: 59.013606 | F20: 19.488689 | G20: 193.07766 | H20: 14.646455 | I20: 108.17127 | J20: 75.077376 | K20: 110.87202 | L20: 198.67439 | M20: 175.02158 | N20: 162.80617 | O20: {=LARGE(E20:N20,{1,2,3,4,5,6})} -> 198.67439 | P20: 193.07766 | Q20: 175.02158 | R20: 162.80617 | S20: 110.87202 | T20: 108.17127 | U20: =SUM(_xlfn.ANCHORARRAY(O20))/6 -> 158.10385 | V20: =SUM(O20:S20)/5 -> 168.09036 | W20: =SUM(O20:R20)/4 -> 182.39495
A21: 14 | B21: CHINA PR. | C21: D | D21: ='GTM-EU Proposals'!$F$13 -> 3500 | E21: 169.551 | F21: 467.746 | G21: 578.379 | H21: 359.458 | I21: 320.862 | J21: 461.128 | K21: 140.032 | L21: 528.594 | M21: 2444.352 | N21: 2746.789 | O21: {=LARGE(E21:N21,{1,2,3,4,5,6})} -> 2746.789 | P21: 2444.352 | Q21: 578.379 | R21: 528.594 | S21: 467.746 | T21: 461.128 | U21: =SUM(_xlfn.ANCHORARRAY(O21))/6 -> 1204.498 | V21: =SUM(O21:S21)/5 -> 1353.172 | W21: =SUM(O21:R21)/4 -> 1574.5285
A22: 15 | B22: Chinese Taipei | C22: D | D22: ='GTM-EU Proposals'!$F$13 -> 3500 | E22: 1220 | F22: 942 | G22: 776 | H22: 945 | I22: 736 | J22: 870 | K22: 468 | L22: 669 | M22: 873 | N22: 760 | O22: {=LARGE(E22:N22,{1,2,3,4,5,6})} -> 1220 | P22: 945 | Q22: 942 | R22: 873 | S22: 870 | T22: 776 | U22: =SUM(_xlfn.ANCHORARRAY(O22))/6 -> 937.66667 | V22: =SUM(O22:S22)/5 -> 970 | W22: =SUM(O22:R22)/4 -> 995
A23: 16 | B23: COSTA RICA | C23: D | D23: ='GTM-EU Proposals'!$F$13 -> 3500 | E23: 116.81 | F23: 138.768 | G23: 183.072 | H23: 113.509 | I23: 74.311 | J23: 116.6395 | K23: 150.2452 | L23: 54.08863 | M23: 51.58155 | N23: 114.637 | O23: {=LARGE(E23:N23,{1,2,3,4,5,6})} -> 183.072 | P23: 150.2452 | Q23: 138.768 | R23: 116.81 | S23: 116.6395 | T23: 114.637 | U23: =SUM(_xlfn.ANCHORARRAY(O23))/6 -> 136.69528 | V23: =SUM(O23:S23)/5 -> 141.10694 | W23: =SUM(O23:R23)/4 -> 147.2238
A24: 17 | B24: CÔTE D'IVOIRE | C24: D | D24: ='GTM-EU Proposals'!$F$13 -> 3500 | E24: 250.92598 | F24: 314.916 | G24: 951.65837 | H24: 116.16465 | I24: 2649.3721 | J24: 4459.5142 | K24: 2117.156 | L24: 3336.218 | M24: 1434.487 | N24: 2637.2605 | O24: {=IFERROR(LARGE(E24:N24,{1,2,3,4,5,6}), "")} -> 4459.5142 | P24: 3336.218 | Q24: 2649.3721 | R24: 2637.2605 | S24: 2117.156 | T24: 1434.487 | U24: =SUM(_xlfn.ANCHORARRAY(O24))/6 -> 2772.3346 | V24: =SUM(O24:S24)/5 -> 3039.9042 | W24: =SUM(O24:R24)/4 -> 3270.5912
A25: 18 | B25: FRANCE (St-Pierre et Miquelon) | C25: D | D25: ='GTM-EU Proposals'!$F$13 -> 3500 | H25: 0 | O25: {=IFERROR(LARGE(E25:N25,{1,2,3,4,5,6}), "")} -> 0 | U25: =SUM(_xlfn.ANCHORARRAY(O25))/6 -> 0 | V25: =SUM(O25:S25)/5 -> 0 | W25: =SUM(O25:R25)/4 -> 0
A26: 19 | B26: GABON | C26: D | D26: ='GTM-EU Proposals'!$F$13 -> 3500 | F26: 1 | G26: 3 | O26: {=IFERROR(LARGE(E26:N26,{1,2,3,4,5,6}), "")} -> 3 | P26: 1 | U26: =SUM(_xlfn.ANCHORARRAY(O26))/6 -> 0.66666667 | V26: =SUM(O26:S26)/5 -> 0.8 | W26: =SUM(O26:R26)/4 -> 1
A27: 20 | B27: GAMBIA | C27: D | D27: ='GTM-EU Proposals'!$F$13 -> 3500 | J27: 0.72 | O27: {=IFERROR(LARGE(E27:N27,{1,2,3,4,5,6}), "")} -> 0.72 | U27: =SUM(_xlfn.ANCHORARRAY(O27))/6 -> 0.12 | V27: =SUM(O27:S27)/5 -> 0.144 | W27: =SUM(O27:R27)/4 -> 0.18
A28: 21 | B28: GRENADA | C28: D | D28: ='GTM-EU Proposals'!$F$13 -> 3500 | E28: 1166.8029 | F28: 1606.9336 | G28: 1257.3833 | H28: 1391.2574 | I28: 818.38533 | J28: 783.57568 | K28: 286.542 | L28: 956.927 | M28: 2139.2743 | N28: 1086.487 | O28: {=IFERROR(LARGE(E28:N28,{1,2,3,4,5,6}), "")} -> 2139.2743 | P28: 1606.9336 | Q28: 1391.2574 | R28: 1257.3833 | S28: 1166.8029 | T28: 1086.487 | U28: =SUM(_xlfn.ANCHORARRAY(O28))/6 -> 1441.3564 | V28: =SUM(O28:S28)/5 -> 1512.3303 | W28: =SUM(O28:R28)/4 -> 1598.7122
A29: 22 | B29: GUATEMALA | C29: D | D29: ='GTM-EU Proposals'!$F$13 -> 3500 | E29: 5200.262 | F29: 2720.34 | G29: 3718.447 | H29: 2538.635 | I29: 2957.044 | J29: 2594.11 | K29: 1882.949 | L29: 4263.8729 | M29: 2596.0147 | O29: {=IFERROR(LARGE(E29:N29,{1,2,3,4,5,6}), "")} -> 5200.262 | P29: 4263.8729 | Q29: 3718.447 | R29: 2957.044 | S29: 2720.34 | T29: 2596.0147 | U29: =SUM(_xlfn.ANCHORARRAY(O29))/6 -> 3575.9968 | V29: =SUM(O29:S29)/5 -> 3771.9932 | W29: =SUM(O29:R29)/4 -> 4034.9065
A30: 23 | B30: GUINEA ECUATORIAL | C30: D | D30: ='GTM-EU Proposals'!$F$13 -> 3500 | E30: 8.703 | F30: 6.294 | H30: 8.453 | I30: 10.258 | J30: 8.378 | K30: 6.7821 | L30: 4.33775 | M30: 0.937 | N30: 0.013 | O30: {=IFERROR(LARGE(E30:N30,{1,2,3,4,5,6}), "")} -> 10.258 | P30: 8.703 | Q30: 8.453 | R30: 8.378 | S30: 6.7821 | T30: 6.294 | U30: =SUM(_xlfn.ANCHORARRAY(O30))/6 -> 8.1446833 | V30: =SUM(O30:S30)/5 -> 8.51482 | W30: =SUM(O30:R30)/4 -> 8.948
A31: 24 | B31: GUINÉE REP. | C31: D | D31: ='GTM-EU Proposals'!$F$13 -> 3500 | K31: 322 | L31: 1327 | M31: 913 | N31: 378 | O31: {=IFERROR(LARGE(E31:N31,{1,2,3,4,5,6}), "")} -> 1327 | P31: 913 | Q31: 378 | R31: 322 | U31: =SUM(_xlfn.ANCHORARRAY(O31))/6 -> 490 | V31: =SUM(O31:S31)/5 -> 588 | W31: =SUM(O31:R31)/4 -> 735
A32: 25 | B32: Guyana | C32: D | D32: ='GTM-EU Proposals'!$F$13 -> 3500 | E32: 13.62 | F32: 182.928 | G32: 180.612 | H32: 3.475 | I32: 42.612 | J32: 116.21459 | K32: 164.02 | O32: {=IFERROR(LARGE(E32:N32,{1,2,3,4,5,6}), "")} -> 182.928 | P32: 180.612 | Q32: 164.02 | R32: 116.21459 | S32: 42.612 | T32: 13.62 | U32: =SUM(_xlfn.ANCHORARRAY(O32))/6 -> 116.66776 | V32: =SUM(O32:S32)/5 -> 137.27732 | W32: =SUM(O32:R32)/4 -> 160.94365
A33: 26 | B33: JAPAN | C33: D | D33: ='GTM-EU Proposals'!$F$13 -> 3500 | E33: 3469.557 | F33: 3375.782 | G33: 3123.097 | H33: 3099.295 | I33: 4055.756 | J33: 2662.148 | K33: 3073.444 | L33: 4198.669 | M33: 5915.256 | N33: 5721.432 | O33: {=IFERROR(LARGE(E33:N33,{1,2,3,4,5,6}), "")} -> 5915.256 | P33: 5721.432 | Q33: 4198.669 | R33: 4055.756 | S33: 3469.557 | T33: 3375.782 | U33: =SUM(_xlfn.ANCHORARRAY(O33))/6 -> 4456.0753 | V33: =SUM(O33:S33)/5 -> 4672.134 | W33: =SUM(O33:R33)/4 -> 4972.7782
A34: 27 | B34: KOREA REP. | C34: D | D34: ='GTM-EU Proposals'!$F$13 -> 3500 | E34: 47.70877 | F34: 368.099 | G34: 410.75387 | H34: 454.50973 | I34: 506.751 | J34: 579.34309 | K34: 372.81186 | L34: 480.53024 | M34: 732.45131 | N34: 554.6692 | O34: {=IFERROR(LARGE(E34:N34,{1,2,3,4,5,6}), "")} -> 732.45131 | P34: 579.34309 | Q34: 554.6692 | R34: 506.751 | S34: 480.53024 | T34: 454.50973 | U34: =SUM(_xlfn.ANCHORARRAY(O34))/6 -> 551.37576 | V34: =SUM(O34:S34)/5 -> 570.74897 | W34: =SUM(O34:R34)/4 -> 593.30365
A35: 28 | B35: LIBERIA | C35: D | D35: ='GTM-EU Proposals'!$F$13 -> 3500 | E35: 88 | F35: 76.234 | G35: 87.9364 | H35: 1.9074 | I35: 6.35574 | J35: 1731.0806 | K35: 0.652 | L35: 0.3691 | M35: 3.968 | N35: 0.518431 | O35: {=IFERROR(LARGE(E35:N35,{1,2,3,4,5,6}), "")} -> 1731.0806 | P35: 88 | Q35: 87.9364 | R35: 76.234 | S35: 6.35574 | T35: 3.968 | U35: =SUM(_xlfn.ANCHORARRAY(O35))/6 -> 332.26245 | V35: =SUM(O35:S35)/5 -> 397.92135 | W35: =SUM(O35:R35)/4 -> 495.81275
A36: 29 | B36: MAROC | C36: D | D36: ='GTM-EU Proposals'!$F$13 -> 3500 | E36: 72.422 | F36: 115 | G36: 113 | H36: 108 | I36: 228.1 | J36: 343.5 | K36: 493.4 | L36: 640.07 | M36: 844.64 | N36: 968.57 | O36: {=IFERROR(LARGE(E36:N36,{1,2,3,4,5,6}), "")} -> 968.57 | P36: 844.64 | Q36: 640.07 | R36: 493.4 | S36: 343.5 | T36: 228.1 | U36: =SUM(_xlfn.ANCHORARRAY(O36))/6 -> 586.38 | V36: =SUM(O36:S36)/5 -> 658.036 | W36: =SUM(O36:R36)/4 -> 736.67
A37: 30 | B37: MAURITANIA | C37: D | D37: ='GTM-EU Proposals'!$F$13 -> 3500 | F37: 0.096 | O37: {=IFERROR(LARGE(E37:N37,{1,2,3,4,5,6}), "")} -> 0.096 | U37: =SUM(_xlfn.ANCHORARRAY(O37))/6 -> 0.016 | V37: =SUM(O37:S37)/5 -> 0.0192 | W37: =SUM(O37:R37)/4 -> 0.024
A38: 31 | B38: MEXICO | C38: D | D38: ='GTM-EU Proposals'!$F$13 -> 3500 | E38: 962.588 | F38: 1281.986 | G38: 1244.195 | H38: 1033.117 | I38: 763.185 | J38: 821.113 | K38: 884.766 | L38: 608.567 | M38: 593.465 | N38: 482.556 | O38: {=IFERROR(LARGE(E38:N38,{1,2,3,4,5,6}), "")} -> 1281.986 | P38: 1244.195 | Q38: 1033.117 | R38: 962.588 | S38: 884.766 | T38: 821.113 | U38: =SUM(_xlfn.ANCHORARRAY(O38))/6 -> 1037.9608 | V38: =SUM(O38:S38)/5 -> 1081.3304 | W38: =SUM(O38:R38)/4 -> 1130.4715
A39: 32 | B39: NAMIBIA | C39: D | D39: ='GTM-EU Proposals'!$F$13 -> 3500 | E39: 42.2 | F39: 52.9 | G39: 53.29 | H39: 423.769 | I39: 81.762 | J39: 327.234 | K39: 255.976 | L39: 355.935 | M39: 156.233 | N39: 75.99691 | O39: {=IFERROR(LARGE(E39:N39,{1,2,3,4,5,6}), "")} -> 423.769 | P39: 355.935 | Q39: 327.234 | R39: 255.976 | S39: 156.233 | T39: 81.762 | U39: =SUM(_xlfn.ANCHORARRAY(O39))/6 -> 266.81817 | V39: =SUM(O39:S39)/5 -> 303.8294 | W39: =SUM(O39:R39)/4 -> 340.7285
A40: 33 | B40: S. TOMÉ E PRINCIPE | C40: D | D40: ='GTM-EU Proposals'!$F$13 -> 3500 | E40: 300.7 | F40: 301.4 | G40: 266 | H40: 14.32 | I40: 16.779 | J40: 12.985 | K40: 14.8855 | L40: 23.7362 | M40: 24.005 | N40: 89.9 | O40: {=IFERROR(LARGE(E40:N40,{1,2,3,4,5,6}), "")} -> 301.4 | P40: 300.7 | Q40: 266 | R40: 89.9 | S40: 24.005 | T40: 23.7362 | U40: =SUM(_xlfn.ANCHORARRAY(O40))/6 -> 167.62353 | V40: =SUM(O40:S40)/5 -> 196.401 | W40: =SUM(O40:R40)/4 -> 239.5
...

Sheet GTM-Fixed
B1: Belize, Costa Rica, Curaçao, El Salvador, Guatemala, Honduras, Nicaragua and Panama Proposal - PA1_MAY_27/i2026
B2: Secretariat's calculations on YFT catches for the last ten years / Calculs du Secrétariat concernant les captures d'albacore pour les dix dernières années / Cálculos de la Secretaría sobre las capturas de rabil para los últimos diez años
I3: Year*
A4: ID | B4: CPC | C4: GROUP | D4: CATCH LIMIT** | E4: 2015 | F4: 2016 | G4: 2017 | H4: 2018 | I4: 2019 | J4: 2020 | K4: 2021 | L4: 2022 | M4: 2023 | N4: 2024 | O4: AvgLast10 | P4: AvgLast6 | Q4: AvgLast5 | R4: AvgLast4
A5: 1 | B5: EUROPEAN UNION | C5: =VLOOKUP(A5,'GTM-EU Proposals'!$A$3:$D$12,3,0) -> A | D5: =VLOOKUP(A5,'GTM-EU Proposals'!$A$3:$D$12,4,0) -> 30298.9 | E5: 43377.29 | F5: 47163.069 | G5: 39643.261 | H5: 37236.932 | I5: 34296.247 | J5: 37423.343 | K5: 24152.047 | L5: 30064.575 | M5: 26045.996 | N5: 31071.245 | O5: =AVERAGE(E5:N5) -> 35047.4 | P5: =AVERAGE(I5:N5) -> 30508.909 | Q5: =AVERAGE(J5:N5) -> 29751.441 | R5: =AVERAGE(K5:N5) -> 27833.466
A6: 2 | B6: GHANA | C6: =VLOOKUP(A6,'GTM-EU Proposals'!$A$3:$D$12,3,0) -> A | D6: =VLOOKUP(A6,'GTM-EU Proposals'!$A$3:$D$12,4,0) -> 25540.6 | E6: 19659 | F6: 20217.6 | G6: 20398.4 | H6: 24346 | I6: 26242.5 | J6: 26435 | K6: 21263.5 | L6: 29550 | M6: 22159 | N6: 25452 | O6: =AVERAGE(E6:N6) -> 23572.3 | P6: =AVERAGE(I6:N6) -> 25183.667 | Q6: =AVERAGE(J6:N6) -> 24971.9 | R6: =AVERAGE(K6:N6) -> 24606.125
A7: Subtotal Group A | E7: =SUM(E5:E6) -> 63036.29 | F7: =SUM(F5:F6) -> 67380.669 | G7: =SUM(G5:G6) -> 60041.661 | H7: =SUM(H5:H6) -> 61582.932 | I7: =SUM(I5:I6) -> 60538.747 | J7: =SUM(J5:J6) -> 63858.343 | K7: =SUM(K5:K6) -> 45415.547 | L7: =SUM(L5:L6) -> 59614.575 | ... R7: =SUM(R5:R6) -> 52439.591
A8: 3 | B8: BRAZIL | C8: =VLOOKUP(A8,'GTM-EU Proposals'!$A$3:$D$12,3,0) -> B | D8: =VLOOKUP(A8,'GTM-EU Proposals'!$A$3:$D$12,4,0) -> 14072.6 | E8: 13643.343 | F8: 16681.775 | G8: 18362.306 | H8: 16381.177 | I8: 12907.16 | J8: 13183.011 | K8: 13663.997 | L8: 15716 | M8: 18894 | N8: 17729.408 | O8: =AVERAGE(E8:N8) -> 15716.218 | P8: =AVERAGE(I8:N8) -> 15348.929 | Q8: =AVERAGE(J8:N8) -> 15837.283 | R8: =AVERAGE(K8:N8) -> 16500.851
A9: 4 | B9: PANAMA | C9: =VLOOKUP(A9,'GTM-EU Proposals'!$A$3:$D$12,3,0) -> B | D9: =VLOOKUP(A9,'GTM-EU Proposals'!$A$3:$D$12,4,0) -> 10613.8 | E9: 3412.358 | F9: 6167.964 | G9: 5090.282 | H9: 6175.181 | I9: 8244.871 | J9: 10376.424 | K9: 9712.158 | L9: 12013.145 | M9: 8568.4163 | N9: 1421.63 | O9: =AVERAGE(E9:N9) -> 7118.2429 | P9: =AVERAGE(I9:N9) -> 8389.4407 | Q9: =AVERAGE(J9:N9) -> 8418.3547 | R9: =AVERAGE(K9:N9) -> 7928.8373
A10: 5 | B10: SENEGAL | C10: =VLOOKUP(A10,'GTM-EU Proposals'!$A$3:$D$12,3,0) -> B | D10: =VLOOKUP(A10,'GTM-EU Proposals'!$A$3:$D$12,4,0) -> 8534.3 | E10: 1883.15 | F10: 6850.0388 | G10: 3956.9248 | H10: 5029.246 | I10: 8160.611 | J10: 8177.352 | K10: 8227.6166 | L10: 9407.244 | M10: 17027.175 | N10: 15164.493 | O10: =AVERAGE(E10:N10) -> 8388.3851 | P10: =AVERAGE(I10:N10) -> 11027.415 | Q10: =AVERAGE(J10:N10) -> 11600.776 | R10: =AVERAGE(K10:N10) -> 12456.632
A11: 6 | B11: BELIZE | C11: =VLOOKUP(A11,'GTM-EU Proposals'!$A$3:$D$12,3,0) -> B | D11: =VLOOKUP(A11,'GTM-EU Proposals'!$A$3:$D$12,4,0) -> 9143.8 | E11: 7131.854 | F11: 5659.877 | G11: 6169.678 | H11: 8743.425 | I11: 10107.127 | J11: 9340.972 | K11: 8196.874 | L11: 10117.881 | M11: 9647.399 | N11: 13612.592 | O11: =AVERAGE(E11:N11) -> 8872.7679 | P11: =AVERAGE(I11:N11) -> 10170.474 | Q11: =AVERAGE(J11:N11) -> 10183.144 | R11: =AVERAGE(K11:N11) -> 10393.686
A12: Subtotal Group B | E12: =SUM(E8:E11) -> 26070.705 | F12: =SUM(F8:F11) -> 35359.655 | G12: =SUM(G8:G11) -> 33579.191 | H12: =SUM(H8:H11) -> 36329.029 | I12: =SUM(I8:I11) -> 39419.769 | J12: =SUM(J8:J11) -> 41077.759 | K12: =SUM(K8:K11) -> 39800.646 | L12: =SUM(L8:L11) -> 47254.27 | ... R12: =SUM(R8:R11) -> 47280.007
A13: 7 | B13: EL SALVADOR | C13: =VLOOKUP(A13,'GTM-EU Proposals'!$A$3:$D$12,3,0) -> C | D13: =VLOOKUP(A13,'GTM-EU Proposals'!$A$3:$D$12,4,0) -> 7099.2 | E13: 2781 | F13: 8633 | G13: 6317.963 | H13: 5574.146 | I13: 3976.056 | J13: 8812.85 | K13: 6336.6 | L13: 6322.43 | M13: 4577.78 | N13: 7027.19 | O13: =AVERAGE(E13:N13) -> 6035.9015 | P13: =AVERAGE(I13:N13) -> 6175.4843 | Q13: =AVERAGE(J13:N13) -> 6615.37 | R13: =AVERAGE(K13:N13) -> 6066
A14: 8 | B14: CURAÇAO | C14: =VLOOKUP(A14,'GTM-EU Proposals'!$A$3:$D$12,3,0) -> C | D14: =VLOOKUP(A14,'GTM-EU Proposals'!$A$3:$D$12,4,0) -> 6612.3 | E14: 6267.32 | F14: 8011.606 | G14: 6661.282 | H14: 7615.315 | I14: 7773.035 | J14: 9081.13 | K14: 7795.8332 | L14: 3122.173 | M14: 1249.9 | O14: =AVERAGE(E14:N14) -> 6397.5105 | P14: =AVERAGE(I14:N14) -> 5804.4142 | Q14: =AVERAGE(J14:N14) -> 5312.259 | R14: =AVERAGE(K14:N14) -> 4055.9687
A15: 9 | B15: UNITED STATES | C15: =VLOOKUP(A15,'GTM-EU Proposals'!$A$3:$D$12,3,0) -> C | D15: =VLOOKUP(A15,'GTM-EU Proposals'!$A$3:$D$12,4,0) -> 5084.5 | E15: 2797.904 | F15: 4103.888 | G15: 4444.107 | H15: 2720.431 | I15: 2625.175 | J15: 3661.929 | K15: 3960.39 | L15: 7755.937 | M15: 3093.408 | N15: 3047.949 | O15: =AVERAGE(E15:N15) -> 3821.1118 | P15: =AVERAGE(I15:N15) -> 4024.1313 | Q15: =AVERAGE(J15:N15) -> 4303.9226 | R15: =AVERAGE(K15:N15) -> 4464.421
A16: Subtotal Group C | E16: =SUM(E13:E15) -> 11846.224 | F16: =SUM(F13:F15) -> 20748.494 | G16: =SUM(G13:G15) -> 17423.352 | H16: =SUM(H13:H15) -> 15909.892 | I16: =SUM(I13:I15) -> 14374.266 | J16: =SUM(J13:J15) -> 21555.909 | K16: =SUM(K13:K15) -> 18092.823 | L16: =SUM(L13:L15) -> 17200.54 | ... R16: =SUM(R13:R15) -> 14586.39
A17: 10 | B17: ANGOLA | C17: D | D17: ='GTM-EU Proposals'!$F$13 -> 3500 | G17: 1.582 | H17: 2.8 | I17: 0 | J17: 1.27238 | K17: 7.74999 | L17: 14.725 | M17: 5.076 | N17: 8.675 | O17: =AVERAGE(E17:N17) -> 5.2350462 | P17: =AVERAGE(I17:N17) -> 6.2497283 | Q17: =AVERAGE(J17:N17) -> 7.499674 | R17: =AVERAGE(K17:N17) -> 9.0564975
A18: 11 | B18: BARBADOS | C18: D | D18: ='GTM-EU Proposals'!$F$13 -> 3500 | E18: 262.279 | F18: 324.251 | G18: 269.519 | H18: 248.284 | I18: 121.056 | J18: 173.096 | K18: 212.495 | L18: 201.637 | M18: 236.64 | N18: 188.3531 | O18: =AVERAGE(E18:N18) -> 223.76101 | P18: =AVERAGE(I18:N18) -> 188.87952 | Q18: =AVERAGE(J18:N18) -> 202.44422 | R18: =AVERAGE(K18:N18) -> 209.78127
A19: 12 | B19: CABO VERDE | C19: D | D19: ='GTM-EU Proposals'!$F$13 -> 3500 | E19: 7866.109 | F19: 6989.53 | G19: 2837.0497 | H19: 5584.1112 | I19: 3698.7502 | J19: 6259.196 | K19: 2042.5459 | L19: 952.00758 | M19: 326.964 | N19: 1209.547 | O19: =AVERAGE(E19:N19) -> 3776.5811 | P19: =AVERAGE(I19:N19) -> 2414.8351 | Q19: =AVERAGE(J19:N19) -> 2158.0521 | R19: =AVERAGE(K19:N19) -> 1132.7661
A20: 13 | B20: CANADA | C20: D | D20: ='GTM-EU Proposals'!$F$13 -> 3500 | E20: 59.013606 | F20: 19.488689 | G20: 193.07766 | H20: 14.646455 | I20: 108.17127 | J20: 75.077376 | K20: 110.87202 | L20: 198.67439 | M20: 175.02158 | N20: 162.80617 | O20: =AVERAGE(E20:N20) -> 111.68492 | P20: =AVERAGE(I20:N20) -> 138.43713 | Q20: =AVERAGE(J20:N20) -> 144.49031 | R20: =AVERAGE(K20:N20) -> 161.84354
A21: 14 | B21: CHINA PR. | C21: D | D21: ='GTM-EU Proposals'!$F$13 -> 3500 | E21: 169.551 | F21: 467.746 | G21: 578.379 | H21: 359.458 | I21: 320.862 | J21: 461.128 | K21: 140.032 | L21: 528.594 | M21: 2444.352 | N21: 2746.789 | O21: =AVERAGE(E21:N21) -> 821.6891 | P21: =AVERAGE(I21:N21) -> 1106.9595 | Q21: =AVERAGE(J21:N21) -> 1264.179 | R21: =AVERAGE(K21:N21) -> 1464.9417
A22: 15 | B22: Chinese Taipei | C22: D | D22: ='GTM-EU Proposals'!$F$13 -> 3500 | E22: 1220 | F22: 942 | G22: 776 | H22: 945 | I22: 736 | J22: 870 | K22: 468 | L22: 669 | M22: 873 | N22: 760 | O22: =AVERAGE(E22:N22) -> 825.9 | P22: =AVERAGE(I22:N22) -> 729.33333 | Q22: =AVERAGE(J22:N22) -> 728 | R22: =AVERAGE(K22:N22) -> 692.5
A23: 16 | B23: COSTA RICA | C23: D | D23: ='GTM-EU Proposals'!$F$13 -> 3500 | E23: 116.81 | F23: 138.768 | G23: 183.072 | H23: 113.509 | I23: 74.311 | J23: 116.6395 | K23: 150.2452 | L23: 54.08863 | M23: 51.58155 | N23: 114.637 | O23: =AVERAGE(E23:N23) -> 111.36619 | P23: =AVERAGE(I23:N23) -> 93.583813 | Q23: =AVERAGE(J23:N23) -> 97.438376 | R23: =AVERAGE(K23:N23) -> 92.638095
A24: 17 | B24: CÔTE D'IVOIRE | C24: D | D24: ='GTM-EU Proposals'!$F$13 -> 3500 | E24: 250.92598 | F24: 314.916 | G24: 951.65837 | H24: 116.16465 | I24: 2649.3721 | J24: 4459.5142 | K24: 2117.156 | L24: 3336.218 | M24: 1434.487 | N24: 2637.2605 | O24: =AVERAGE(E24:N24) -> 1826.7673 | P24: =AVERAGE(I24:N24) -> 2772.3346 | Q24: =AVERAGE(J24:N24) -> 2796.9271 | R24: =AVERAGE(K24:N24) -> 2381.2804
A25: 18 | B25: FRANCE (St-Pierre et Miquelon) | C25: D | D25: ='GTM-EU Proposals'!$F$13 -> 3500 | H25: 0 | O25: =AVERAGE(E25:N25) -> 0 | P25: 0 | Q25: 0 | R25: 0
A26: 19 | B26: GABON | C26: D | D26: ='GTM-EU Proposals'!$F$13 -> 3500 | F26: 1 | G26: 3 | O26: =AVERAGE(E26:N26) -> 2 | P26: 0 | Q26: 0 | R26: 0
A27: 20 | B27: GAMBIA | C27: D | D27: ='GTM-EU Proposals'!$F$13 -> 3500 | J27: 0.72 | O27: =AVERAGE(E27:N27) -> 0.72 | P27: =AVERAGE(I27:N27) -> 0.72 | Q27: =AVERAGE(J27:N27) -> 0.72 | R27: 0
A28: 21 | B28: GRENADA | C28: D | D28: ='GTM-EU Proposals'!$F$13 -> 3500 | E28: 1166.8029 | F28: 1606.9336 | G28: 1257.3833 | H28: 1391.2574 | I28: 818.38533 | J28: 783.57568 | K28: 286.542 | L28: 956.927 | M28: 2139.2743 | N28: 1086.487 | O28: =AVERAGE(E28:N28) -> 1149.3569 | P28: =AVERAGE(I28:N28) -> 1011.8652 | Q28: =AVERAGE(J28:N28) -> 1050.5612 | R28: =AVERAGE(K28:N28) -> 1117.3076
A29: 22 | B29: GUATEMALA | C29: D | D29: ='GTM-EU Proposals'!$F$13 -> 3500 | E29: 5200.262 | F29: 2720.34 | G29: 3718.447 | H29: 2538.635 | I29: 2957.044 | J29: 2594.11 | K29: 1882.949 | L29: 4263.8729 | M29: 2596.0147 | O29: =AVERAGE(E29:N29) -> 3163.5194 | P29: =AVERAGE(I29:N29) -> 2858.7981 | Q29: =AVERAGE(J29:N29) -> 2834.2366 | R29: =AVERAGE(K29:N29) -> 2914.2789
A30: 23 | B30: GUINEA ECUATORIAL | C30: D | D30: ='GTM-EU Proposals'!$F$13 -> 3500 | E30: 8.703 | F30: 6.294 | H30: 8.453 | I30: 10.258 | J30: 8.378 | K30: 6.7821 | L30: 4.33775 | M30: 0.937 | N30: 0.013 | O30: =AVERAGE(E30:N30) -> 6.0173167 | P30: =AVERAGE(I30:N30) -> 5.1176417 | Q30: =AVERAGE(J30:N30) -> 4.08957 | R30: =AVERAGE(K30:N30) -> 3.0174625
A31: 24 | B31: GUINÉE REP. | C31: D | D31: ='GTM-EU Proposals'!$F$13 -> 3500 | K31: 322 | L31: 1327 | M31: 913 | N31: 378 | O31: =AVERAGE(E31:N31) -> 735 | P31: =AVERAGE(I31:N31) -> 735 | Q31: =AVERAGE(J31:N31) -> 735 | R31: =AVERAGE(K31:N31) -> 735
A32: 25 | B32: Guyana | C32: D | D32: ='GTM-EU Proposals'!$F$13 -> 3500 | E32: 13.62 | F32: 182.928 | G32: 180.612 | H32: 3.475 | I32: 42.612 | J32: 116.21459 | K32: 164.02 | O32: =AVERAGE(E32:N32) -> 100.49737 | P32: =AVERAGE(I32:N32) -> 107.61553 | Q32: =AVERAGE(J32:N32) -> 140.11729 | R32: =AVERAGE(K32:N32) -> 164.02
A33: 26 | B33: JAPAN | C33: D | D33: ='GTM-EU Proposals'!$F$13 -> 3500 | E33: 3469.557 | F33: 3375.782 | G33: 3123.097 | H33: 3099.295 | I33: 4055.756 | J33: 2662.148 | K33: 3073.444 | L33: 4198.669 | M33: 5915.256 | N33: 5721.432 | O33: =AVERAGE(E33:N33) -> 3869.4436 | P33: =AVERAGE(I33:N33) -> 4271.1175 | Q33: =AVERAGE(J33:N33) -> 4314.1898 | R33: =AVERAGE(K33:N33) -> 4727.2002
A34: 27 | B34: KOREA REP. | C34: D | D34: ='GTM-EU Proposals'!$F$13 -> 3500 | E34: 47.70877 | F34: 368.099 | G34: 410.75387 | H34: 454.50973 | I34: 506.751 | J34: 579.34309 | K34: 372.81186 | L34: 480.53024 | M34: 732.45131 | N34: 554.6692 | O34: =AVERAGE(E34:N34) -> 450.76281 | P34: =AVERAGE(I34:N34) -> 537.75945 | Q34: =AVERAGE(J34:N34) -> 543.96114 | R34: =AVERAGE(K34:N34) -> 535.11565
A35: 28 | B35: LIBERIA | C35: D | D35: ='GTM-EU Proposals'!$F$13 -> 3500 | E35: 88 | F35: 76.234 | G35: 87.9364 | H35: 1.9074 | I35: 6.35574 | J35: 1731.0806 | K35: 0.652 | L35: 0.3691 | M35: 3.968 | N35: 0.518431 | O35: =AVERAGE(E35:N35) -> 199.70217 | P35: =AVERAGE(I35:N35) -> 290.49064 | Q35: =AVERAGE(J35:N35) -> 347.31762 | R35: =AVERAGE(K35:N35) -> 1.3768828
A36: 29 | B36: MAROC | C36: D | D36: ='GTM-EU Proposals'!$F$13 -> 3500 | E36: 72.422 | F36: 115 | G36: 113 | H36: 108 | I36: 228.1 | J36: 343.5 | K36: 493.4 | L36: 640.07 | M36: 844.64 | N36: 968.57 | O36: =AVERAGE(E36:N36) -> 392.6702 | P36: =AVERAGE(I36:N36) -> 586.38 | Q36: =AVERAGE(J36:N36) -> 658.036 | R36: =AVERAGE(K36:N36) -> 736.67
A37: 30 | B37: MAURITANIA | C37: D | D37: ='GTM-EU Proposals'!$F$13 -> 3500 | F37: 0.096 | O37: =AVERAGE(E37:N37) -> 0.096 | P37: 0 | Q37: 0 | R37: 0
A38: 31 | B38: MEXICO | C38: D | D38: ='GTM-EU Proposals'!$F$13 -> 3500 | E38: 962.588 | F38: 1281.986 | G38: 1244.195 | H38: 1033.117 | I38: 763.185 | J38: 821.113 | K38: 884.766 | L38: 608.567 | M38: 593.465 | N38: 482.556 | O38: =AVERAGE(E38:N38) -> 867.5538 | P38: =AVERAGE(I38:N38) -> 692.27533 | Q38: =AVERAGE(J38:N38) -> 678.0934 | R38: =AVERAGE(K38:N38) -> 642.3385
A39: 32 | B39: NAMIBIA | C39: D | D39: ='GTM-EU Proposals'!$F$13 -> 3500 | E39: 42.2 | F39: 52.9 | G39: 53.29 | H39: 423.769 | I39: 81.762 | J39: 327.234 | K39: 255.976 | L39: 355.935 | M39: 156.233 | N39: 75.99691 | O39: =AVERAGE(E39:N39) -> 182.52959 | P39: =AVERAGE(I39:N39) -> 208.85615 | Q39: =AVERAGE(J39:N39) -> 234.27498 | R39: =AVERAGE(K39:N39) -> 211.03523
A40: 33 | B40: S. TOMÉ E PRINCIPE | C40: D | D40: ='GTM-EU Proposals'!$F$13 -> 3500 | E40: 300.7 | F40: 301.4 | G40: 266 | H40: 14.32 | I40: 16.779 | J40: 12.985 | K40: 14.8855 | L40: 23.7362 | M40: 24.005 | N40: 89.9 | O40: =AVERAGE(E40:N40) -> 106.47107 | P40: =AVERAGE(I40:N40) -> 30.381783 | Q40: =AVERAGE(J40:N40) -> 33.10234 | R40: =AVERAGE(K40:N40) -> 38.131675
...

Sheet EU-Best
B1: EU Proposal - PA1_MAY_29/i2026
B2: Secretariat's calculations on YFT catches for the last ten years / Calculs du Secrétariat concernant les captures d'albacore pour les dix dernières années / Cálculos de la Secretaría sobre las capturas de rabil para los últimos diez años
I3: Year*
A4: ID | B4: CPC | C4: GROUP | D4: CATCH LIMIT** | E4: 2015 | F4: 2016 | G4: 2017 | H4: 2018 | I4: 2019 | J4: 2020 | K4: 2021 | L4: 2022 | M4: 2023 | N4: 2024 | O4: BestY1 | P4: BestY2 | Q4: BestY3 | R4: BestY4 | S4: BestY5 | T4: BestY6 | U4: AvgBest6 | V4: AvgBest5 | W4: AvgBest4
A5: 1 | B5: EUROPEAN UNION | C5: =VLOOKUP(A5,'GTM-EU Proposals'!$L$3:$O$17,3,0) -> A | D5: =VLOOKUP(A5,'GTM-EU Proposals'!$L$3:$O$17,4,0) -> 31526 | E5: 43377.29 | F5: 47163.069 | G5: 39643.261 | H5: 37236.932 | I5: 34296.247 | J5: 37423.343 | K5: 24152.047 | L5: 30064.575 | M5: 26045.996 | N5: 31071.245 | O5: {=IFERROR(LARGE(E5:N5,{1,2,3,4,5,6}), "")} -> 47163.069 | P5: 43377.29 | Q5: 39643.261 | R5: 37423.343 | S5: 37236.932 | T5: 34296.247 | U5: =SUM(_xlfn.ANCHORARRAY(O5))/6 -> 39856.69 | V5: =SUM(O5:S5)/5 -> 40968.779 | W5: =SUM(O5:R5)/4 -> 41901.741
A6: 2 | B6: GHANA | C6: =VLOOKUP(A6,'GTM-EU Proposals'!$L$3:$O$17,3,0) -> A | D6: =VLOOKUP(A6,'GTM-EU Proposals'!$L$3:$O$17,4,0) -> 21113 | E6: 19659 | F6: 20217.6 | G6: 20398.4 | H6: 24346 | I6: 26242.5 | J6: 26435 | K6: 21263.5 | L6: 29550 | M6: 22159 | N6: 25452 | O6: {=IFERROR(LARGE(E6:N6,{1,2,3,4,5,6}), "")} -> 29550 | P6: 26435 | Q6: 26242.5 | R6: 25452 | S6: 24346 | T6: 22159 | U6: =SUM(_xlfn.ANCHORARRAY(O6))/6 -> 25697.417 | V6: =SUM(O6:S6)/5 -> 26405.1 | W6: =SUM(O6:R6)/4 -> 26919.875
A7: 3 | B7: BRAZIL | C7: =VLOOKUP(A7,'GTM-EU Proposals'!$L$3:$O$17,3,0) -> A | D7: =VLOOKUP(A7,'GTM-EU Proposals'!$L$3:$O$17,4,0) -> 14076 | E7: 13643.343 | F7: 16681.775 | G7: 18362.306 | H7: 16381.177 | I7: 12907.16 | J7: 13183.011 | K7: 13663.997 | L7: 15716 | M7: 18894 | N7: 17729.408 | O7: {=LARGE(E7:N7,{1,2,3,4,5,6})} -> 18894 | P7: 18362.306 | Q7: 17729.408 | R7: 16681.775 | S7: 16381.177 | T7: 15716 | U7: =SUM(_xlfn.ANCHORARRAY(O7))/6 -> 17294.111 | V7: =SUM(O7:S7)/5 -> 17609.733 | W7: =SUM(O7:R7)/4 -> 17916.873
A8: 4 | B8: BELIZE | C8: =VLOOKUP(A8,'GTM-EU Proposals'!$L$3:$O$17,3,0) -> A | D8: =VLOOKUP(A8,'GTM-EU Proposals'!$L$3:$O$17,4,0) -> 7947 | E8: 7131.854 | F8: 5659.877 | G8: 6169.678 | H8: 8743.425 | I8: 10107.127 | J8: 9340.972 | K8: 8196.874 | L8: 10117.881 | M8: 9647.399 | N8: 13612.592 | O8: {=LARGE(E8:N8,{1,2,3,4,5,6})} -> 13612.592 | P8: 10117.881 | Q8: 10107.127 | R8: 9647.399 | S8: 9340.972 | T8: 8743.425 | U8: =SUM(_xlfn.ANCHORARRAY(O8))/6 -> 10261.566 | V8: =SUM(O8:S8)/5 -> 10565.194 | W8: =SUM(O8:R8)/4 -> 10871.25
A9: 5 | B9: SENEGAL | C9: =VLOOKUP(A9,'GTM-EU Proposals'!$L$3:$O$17,3,0) -> A | D9: =VLOOKUP(A9,'GTM-EU Proposals'!$L$3:$O$17,4,0) -> 7522 | E9: 1883.15 | F9: 6850.0388 | G9: 3956.9248 | H9: 5029.246 | I9: 8160.611 | J9: 8177.352 | K9: 8227.6166 | L9: 9407.244 | M9: 17027.175 | N9: 15164.493 | O9: {=IFERROR(LARGE(E9:N9,{1,2,3,4,5,6}), "")} -> 17027.175 | P9: 15164.493 | Q9: 9407.244 | R9: 8227.6166 | S9: 8177.352 | T9: 8160.611 | U9: =SUM(_xlfn.ANCHORARRAY(O9))/6 -> 11027.415 | V9: =SUM(O9:S9)/5 -> 11600.776 | W9: =SUM(O9:R9)/4 -> 12456.632
A10: 6 | B10: PANAMA | C10: =VLOOKUP(A10,'GTM-EU Proposals'!$L$3:$O$17,3,0) -> A | D10: =VLOOKUP(A10,'GTM-EU Proposals'!$L$3:$O$17,4,0) -> 6637 | E10: 3412.358 | F10: 6167.964 | G10: 5090.282 | H10: 6175.181 | I10: 8244.871 | J10: 10376.424 | K10: 9712.158 | L10: 12013.145 | M10: 8568.4163 | N10: 1421.63 | O10: {=IFERROR(LARGE(E10:N10,{1,2,3,4,5,6}), "")} -> 12013.145 | P10: 10376.424 | Q10: 9712.158 | R10: 8568.4163 | S10: 8244.871 | T10: 6175.181 | U10: =SUM(_xlfn.ANCHORARRAY(O10))/6 -> 9181.6992 | V10: =SUM(O10:S10)/5 -> 9783.0029 | W10: =SUM(O10:R10)/4 -> 10167.536
A11: 7 | B11: EL SALVADOR | C11: =VLOOKUP(A11,'GTM-EU Proposals'!$L$3:$O$17,3,0) -> A | D11: =VLOOKUP(A11,'GTM-EU Proposals'!$L$3:$O$17,4,0) -> 5406 | E11: 2781 | F11: 8633 | G11: 6317.963 | H11: 5574.146 | I11: 3976.056 | J11: 8812.85 | K11: 6336.6 | L11: 6322.43 | M11: 4577.78 | N11: 7027.19 | O11: {=IFERROR(LARGE(E11:N11,{1,2,3,4,5,6}), "")} -> 8812.85 | P11: 8633 | Q11: 7027.19 | R11: 6336.6 | S11: 6322.43 | T11: 6317.963 | U11: =SUM(_xlfn.ANCHORARRAY(O11))/6 -> 7241.6722 | V11: =SUM(O11:S11)/5 -> 7426.414 | W11: =SUM(O11:R11)/4 -> 7702.41
A12: 8 | B12: CURAÇAO | C12: =VLOOKUP(A12,'GTM-EU Proposals'!$L$3:$O$17,3,0) -> A | D12: =VLOOKUP(A12,'GTM-EU Proposals'!$L$3:$O$17,4,0) -> 5157 | E12: 6267.32 | F12: 8011.606 | G12: 6661.282 | H12: 7615.315 | I12: 7773.035 | J12: 9081.13 | K12: 7795.8332 | L12: 3122.173 | M12: 1249.9 | O12: {=IFERROR(LARGE(E12:N12,{1,2,3,4,5,6}), "")} -> 9081.13 | P12: 8011.606 | Q12: 7795.8332 | R12: 7773.035 | S12: 7615.315 | T12: 6661.282 | U12: =SUM(_xlfn.ANCHORARRAY(O12))/6 -> 7823.0335 | V12: =SUM(O12:S12)/5 -> 8055.3838 | W12: =SUM(O12:R12)/4 -> 8165.401
A13: 9 | B13: JAPAN | C13: =VLOOKUP(A13,'GTM-EU Proposals'!$L$3:$O$17,3,0) -> A | D13: =VLOOKUP(A13,'GTM-EU Proposals'!$L$3:$O$17,4,0) -> 3588 | E13: 3469.557 | F13: 3375.782 | G13: 3123.097 | H13: 3099.295 | I13: 4055.756 | J13: 2662.148 | K13: 3073.444 | L13: 4198.669 | M13: 5915.256 | N13: 5721.432 | O13: {=IFERROR(LARGE(E13:N13,{1,2,3,4,5,6}), "")} -> 5915.256 | P13: 5721.432 | Q13: 4198.669 | R13: 4055.756 | S13: 3469.557 | T13: 3375.782 | U13: =SUM(_xlfn.ANCHORARRAY(O13))/6 -> 4456.0753 | V13: =SUM(O13:S13)/5 -> 4672.134 | W13: =SUM(O13:R13)/4 -> 4972.7782
A14: 10 | B14: CABO VERDE | C14: =VLOOKUP(A14,'GTM-EU Proposals'!$L$3:$O$17,3,0) -> A | D14: =VLOOKUP(A14,'GTM-EU Proposals'!$L$3:$O$17,4,0) -> 3450 | E14: 7866.109 | F14: 6989.53 | G14: 2837.0497 | H14: 5584.1112 | I14: 3698.7502 | J14: 6259.196 | K14: 2042.5459 | L14: 952.00758 | M14: 326.964 | N14: 1209.547 | O14: {=LARGE(E14:N14,{1,2,3,4,5,6})} -> 7866.109 | P14: 6989.53 | Q14: 6259.196 | R14: 5584.1112 | S14: 3698.7502 | T14: 2837.0497 | U14: =SUM(_xlfn.ANCHORARRAY(O14))/6 -> 5539.1244 | V14: =SUM(O14:S14)/5 -> 6079.5393 | W14: =SUM(O14:R14)/4 -> 6674.7366
A15: 11 | B15: UNITED STATES | C15: =VLOOKUP(A15,'GTM-EU Proposals'!$L$3:$O$17,3,0) -> A | D15: =VLOOKUP(A15,'GTM-EU Proposals'!$L$3:$O$17,4,0) -> 3423 | E15: 2797.904 | F15: 4103.888 | G15: 4444.107 | H15: 2720.431 | I15: 2625.175 | J15: 3661.929 | K15: 3960.39 | L15: 7755.937 | M15: 3093.408 | N15: 3047.949 | O15: {=IFERROR(LARGE(E15:N15,{1,2,3,4,5,6}), "")} -> 7755.937 | P15: 4444.107 | Q15: 4103.888 | R15: 3960.39 | S15: 3661.929 | T15: 3093.408 | U15: =SUM(_xlfn.ANCHORARRAY(O15))/6 -> 4503.2765 | V15: =SUM(O15:S15)/5 -> 4785.2502 | W15: =SUM(O15:R15)/4 -> 5066.0805
A16: 12 | B16: VENEZUELA | C16: =VLOOKUP(A16,'GTM-EU Proposals'!$L$3:$O$17,3,0) -> A | D16: =VLOOKUP(A16,'GTM-EU Proposals'!$L$3:$O$17,4,0) -> 2759 | E16: 3130.0645 | F16: 4220.8099 | G16: 5109.9296 | H16: 2783.6407 | I16: 2098.8538 | J16: 1949.4481 | K16: 1977.8008 | L16: 3171.9328 | M16: 3485.8538 | N16: 2865.3087 | O16: {=IFERROR(LARGE(E16:N16,{1,2,3,4,5,6}), "")} -> 5109.9296 | P16: 4220.8099 | Q16: 3485.8538 | R16: 3171.9328 | S16: 3130.0645 | T16: 2865.3087 | U16: =SUM(_xlfn.ANCHORARRAY(O16))/6 -> 3663.9832 | V16: =SUM(O16:S16)/5 -> 3823.7181 | W16: =SUM(O16:R16)/4 -> 3997.1315
A17: 13 | B17: GUATEMALA | C17: =VLOOKUP(A17,'GTM-EU Proposals'!$L$3:$O$17,3,0) -> A | D17: =VLOOKUP(A17,'GTM-EU Proposals'!$L$3:$O$17,4,0) -> 2550 | E17: 5200.262 | F17: 2720.34 | G17: 3718.447 | H17: 2538.635 | I17: 2957.044 | J17: 2594.11 | K17: 1882.949 | L17: 4263.8729 | M17: 2596.0147 | O17: {=IFERROR(LARGE(E17:N17,{1,2,3,4,5,6}), "")} -> 5200.262 | P17: 4263.8729 | Q17: 3718.447 | R17: 2957.044 | S17: 2720.34 | T17: 2596.0147 | U17: =SUM(_xlfn.ANCHORARRAY(O17))/6 -> 3575.9968 | V17: =SUM(O17:S17)/5 -> 3771.9932 | W17: =SUM(O17:R17)/4 -> 4034.9065
A18: 14 | B18: CÔTE D'IVOIRE | C18: =VLOOKUP(A18,'GTM-EU Proposals'!$L$3:$O$17,3,0) -> A | D18: =VLOOKUP(A18,'GTM-EU Proposals'!$L$3:$O$17,4,0) -> 1770 | E18: 250.92598 | F18: 314.916 | G18: 951.65837 | H18: 116.16465 | I18: 2649.3721 | J18: 4459.5142 | K18: 2117.156 | L18: 3336.218 | M18: 1434.487 | N18: 2637.2605 | O18: {=IFERROR(LARGE(E18:N18,{1,2,3,4,5,6}), "")} -> 4459.5142 | P18: 3336.218 | Q18: 2649.3721 | R18: 2637.2605 | S18: 2117.156 | T18: 1434.487 | U18: =SUM(_xlfn.ANCHORARRAY(O18))/6 -> 2772.3346 | V18: =SUM(O18:S18)/5 -> 3039.9042 | W18: =SUM(O18:R18)/4 -> 3270.5912
A19: Subtotal Group A | E19: =SUM(E5:E18) -> 120870.14 | F19: =SUM(F5:F18) -> 141110.2 | G19: =SUM(G5:G18) -> 126784.39 | H19: =SUM(H5:H18) -> 127943.7 | I19: =SUM(I5:I18) -> 129792.56 | J19: =SUM(J5:J18) -> 144416.43 | K19: =SUM(K5:K18) -> 114402.91 | L19: =SUM(L5:L18) -> 139992.09 | ... W19: =SUM(W5:W18) -> 164117.94
A20: 15 | B20: ANGOLA | C20: B | D20: ='GTM-EU Proposals'!$Q$18 -> 1575 | G20: 1.582 | H20: 2.8 | I20: 0 | J20: 1.27238 | K20: 7.74999 | L20: 14.725 | M20: 5.076 | N20: 8.675 | O20: {=LARGE(E20:N20,{1,2,3,4,5,6})} -> 14.725 | P20: 8.675 | Q20: 7.74999 | R20: 5.076 | S20: 2.8 | T20: 1.582 | U20: =SUM(_xlfn.ANCHORARRAY(O20))/6 -> 6.7679983 | V20: =SUM(O20:S20)/5 -> 7.805198 | W20: =SUM(O20:R20)/4 -> 9.0564975
A21: 16 | B21: BARBADOS | C21: B | D21: ='GTM-EU Proposals'!$Q$18 -> 1575 | E21: 262.279 | F21: 324.251 | G21: 269.519 | H21: 248.284 | I21: 121.056 | J21: 173.096 | K21: 212.495 | L21: 201.637 | M21: 236.64 | N21: 188.3531 | O21: {=LARGE(E21:N21,{1,2,3,4,5,6})} -> 324.251 | P21: 269.519 | Q21: 262.279 | R21: 248.284 | S21: 236.64 | T21: 212.495 | U21: =SUM(_xlfn.ANCHORARRAY(O21))/6 -> 258.91133 | V21: =SUM(O21:S21)/5 -> 268.1946 | W21: =SUM(O21:R21)/4 -> 276.08325
A22: 17 | B22: CANADA | C22: B | D22: ='GTM-EU Proposals'!$Q$18 -> 1575 | E22: 59.013606 | F22: 19.488689 | G22: 193.07766 | H22: 14.646455 | I22: 108.17127 | J22: 75.077376 | K22: 110.87202 | L22: 198.67439 | M22: 175.02158 | N22: 162.80617 | O22: {=LARGE(E22:N22,{1,2,3,4,5,6})} -> 198.67439 | P22: 193.07766 | Q22: 175.02158 | R22: 162.80617 | S22: 110.87202 | T22: 108.17127 | U22: =SUM(_xlfn.ANCHORARRAY(O22))/6 -> 158.10385 | V22: =SUM(O22:S22)/5 -> 168.09036 | W22: =SUM(O22:R22)/4 -> 182.39495
A23: 18 | B23: CHINA PR. | C23: B | D23: ='GTM-EU Proposals'!$Q$18 -> 1575 | E23: 169.551 | F23: 467.746 | G23: 578.379 | H23: 359.458 | I23: 320.862 | J23: 461.128 | K23: 140.032 | L23: 528.594 | M23: 2444.352 | N23: 2746.789 | O23: {=LARGE(E23:N23,{1,2,3,4,5,6})} -> 2746.789 | P23: 2444.352 | Q23: 578.379 | R23: 528.594 | S23: 467.746 | T23: 461.128 | U23: =SUM(_xlfn.ANCHORARRAY(O23))/6 -> 1204.498 | V23: =SUM(O23:S23)/5 -> 1353.172 | W23: =SUM(O23:R23)/4 -> 1574.5285
A24: 19 | B24: Chinese Taipei | C24: B | D24: ='GTM-EU Proposals'!$Q$18 -> 1575 | E24: 1220 | F24: 942 | G24: 776 | H24: 945 | I24: 736 | J24: 870 | K24: 468 | L24: 669 | M24: 873 | N24: 760 | O24: {=LARGE(E24:N24,{1,2,3,4,5,6})} -> 1220 | P24: 945 | Q24: 942 | R24: 873 | S24: 870 | T24: 776 | U24: =SUM(_xlfn.ANCHORARRAY(O24))/6 -> 937.66667 | V24: =SUM(O24:S24)/5 -> 970 | W24: =SUM(O24:R24)/4 -> 995
A25: 20 | B25: COSTA RICA | C25: B | D25: ='GTM-EU Proposals'!$Q$18 -> 1575 | E25: 116.81 | F25: 138.768 | G25: 183.072 | H25: 113.509 | I25: 74.311 | J25: 116.6395 | K25: 150.2452 | L25: 54.08863 | M25: 51.58155 | N25: 114.637 | O25: {=LARGE(E25:N25,{1,2,3,4,5,6})} -> 183.072 | P25: 150.2452 | Q25: 138.768 | R25: 116.81 | S25: 116.6395 | T25: 114.637 | U25: =SUM(_xlfn.ANCHORARRAY(O25))/6 -> 136.69528 | V25: =SUM(O25:S25)/5 -> 141.10694 | W25: =SUM(O25:R25)/4 -> 147.2238
A26: 21 | B26: FRANCE (St-Pierre et Miquelon) | C26: B | D26: ='GTM-EU Proposals'!$Q$18 -> 1575 | H26: 0 | O26: {=IFERROR(LARGE(E26:N26,{1,2,3,4,5,6}), "")} -> 0 | U26: =SUM(_xlfn.ANCHORARRAY(O26))/6 -> 0 | V26: =SUM(O26:S26)/5 -> 0 | W26: =SUM(O26:R26)/4 -> 0
A27: 22 | B27: GABON | C27: B | D27: ='GTM-EU Proposals'!$Q$18 -> 1575 | F27: 1 | G27: 3 | O27: {=IFERROR(LARGE(E27:N27,{1,2,3,4,5,6}), "")} -> 3 | P27: 1 | U27: =SUM(_xlfn.ANCHORARRAY(O27))/6 -> 0.66666667 | V27: =SUM(O27:S27)/5 -> 0.8 | W27: =SUM(O27:R27)/4 -> 1
A28: 23 | B28: GAMBIA | C28: B | D28: ='GTM-EU Proposals'!$Q$18 -> 1575 | J28: 0.72 | O28: {=IFERROR(LARGE(E28:N28,{1,2,3,4,5,6}), "")} -> 0.72 | U28: =SUM(_xlfn.ANCHORARRAY(O28))/6 -> 0.12 | V28: =SUM(O28:S28)/5 -> 0.144 | W28: =SUM(O28:R28)/4 -> 0.18
A29: 24 | B29: GRENADA | C29: B | D29: ='GTM-EU Proposals'!$Q$18 -> 1575 | E29: 1166.8029 | F29: 1606.9336 | G29: 1257.3833 | H29: 1391.2574 | I29: 818.38533 | J29: 783.57568 | K29: 286.542 | L29: 956.927 | M29: 2139.2743 | N29: 1086.487 | O29: {=IFERROR(LARGE(E29:N29,{1,2,3,4,5,6}), "")} -> 2139.2743 | P29: 1606.9336 | Q29: 1391.2574 | R29: 1257.3833 | S29: 1166.8029 | T29: 1086.487 | U29: =SUM(_xlfn.ANCHORARRAY(O29))/6 -> 1441.3564 | V29: =SUM(O29:S29)/5 -> 1512.3303 | W29: =SUM(O29:R29)/4 -> 1598.7122
A30: 25 | B30: GUINEA ECUATORIAL | C30: B | D30: ='GTM-EU Proposals'!$Q$18 -> 1575 | E30: 8.703 | F30: 6.294 | H30: 8.453 | I30: 10.258 | J30: 8.378 | K30: 6.7821 | L30: 4.33775 | M30: 0.937 | N30: 0.013 | O30: {=IFERROR(LARGE(E30:N30,{1,2,3,4,5,6}), "")} -> 10.258 | P30: 8.703 | Q30: 8.453 | R30: 8.378 | S30: 6.7821 | T30: 6.294 | U30: =SUM(_xlfn.ANCHORARRAY(O30))/6 -> 8.1446833 | V30: =SUM(O30:S30)/5 -> 8.51482 | W30: =SUM(O30:R30)/4 -> 8.948
A31: 26 | B31: GUINÉE REP. | C31: B | D31: ='GTM-EU Proposals'!$Q$18 -> 1575 | K31: 322 | L31: 1327 | M31: 913 | N31: 378 | O31: {=IFERROR(LARGE(E31:N31,{1,2,3,4,5,6}), "")} -> 1327 | P31: 913 | Q31: 378 | R31: 322 | U31: =SUM(_xlfn.ANCHORARRAY(O31))/6 -> 490 | V31: =SUM(O31:S31)/5 -> 588 | W31: =SUM(O31:R31)/4 -> 735
A32: 27 | B32: Guyana | C32: B | D32: ='GTM-EU Proposals'!$Q$18 -> 1575 | E32: 13.62 | F32: 182.928 | G32: 180.612 | H32: 3.475 | I32: 42.612 | J32: 116.21459 | K32: 164.02 | O32: {=IFERROR(LARGE(E32:N32,{1,2,3,4,5,6}), "")} -> 182.928 | P32: 180.612 | Q32: 164.02 | R32: 116.21459 | S32: 42.612 | T32: 13.62 | U32: =SUM(_xlfn.ANCHORARRAY(O32))/6 -> 116.66776 | V32: =SUM(O32:S32)/5 -> 137.27732 | W32: =SUM(O32:R32)/4 -> 160.94365
A33: 28 | B33: KOREA REP. | C33: B | D33: ='GTM-EU Proposals'!$Q$18 -> 1575 | E33: 47.70877 | F33: 368.099 | G33: 410.75387 | H33: 454.50973 | I33: 506.751 | J33: 579.34309 | K33: 372.81186 | L33: 480.53024 | M33: 732.45131 | N33: 554.6692 | O33: {=IFERROR(LARGE(E33:N33,{1,2,3,4,5,6}), "")} -> 732.45131 | P33: 579.34309 | Q33: 554.6692 | R33: 506.751 | S33: 480.53024 | T33: 454.50973 | U33: =SUM(_xlfn.ANCHORARRAY(O33))/6 -> 551.37576 | V33: =SUM(O33:S33)/5 -> 570.74897 | W33: =SUM(O33:R33)/4 -> 593.30365
A34: 29 | B34: LIBERIA | C34: B | D34: ='GTM-EU Proposals'!$Q$18 -> 1575 | E34: 88 | F34: 76.234 | G34: 87.9364 | H34: 1.9074 | I34: 6.35574 | J34: 1731.0806 | K34: 0.652 | L34: 0.3691 | M34: 3.968 | N34: 0.518431 | O34: {=IFERROR(LARGE(E34:N34,{1,2,3,4,5,6}), "")} -> 1731.0806 | P34: 88 | Q34: 87.9364 | R34: 76.234 | S34: 6.35574 | T34: 3.968 | U34: =SUM(_xlfn.ANCHORARRAY(O34))/6 -> 332.26245 | V34: =SUM(O34:S34)/5 -> 397.92135 | W34: =SUM(O34:R34)/4 -> 495.81275
A35: 30 | B35: MAROC | C35: B | D35: ='GTM-EU Proposals'!$Q$18 -> 1575 | E35: 72.422 | F35: 115 | G35: 113 | H35: 108 | I35: 228.1 | J35: 343.5 | K35: 493.4 | L35: 640.07 | M35: 844.64 | N35: 968.57 | O35: {=IFERROR(LARGE(E35:N35,{1,2,3,4,5,6}), "")} -> 968.57 | P35: 844.64 | Q35: 640.07 | R35: 493.4 | S35: 343.5 | T35: 228.1 | U35: =SUM(_xlfn.ANCHORARRAY(O35))/6 -> 586.38 | V35: =SUM(O35:S35)/5 -> 658.036 | W35: =SUM(O35:R35)/4 -> 736.67
A36: 31 | B36: MAURITANIA | C36: B | D36: ='GTM-EU Proposals'!$Q$18 -> 1575 | F36: 0.096 | O36: {=IFERROR(LARGE(E36:N36,{1,2,3,4,5,6}), "")} -> 0.096 | U36: =SUM(_xlfn.ANCHORARRAY(O36))/6 -> 0.016 | V36: =SUM(O36:S36)/5 -> 0.0192 | W36: =SUM(O36:R36)/4 -> 0.024
A37: 32 | B37: MEXICO | C37: B | D37: ='GTM-EU Proposals'!$Q$18 -> 1575 | E37: 962.588 | F37: 1281.986 | G37: 1244.195 | H37: 1033.117 | I37: 763.185 | J37: 821.113 | K37: 884.766 | L37: 608.567 | M37: 593.465 | N37: 482.556 | O37: {=IFERROR(LARGE(E37:N37,{1,2,3,4,5,6}), "")} -> 1281.986 | P37: 1244.195 | Q37: 1033.117 | R37: 962.588 | S37: 884.766 | T37: 821.113 | U37: =SUM(_xlfn.ANCHORARRAY(O37))/6 -> 1037.9608 | V37: =SUM(O37:S37)/5 -> 1081.3304 | W37: =SUM(O37:R37)/4 -> 1130.4715
A38: 33 | B38: NAMIBIA | C38: B | D38: ='GTM-EU Proposals'!$Q$18 -> 1575 | E38: 42.2 | F38: 52.9 | G38: 53.29 | H38: 423.769 | I38: 81.762 | J38: 327.234 | K38: 255.976 | L38: 355.935 | M38: 156.233 | N38: 75.99691 | O38: {=IFERROR(LARGE(E38:N38,{1,2,3,4,5,6}), "")} -> 423.769 | P38: 355.935 | Q38: 327.234 | R38: 255.976 | S38: 156.233 | T38: 81.762 | U38: =SUM(_xlfn.ANCHORARRAY(O38))/6 -> 266.81817 | V38: =SUM(O38:S38)/5 -> 303.8294 | W38: =SUM(O38:R38)/4 -> 340.7285
A39: 34 | B39: S. TOMÉ E PRINCIPE | C39: B | D39: ='GTM-EU Proposals'!$Q$18 -> 1575 | E39: 300.7 | F39: 301.4 | G39: 266 | H39: 14.32 | I39: 16.779 | J39: 12.985 | K39: 14.8855 | L39: 23.7362 | M39: 24.005 | N39: 89.9 | O39: {=IFERROR(LARGE(E39:N39,{1,2,3,4,5,6}), "")} -> 301.4 | P39: 300.7 | Q39: 266 | R39: 89.9 | S39: 24.005 | T39: 23.7362 | U39: =SUM(_xlfn.ANCHORARRAY(O39))/6 -> 167.62353 | V39: =SUM(O39:S39)/5 -> 196.401 | W39: =SUM(O39:R39)/4 -> 239.5
A40: 35 | B40: SOUTH AFRICA | C40: B | D40: ='GTM-EU Proposals'!$Q$18 -> 1575 | E40: 925.43529 | F40: 706.11108 | G40: 386.88091 | H40: 389.31688 | I40: 551.08571 | J40: 700.12572 | K40: 398.28521 | L40: 1017.7091 | M40: 1746.2871 | N40: 1012.5512 | O40: {=IFERROR(LARGE(E40:N40,{1,2,3,4,5,6}), "")} -> 1746.2871 | P40: 1017.7091 | Q40: 1012.5512 | R40: 925.43529 | S40: 706.11108 | T40: 700.12572 | U40: =SUM(_xlfn.ANCHORARRAY(O40))/6 -> 1018.0366 | V40: =SUM(O40:S40)/5 -> 1081.6188 | W40: =SUM(O40:R40)/4 -> 1175.4957
...

Sheet EU-Fixed
B1: EU Proposal - PA1_MAY_29/i2026
B2: Secretariat's calculations on YFT catches for the last ten years / Calculs du Secrétariat concernant les captures d'albacore pour les dix dernières années / Cálculos de la Secretaría sobre las capturas de rabil para los últimos diez años
I3: Year*
A4: ID | B4: CPC | C4: GROUP | D4: CATCH LIMIT** | E4: 2015 | F4: 2016 | G4: 2017 | H4: 2018 | I4: 2019 | J4: 2020 | K4: 2021 | L4: 2022 | M4: 2023 | N4: 2024 | O4: AvgLast10 | P4: AvgLast6 | Q4: AvgLast5 | R4: AvgLast4
A5: 1 | B5: EUROPEAN UNION | C5: =VLOOKUP(A5,'GTM-EU Proposals'!$L$3:$O$17,3,0) -> A | D5: =VLOOKUP(A5,'GTM-EU Proposals'!$L$3:$O$17,4,0) -> 31526 | E5: 43377.29 | F5: 47163.069 | G5: 39643.261 | H5: 37236.932 | I5: 34296.247 | J5: 37423.343 | K5: 24152.047 | L5: 30064.575 | M5: 26045.996 | N5: 31071.245 | O5: =AVERAGE(E5:N5) -> 35047.4 | P5: =AVERAGE(I5:N5) -> 30508.909 | Q5: =AVERAGE(J5:N5) -> 29751.441 | R5: =AVERAGE(K5:N5) -> 27833.466
A6: 2 | B6: GHANA | C6: =VLOOKUP(A6,'GTM-EU Proposals'!$L$3:$O$17,3,0) -> A | D6: =VLOOKUP(A6,'GTM-EU Proposals'!$L$3:$O$17,4,0) -> 21113 | E6: 19659 | F6: 20217.6 | G6: 20398.4 | H6: 24346 | I6: 26242.5 | J6: 26435 | K6: 21263.5 | L6: 29550 | M6: 22159 | N6: 25452 | O6: =AVERAGE(E6:N6) -> 23572.3 | P6: =AVERAGE(I6:N6) -> 25183.667 | Q6: =AVERAGE(J6:N6) -> 24971.9 | R6: =AVERAGE(K6:N6) -> 24606.125
A7: 3 | B7: BRAZIL | C7: =VLOOKUP(A7,'GTM-EU Proposals'!$L$3:$O$17,3,0) -> A | D7: =VLOOKUP(A7,'GTM-EU Proposals'!$L$3:$O$17,4,0) -> 14076 | E7: 13643.343 | F7: 16681.775 | G7: 18362.306 | H7: 16381.177 | I7: 12907.16 | J7: 13183.011 | K7: 13663.997 | L7: 15716 | M7: 18894 | N7: 17729.408 | O7: =AVERAGE(E7:N7) -> 15716.218 | P7: =AVERAGE(I7:N7) -> 15348.929 | Q7: =AVERAGE(J7:N7) -> 15837.283 | R7: =AVERAGE(K7:N7) -> 16500.851
A8: 4 | B8: BELIZE | C8: =VLOOKUP(A8,'GTM-EU Proposals'!$L$3:$O$17,3,0) -> A | D8: =VLOOKUP(A8,'GTM-EU Proposals'!$L$3:$O$17,4,0) -> 7947 | E8: 7131.854 | F8: 5659.877 | G8: 6169.678 | H8: 8743.425 | I8: 10107.127 | J8: 9340.972 | K8: 8196.874 | L8: 10117.881 | M8: 9647.399 | N8: 13612.592 | O8: =AVERAGE(E8:N8) -> 8872.7679 | P8: =AVERAGE(I8:N8) -> 10170.474 | Q8: =AVERAGE(J8:N8) -> 10183.144 | R8: =AVERAGE(K8:N8) -> 10393.686
A9: 5 | B9: SENEGAL | C9: =VLOOKUP(A9,'GTM-EU Proposals'!$L$3:$O$17,3,0) -> A | D9: =VLOOKUP(A9,'GTM-EU Proposals'!$L$3:$O$17,4,0) -> 7522 | E9: 1883.15 | F9: 6850.0388 | G9: 3956.9248 | H9: 5029.246 | I9: 8160.611 | J9: 8177.352 | K9: 8227.6166 | L9: 9407.244 | M9: 17027.175 | N9: 15164.493 | O9: =AVERAGE(E9:N9) -> 8388.3851 | P9: =AVERAGE(I9:N9) -> 11027.415 | Q9: =AVERAGE(J9:N9) -> 11600.776 | R9: =AVERAGE(K9:N9) -> 12456.632
A10: 6 | B10: PANAMA | C10: =VLOOKUP(A10,'GTM-EU Proposals'!$L$3:$O$17,3,0) -> A | D10: =VLOOKUP(A10,'GTM-EU Proposals'!$L$3:$O$17,4,0) -> 6637 | E10: 3412.358 | F10: 6167.964 | G10: 5090.282 | H10: 6175.181 | I10: 8244.871 | J10: 10376.424 | K10: 9712.158 | L10: 12013.145 | M10: 8568.4163 | N10: 1421.63 | O10: =AVERAGE(E10:N10) -> 7118.2429 | P10: =AVERAGE(I10:N10) -> 8389.4407 | Q10: =AVERAGE(J10:N10) -> 8418.3547 | R10: =AVERAGE(K10:N10) -> 7928.8373
A11: 7 | B11: EL SALVADOR | C11: =VLOOKUP(A11,'GTM-EU Proposals'!$L$3:$O$17,3,0) -> A | D11: =VLOOKUP(A11,'GTM-EU Proposals'!$L$3:$O$17,4,0) -> 5406 | E11: 2781 | F11: 8633 | G11: 6317.963 | H11: 5574.146 | I11: 3976.056 | J11: 8812.85 | K11: 6336.6 | L11: 6322.43 | M11: 4577.78 | N11: 7027.19 | O11: =AVERAGE(E11:N11) -> 6035.9015 | P11: =AVERAGE(I11:N11) -> 6175.4843 | Q11: =AVERAGE(J11:N11) -> 6615.37 | R11: =AVERAGE(K11:N11) -> 6066
A12: 8 | B12: CURAÇAO | C12: =VLOOKUP(A12,'GTM-EU Proposals'!$L$3:$O$17,3,0) -> A | D12: =VLOOKUP(A12,'GTM-EU Proposals'!$L$3:$O$17,4,0) -> 5157 | E12: 6267.32 | F12: 8011.606 | G12: 6661.282 | H12: 7615.315 | I12: 7773.035 | J12: 9081.13 | K12: 7795.8332 | L12: 3122.173 | M12: 1249.9 | O12: =AVERAGE(E12:N12) -> 6397.5105 | P12: =AVERAGE(I12:N12) -> 5804.4142 | Q12: =AVERAGE(J12:N12) -> 5312.259 | R12: =AVERAGE(K12:N12) -> 4055.9687
A13: 9 | B13: JAPAN | C13: =VLOOKUP(A13,'GTM-EU Proposals'!$L$3:$O$17,3,0) -> A | D13: =VLOOKUP(A13,'GTM-EU Proposals'!$L$3:$O$17,4,0) -> 3588 | E13: 3469.557 | F13: 3375.782 | G13: 3123.097 | H13: 3099.295 | I13: 4055.756 | J13: 2662.148 | K13: 3073.444 | L13: 4198.669 | M13: 5915.256 | N13: 5721.432 | O13: =AVERAGE(E13:N13) -> 3869.4436 | P13: =AVERAGE(I13:N13) -> 4271.1175 | Q13: =AVERAGE(J13:N13) -> 4314.1898 | R13: =AVERAGE(K13:N13) -> 4727.2002
A14: 10 | B14: CABO VERDE | C14: =VLOOKUP(A14,'GTM-EU Proposals'!$L$3:$O$17,3,0) -> A | D14: =VLOOKUP(A14,'GTM-EU Proposals'!$L$3:$O$17,4,0) -> 3450 | E14: 7866.109 | F14: 6989.53 | G14: 2837.0497 | H14: 5584.1112 | I14: 3698.7502 | J14: 6259.196 | K14: 2042.5459 | L14: 952.00758 | M14: 326.964 | N14: 1209.547 | O14: =AVERAGE(E14:N14) -> 3776.5811 | P14: =AVERAGE(I14:N14) -> 2414.8351 | Q14: =AVERAGE(J14:N14) -> 2158.0521 | R14: =AVERAGE(K14:N14) -> 1132.7661
A15: 11 | B15: UNITED STATES | C15: =VLOOKUP(A15,'GTM-EU Proposals'!$L$3:$O$17,3,0) -> A | D15: =VLOOKUP(A15,'GTM-EU Proposals'!$L$3:$O$17,4,0) -> 3423 | E15: 2797.904 | F15: 4103.888 | G15: 4444.107 | H15: 2720.431 | I15: 2625.175 | J15: 3661.929 | K15: 3960.39 | L15: 7755.937 | M15: 3093.408 | N15: 3047.949 | O15: =AVERAGE(E15:N15) -> 3821.1118 | P15: =AVERAGE(I15:N15) -> 4024.1313 | Q15: =AVERAGE(J15:N15) -> 4303.9226 | R15: =AVERAGE(K15:N15) -> 4464.421
A16: 12 | B16: VENEZUELA | C16: =VLOOKUP(A16,'GTM-EU Proposals'!$L$3:$O$17,3,0) -> A | D16: =VLOOKUP(A16,'GTM-EU Proposals'!$L$3:$O$17,4,0) -> 2759 | E16: 3130.0645 | F16: 4220.8099 | G16: 5109.9296 | H16: 2783.6407 | I16: 2098.8538 | J16: 1949.4481 | K16: 1977.8008 | L16: 3171.9328 | M16: 3485.8538 | N16: 2865.3087 | O16: =AVERAGE(E16:N16) -> 3079.3643 | P16: =AVERAGE(I16:N16) -> 2591.533 | Q16: =AVERAGE(J16:N16) -> 2690.0689 | R16: =AVERAGE(K16:N16) -> 2875.2241
A17: 13 | B17: GUATEMALA | C17: =VLOOKUP(A17,'GTM-EU Proposals'!$L$3:$O$17,3,0) -> A | D17: =VLOOKUP(A17,'GTM-EU Proposals'!$L$3:$O$17,4,0) -> 2550 | E17: 5200.262 | F17: 2720.34 | G17: 3718.447 | H17: 2538.635 | I17: 2957.044 | J17: 2594.11 | K17: 1882.949 | L17: 4263.8729 | M17: 2596.0147 | O17: =AVERAGE(E17:N17) -> 3163.5194 | P17: =AVERAGE(I17:N17) -> 2858.7981 | Q17: =AVERAGE(J17:N17) -> 2834.2366 | R17: =AVERAGE(K17:N17) -> 2914.2789
A18: 14 | B18: CÔTE D'IVOIRE | C18: =VLOOKUP(A18,'GTM-EU Proposals'!$L$3:$O$17,3,0) -> A | D18: =VLOOKUP(A18,'GTM-EU Proposals'!$L$3:$O$17,4,0) -> 1770 | E18: 250.92598 | F18: 314.916 | G18: 951.65837 | H18: 116.16465 | I18: 2649.3721 | J18: 4459.5142 | K18: 2117.156 | L18: 3336.218 | M18: 1434.487 | N18: 2637.2605 | O18: =AVERAGE(E18:N18) -> 1826.7673 | P18: =AVERAGE(I18:N18) -> 2772.3346 | Q18: =AVERAGE(J18:N18) -> 2796.9271 | R18: =AVERAGE(K18:N18) -> 2381.2804
A19: Subtotal Group A | E19: =SUM(E5:E18) -> 120870.14 | F19: =SUM(F5:F18) -> 141110.2 | G19: =SUM(G5:G18) -> 126784.39 | H19: =SUM(H5:H18) -> 127943.7 | I19: =SUM(I5:I18) -> 129792.56 | J19: =SUM(J5:J18) -> 144416.43 | K19: =SUM(K5:K18) -> 114402.91 | L19: =SUM(L5:L18) -> 139992.09 | ... R19: =SUM(R5:R18) -> 128336.74
A20: 15 | B20: ANGOLA | C20: B | D20: ='GTM-EU Proposals'!$Q$18 -> 1575 | G20: 1.582 | H20: 2.8 | I20: 0 | J20: 1.27238 | K20: 7.74999 | L20: 14.725 | M20: 5.076 | N20: 8.675 | O20: =AVERAGE(E20:N20) -> 5.2350462 | P20: =AVERAGE(I20:N20) -> 6.2497283 | Q20: =AVERAGE(J20:N20) -> 7.499674 | R20: =AVERAGE(K20:N20) -> 9.0564975
A21: 16 | B21: BARBADOS | C21: B | D21: ='GTM-EU Proposals'!$Q$18 -> 1575 | E21: 262.279 | F21: 324.251 | G21: 269.519 | H21: 248.284 | I21: 121.056 | J21: 173.096 | K21: 212.495 | L21: 201.637 | M21: 236.64 | N21: 188.3531 | O21: =AVERAGE(E21:N21) -> 223.76101 | P21: =AVERAGE(I21:N21) -> 188.87952 | Q21: =AVERAGE(J21:N21) -> 202.44422 | R21: =AVERAGE(K21:N21) -> 209.78127
A22: 17 | B22: CANADA | C22: B | D22: ='GTM-EU Proposals'!$Q$18 -> 1575 | E22: 59.013606 | F22: 19.488689 | G22: 193.07766 | H22: 14.646455 | I22: 108.17127 | J22: 75.077376 | K22: 110.87202 | L22: 198.67439 | M22: 175.02158 | N22: 162.80617 | O22: =AVERAGE(E22:N22) -> 111.68492 | P22: =AVERAGE(I22:N22) -> 138.43713 | Q22: =AVERAGE(J22:N22) -> 144.49031 | R22: =AVERAGE(K22:N22) -> 161.84354
A23: 18 | B23: CHINA PR. | C23: B | D23: ='GTM-EU Proposals'!$Q$18 -> 1575 | E23: 169.551 | F23: 467.746 | G23: 578.379 | H23: 359.458 | I23: 320.862 | J23: 461.128 | K23: 140.032 | L23: 528.594 | M23: 2444.352 | N23: 2746.789 | O23: =AVERAGE(E23:N23) -> 821.6891 | P23: =AVERAGE(I23:N23) -> 1106.9595 | Q23: =AVERAGE(J23:N23) -> 1264.179 | R23: =AVERAGE(K23:N23) -> 1464.9417
A24: 19 | B24: Chinese Taipei | C24: B | D24: ='GTM-EU Proposals'!$Q$18 -> 1575 | E24: 1220 | F24: 942 | G24: 776 | H24: 945 | I24: 736 | J24: 870 | K24: 468 | L24: 669 | M24: 873 | N24: 760 | O24: =AVERAGE(E24:N24) -> 825.9 | P24: =AVERAGE(I24:N24) -> 729.33333 | Q24: =AVERAGE(J24:N24) -> 728 | R24: =AVERAGE(K24:N24) -> 692.5
A25: 20 | B25: COSTA RICA | C25: B | D25: ='GTM-EU Proposals'!$Q$18 -> 1575 | E25: 116.81 | F25: 138.768 | G25: 183.072 | H25: 113.509 | I25: 74.311 | J25: 116.6395 | K25: 150.2452 | L25: 54.08863 | M25: 51.58155 | N25: 114.637 | O25: =AVERAGE(E25:N25) -> 111.36619 | P25: =AVERAGE(I25:N25) -> 93.583813 | Q25: =AVERAGE(J25:N25) -> 97.438376 | R25: =AVERAGE(K25:N25) -> 92.638095
A26: 21 | B26: FRANCE (St-Pierre et Miquelon) | C26: B | D26: ='GTM-EU Proposals'!$Q$18 -> 1575 | H26: 0 | O26: =AVERAGE(E26:N26) -> 0 | P26: 0 | Q26: 0 | R26: 0
A27: 22 | B27: GABON | C27: B | D27: ='GTM-EU Proposals'!$Q$18 -> 1575 | F27: 1 | G27: 3 | O27: =AVERAGE(E27:N27) -> 2 | P27: 0 | Q27: 0 | R27: 0
A28: 23 | B28: GAMBIA | C28: B | D28: ='GTM-EU Proposals'!$Q$18 -> 1575 | J28: 0.72 | O28: =AVERAGE(E28:N28) -> 0.72 | P28: =AVERAGE(I28:N28) -> 0.72 | Q28: =AVERAGE(J28:N28) -> 0.72 | R28: 0
